BEGIN:VCALENDAR
VERSION:2.0
PRODID:-//Cedeso//NONSGML kigkonsult.se iCalcreator 2.30.10//
CALSCALE:GREGORIAN
METHOD:PUBLISH
UID:f664bf1f-9f68-45f2-beff-a082b1675c55
X-WR-CALNAME:iCagenda
X-WR-CALDESC:Event Management Extension for Joomla!
X-WR-RELCALID:3E26604A-50F4-4449-8B3E-E4F4932D05B5
X-WR-TIMEZONE:America/Costa_Rica
BEGIN:VTIMEZONE
TZID:America/Costa_Rica
BEGIN:STANDARD
TZNAME:CST
DTSTART:20240107T060000
TZOFFSETFROM:+0000
TZOFFSETTO:-0600
END:STANDARD
END:VTIMEZONE
BEGIN:VEVENT
UID:881286bf-cab8-43b0-92b5-7fbf467dbc1a
DTSTAMP:20260423T100027Z
CATEGORIES:Comercio internacional\, aduanas y logística
CLASS:PUBLIC
DESCRIPTION;ALTREP="CID:<FFFF__=0ABBE548DFE235B58f9e8a93d@coffeebean.com>":
 Fecha: 8 de octubre del 2025.Horario: 8:00 a.m. a 12:00 m.d.Duración: 4 ho
 ras.Modalidad: Virtual.Plataforma: Zoom.Inversión: ¢40.000 + 2% de IVA por
  participante.Incluye: Material didáctico y certificado de participación e
 n PDF.Facilitadora: Mba. Yorleny Jiménez.\nContenido temático:1. Introducc
 ión al e-commerce• Definición y evolución del comercio electrónico.• Tipos
  de plataformas de e-commerce (B2C\, B2B\, C2C).• Beneficios y desafíos de
  las compras online.\n2. Proceso de compra en e-commerce• Identificación d
 e necesidades y búsqueda de productos.• Selección de plataformas confiable
 s.• Métodos de pago seguros.• Logística en el e-commerce: opciones de entr
 ega y tiempos.\n3. Factores clave en la experiencia de compra• Uso y diseñ
 o de las plataformas.• Importancia de las opiniones y valoraciones de prod
 uctos.• Políticas de devoluciones y garantías.• Personalización y recomend
 aciones automatizadas.\n4. Tendencias y seguridad en compras online• Nueva
 s tendencias: compras por aplicaciones\, social commerce\, live shopping.•
  Reconocer sitios seguros: certificados SSL\, métodos de pago confiables.•
  Prevención de fraudes y ciberseguridad para consumidores.\nFacilitadora: 
 Mba. Yorleny Jiménez RojasMáster en Dirección de Empresas con énfasis en M
 ercadeo.Graduada con honores de la Universidad de Costa Rica en la carrera
  de Administración Aduanera y Comercio Exterior. Certificada como especial
 ista en Supply Chain de la Universidad de Nebrija en España.Actualmente co
 nsultora independiente con 22 años de experiencia en manejo y desarrollo d
 e programas de exportación para empresas PYMES\, análisis de logística int
 ernacional y estrategias de importación.Profesora de la Universidad de Cos
 ta Rica\, Universidad FUNDEPOS\, FUNDATEC y capacitadora activa en diferen
 tes Cámaras que agremia exportadores\, importadores\, empresas PYMES\, ent
 idades estatales\, colegios profesionales\, entre otros.Coordinadora de la
  carrera de Administración Aduanera y Comercio Exterior. Universidad de Co
 sta Rica.Emprendedora certificada por UCR-MICCIT.Mentora para emprendimien
 tos. Certificación taller\, INCAE.Propietaria de la empresa consultora JR 
 Consultores\, servicios de consultoría y capacitación en emprendimiento\, 
 aduanas\, logística y comercio exterior.Propietaria de la marca Ahimsa\, d
 iseño y confección de bolsos y carteras con materiales vegetales alternati
 vos\, innovadores y sostenibles.\nTodas nuestras capacitaciones pueden ser
  impartidas en su organización\nInscripciones a: info@cedeso.co.crTel: +50
 6 2225-1007 WA: +506 6063-9111Visite nuestra página www.cedeso.co.crfacebo
 ok.com/cedesocostarica\n 
DTSTART:20251008T140000Z
DTEND:20251008T180000Z
GEO:00;0
LOCATION:Virtual por Zoom
ORGANIZER;CN=:info@cedeso.co.cr
SEQUENCE:1
SUMMARY:Compras inteligentes en el mundo del e-commerce
TRANSP:OPAQUE
URL:https://cedeso.co.cr/eventos-anteriores/1026-compras-inteligentes-en-el
 -mundo-del-e-commerce
END:VEVENT
END:VCALENDAR
