BEGIN:VCALENDAR
VERSION:2.0
PRODID:-//Cedeso//NONSGML kigkonsult.se iCalcreator 2.30.10//
CALSCALE:GREGORIAN
METHOD:PUBLISH
UID:5fadb3ea-2b73-4bc7-a7a3-3032f0450060
X-WR-CALNAME:iCagenda
X-WR-CALDESC:Event Management Extension for Joomla!
X-WR-RELCALID:3E26604A-50F4-4449-8B3E-E4F4932D05B5
X-WR-TIMEZONE:America/Costa_Rica
BEGIN:VTIMEZONE
TZID:America/Costa_Rica
BEGIN:STANDARD
TZNAME:CST
DTSTART:20231225T060000
TZOFFSETFROM:+0000
TZOFFSETTO:-0600
END:STANDARD
END:VTIMEZONE
BEGIN:VEVENT
UID:cb9cd970-821b-439c-9259-c5efedec0291
DTSTAMP:20260419T142325Z
CATEGORIES:Mejores Prácticas Organizacionales
CLASS:PUBLIC
DESCRIPTION;ALTREP="CID:<FFFF__=0ABBE548DFE235B58f9e8a93d@coffeebean.com>":
 Fecha: 25 y 30 de setiembre 2025.Horario: 9:00 a.m. a 11:50 a.m.Duración: 
 12 horas (5 horas sincrónicas y 7 horas asincrónicas).Modalidad: Virtual.P
 lataforma: Zoom.Inversión: $250 + 2% de IVA por participante.Cupo mínimo: 
 5 personas.Facilitador: Ing. Raúl Trejos MSc\, MBA.\nIntroducción:Nuestra 
 certificación profesional de Design Thinking\, proporciona una comprensión
  detallada de conceptos y definiciones claves para mejorar su interacción 
 con la experiencia de usuario. CertiProf® abarca cinco fases claves para s
 er un Design Thinker: empatizar\, definir\, idear\, prototipar y evaluar\,
  las cuales ayudan a las organizaciones a crear propuestas útiles que se a
 dapten a las necesidades reales de las personas\; permitiendo ampliar el p
 ortafolio de servicios\, consolidar marca y así mejorar los resultados.\nE
 xpande tu conjunto de habilidades y haz crecer tu carrera. Aquí están los 
 beneficios de nuestra certificación:• Esta certificación lo ayudará a eleg
 ir el problema correcto y enmarcarlo en soluciones creativas.• Aprenda a r
 eunir ideas de múltiples disciplinas en un entorno libre de juicios\, el c
 ual proporcionará una gama más amplia de ideas.• Conviértase en un Design 
 Thinker con empatía\, centrado en el ser humano\, colaborativo\, experimen
 tal y optimista\, cualidades que le ayudarán a utilizar recursos asertivos
  para que la idea seleccionada sea exitosa.\nObjetivos de aprendizaje:• ¿Q
 ué es innovación?• Era Digital.• Conexiones con Design Thinking.• ¿Qué es 
 Design Thinking?• Características del Design Thinking.• Fases del Design T
 hinking.\nExamen de Certificación:• Formato: Opción múltiple.• Preguntas: 
 40.• Idioma: Español/Inglés/Portugués.• Duración: 60 minutos como máximo.•
  Libro abierto: No.• Entrega: Este examen está disponible en línea.\nDescr
 ipción:-Modalidad: materiales asincrónicos y sesiones sincrónicas.-Certifi
 cación: CERTIPROF-Examen: -Acceso a plataforma Construyendo Talento-Recurs
 os CERTIPROF-Desarrollo de Proyecto-Derecho a dos posibilidades de hacer e
 l examen\nContenidos:Introducción• ¿Qué es Innovación?• Innovación• Innova
 ción en Servicios• Innovación en Productos• Innovación en Procesos\nDigita
 l Age• Transformación Digital• Conceptos Relacionados• Ejemplos de Transfo
 rmación Disruptiva\nBeneficios de esta Certificación\nConexiones con Desig
 n Thinking• ¿Qué es Lean?• ¿Qué es Agile?• ¿Cómo se conectan?\nDefinicione
 s Claves• ¿Qué es un Modelo?• ¿Qué es un Framework?• ¿Qué es una Técnica?•
  ¿Qué es una Metodología?\nDesign Thinking• ¿Qué es Design Thinking?• Cara
 cterísticas de Design Thinking\nFases del Design Thinking• Empatizar• Defi
 nir• Idear• Prototipar• Evaluar• Ejemplo de Alto Nivel de las Fases de DT•
  Comportamiento de las Posibilidades• Proceso de Pensamiento• Número de Mé
 todos• 7 Atributos Clave de Design Thinking• Multidisciplinary Teams• Opti
 mistic Mindset• Conceptualization\nEmpatía• Definición de Empatía• Mapa de
  Empatía• Método Persona• Mapa de Actores• Observación• Habilidades de Inv
 estigación• Observación• Haciendo las Preguntas Correctas• Técnica Journey
  Maps• Creación de un Customer Journey• Técnica Interview• Investigación• 
 Definir• Definición del Problema• Punto de Vista - Point of View (POV)• Bu
 enos Puntos de Vista (POV)• Crear Mapas Mentales• “¿Cómo podríamos nosotro
 s?” HMW• Lista de Verificación de Lectura Crítica• Técnica Affinity Diagra
 m• Ideación• Ideado• Ideación• 7 Reglas de Generación de Ideas• Brainstorm
 ing• Método ¿Qué pasa si? (¿What If…?)• Brain Dump• Reverse Brainstorming•
  SCAMPER• Técnica de Priorización• Prototipar• ¿Por qué Prototipar?• ¿Para
  qué nos sirven?• Storyboard Technique• Lego• Evaluar• ¿Por qué evaluar?• 
 ¿Cómo evaluar?• Focus Group Techniques• Pruebas de Usabilidad• Certificaci
 ón• Enlaces Recomendados\nTodas nuestras capacitaciones pueden ser imparti
 das en su organización\nInscripciones a info@cedeso.co.crTel: +506 2225-10
 07 WA: +506 6063-9111Visite nuestra página www.cedeso.co.crfacebook.com/ce
 desocostarica\n 
DTSTART:20250925T150000Z
DTEND:20250930T175000Z
GEO:00;0
LOCATION:Virtual por Zoom
ORGANIZER;CN=:info@cedeso.co.cr
SEQUENCE:1
SUMMARY:Design Thinking
TRANSP:OPAQUE
URL:https://cedeso.co.cr/eventos-anteriores/1035-design-thinking
END:VEVENT
END:VCALENDAR
