BEGIN:VCALENDAR
VERSION:2.0
PRODID:-//Cedeso//NONSGML kigkonsult.se iCalcreator 2.30.10//
CALSCALE:GREGORIAN
METHOD:PUBLISH
UID:ae13f7be-5c99-4b27-b90a-5c901adbcdda
X-WR-CALNAME:iCagenda
X-WR-CALDESC:Event Management Extension for Joomla!
X-WR-RELCALID:3E26604A-50F4-4449-8B3E-E4F4932D05B5
X-WR-TIMEZONE:America/Costa_Rica
BEGIN:VTIMEZONE
TZID:America/Costa_Rica
BEGIN:STANDARD
TZNAME:CST
DTSTART:20240115T060000
TZOFFSETFROM:+0000
TZOFFSETTO:-0600
END:STANDARD
END:VTIMEZONE
BEGIN:VEVENT
UID:b91f35fa-dbd7-4fdc-a4d7-d1f7e94b9556
DTSTAMP:20260421T114042Z
CATEGORIES:Operaciones
CLASS:PUBLIC
DESCRIPTION;ALTREP="CID:<FFFF__=0ABBE548DFE235B58f9e8a93d@coffeebean.com>":
 Un método para mejorar continuamente\nContenido actualizado\nFecha: 16 y 1
 7 de octubre del 2025.Horario: 8:00 a.m. a 12:00 m.d.Duración: 8 horas.Mod
 alidad: Virtual.Plataforma: Zoom.Inversión: ¢85.000 + 2% de IVA por partic
 ipante.Incluye: Material y certificado de participación en PDF.Facilitador
 : Ing. Víctor León\, Mg.\nObjetivo del seminario: Presentar a los particip
 antes un método práctico y probado para implementar un efectivo control de
  su inventario físico que garantice exactitudes superiores al 95%\nTemario
 :   • Control de inventario físico eslabón entre la bodega y la administra
 ción de inventarios.   • Clasificación Abc.   • Metodología de toma del in
 ventario físico.   • Qué es y cómo se implementa un inventario cíclico.   
 • Control preventivo de pérdidas y variaciones de inventario.   • Implemen
 tación de un sistema de mejora continua vía inventario cíclico.\nFacilitad
 or: Ing. Víctor León\, Mg.Ingeniero Industrial con estudios de Postgrado e
 n Ingeniería Industrial\, Gerencia de RRHH y Dinámica de Grupos. Experienc
 ia en las áreas de Distribución\, Atención al Cliente y Planificación de l
 a Producción\, Manejo de Inventarios\, Almacenes\, Costos y Elaboración de
  Proyectos de Inversión. Certificación como conferencista internacional. M
 iembro de la asociación de conferencistas Hispanos. Capacitador en áreas g
 erenciales y técnicas\, con 20 años de experiencia.\nTodas nuestras capaci
 taciones pueden ser impartidas en su organización.\nInscripciones a: info@
 cedeso.co.crTel: +506 2225-1007WA: +506 6063-9111Visite nuestra página www
 .cedeso.co.crfacebook.com/cedesocostarica
DTSTART:20251016T140000Z
DTEND:20251017T180000Z
GEO:00;0
LOCATION:Virtual por Zoom
ORGANIZER;CN=:info@cedeso.co.cr
SEQUENCE:1
SUMMARY:Control del inventario físico en la bodega
TRANSP:OPAQUE
URL:https://cedeso.co.cr/eventos-anteriores/1041-control-del-inventario-fis
 ico-en-la-bodega
END:VEVENT
END:VCALENDAR
