BEGIN:VCALENDAR
VERSION:2.0
PRODID:-//Cedeso//NONSGML kigkonsult.se iCalcreator 2.30.10//
CALSCALE:GREGORIAN
METHOD:PUBLISH
UID:8a59d327-f5e1-48f9-be3c-c412fb28b54f
X-WR-CALNAME:iCagenda
X-WR-CALDESC:Event Management Extension for Joomla!
X-WR-RELCALID:3E26604A-50F4-4449-8B3E-E4F4932D05B5
X-WR-TIMEZONE:America/Costa_Rica
BEGIN:VTIMEZONE
TZID:America/Costa_Rica
BEGIN:STANDARD
TZNAME:CST
DTSTART:20240122T060000
TZOFFSETFROM:+0000
TZOFFSETTO:-0600
END:STANDARD
END:VTIMEZONE
BEGIN:VEVENT
UID:dd984aa5-5df4-477b-83d7-2f4ba3354265
DTSTAMP:20260419T143109Z
CATEGORIES:Mejores Prácticas Organizacionales
CLASS:PUBLIC
DESCRIPTION;ALTREP="CID:<FFFF__=0ABBE548DFE235B58f9e8a93d@coffeebean.com>":
 Fecha: 23 y 24 de octubre del 2025.Horario: 8:30 a.m. a 10:30 a.m.Duración
 : 4 hrsModalidad: Virtual.Plataforma: Zoom.Inversión: $95 + 2% de IVA por 
 participante.Incluye: Material didáctico y certificado de participación en
  versión digital.Facilitador: Lic. Juan José Fulgi\nObjetivos de aprendiza
 je:o Capacitar a los participantes para tomar decisiones informadas basada
 s en análisis de datos\, información relevante y objetivos organizacionale
 s.o Desarrollar la habilidad para evaluar riesgos y beneficios en el proce
 so de toma de decisiones.o Aprender a tomar decisiones bajo presión y en s
 ituaciones de incertidumbre.\nEn un contexto organizacional marcado por la
  volatilidad\, la incertidumbre y la alta competitividad\, la capacidad de
  tomar decisiones estratégicas bien fundamentadas se convierte en una comp
 etencia crítica para líderes y profesionales en posiciones clave.Este curs
 o está diseñado para fortalecer el juicio estratégico\, integrando herrami
 entas analíticas\, pensamiento crítico y criterios de valor alineados con 
 los objetivos del negocio.Los participantes adquirirán habilidades para an
 alizar datos relevantes\, interpretar información crítica y alinear sus de
 cisiones con la visión y metas organizacionales.Se trabajará de forma prác
 tica la evaluación de riesgos y beneficios\, identificando variables clave
  que afectan los resultados y entendiendo cómo minimizar impactos negativo
 s mientras se maximizan oportunidades.\nFacilitador:Juan José Fulgi       
                                                                           
        Consultor Organizacional\, Coach Humanista y Ontológico\, Docente.
 \nSe dedica a orientar procesos de transformación personal en función de l
 a transformación organizacional. Aplicando una mirada axiológica y sistémi
 ca\, busco la comprensión de las causas raíz que intervienen en una situac
 ión dada\, a fin de direccionar las acciones en forma coherente. Se ha des
 empeñado en empresas internacionales como Cyanamid de Argentina\, American
  Home Products y Ampacet South America\, como Director Regional de Recurso
 s Humanos\, y he desarrollado actividades de consultoría para importantes 
 organizaciones de Latinoamérica. Ha cursado estudios de grado en Relacione
 s Laborales\, (UdeMM)\, de postgrado en Capacitación y Desarrollo\, (UB)\,
   y de Maestría en Psicología Empresarial y Organizacional (UB). Asimismo\
 , he complementado mis estudios con Metodologías Ágiles\, Coaching Humanis
 ta y Coaching Ontológico\, y en la metodología Lego ® Serious Play ®En la 
 actualidad\, y desde hace más de 15 años\, se desempeña como Consultor Org
 anizacional\, docente universitario y director de post grado (UdeMM–UB-UNL
 Z). \nTodas nuestras capacitaciones pueden ser impartidas en su organizaci
 ón\nInscripciones a: info@cedeso.co.crTel: +506 2225-1007 WA: +506 6063-91
 11Visite nuestra página www.cedeso.co.crfacebook.com/cedesocostarica
DTSTART:20251023T143000Z
DTEND:20251024T163000Z
GEO:00;0
LOCATION:Virtual por Zoom
ORGANIZER;CN=:info@cedeso.co.cr
SEQUENCE:1
SUMMARY:Mejorar la capacidad para la toma de decisiones estratégicas
TRANSP:OPAQUE
URL:https://cedeso.co.cr/eventos-anteriores/1042-mejorar-la-capacidad-para-
 la-toma-de-decisiones-estrategicas
END:VEVENT
END:VCALENDAR
