BEGIN:VCALENDAR
VERSION:2.0
PRODID:-//Cedeso//NONSGML kigkonsult.se iCalcreator 2.30.10//
CALSCALE:GREGORIAN
METHOD:PUBLISH
UID:e4604afc-3881-4cb7-8a2f-ecf5ed970c57
X-WR-CALNAME:iCagenda
X-WR-CALDESC:Event Management Extension for Joomla!
X-WR-RELCALID:3E26604A-50F4-4449-8B3E-E4F4932D05B5
X-WR-TIMEZONE:America/Costa_Rica
BEGIN:VTIMEZONE
TZID:America/Costa_Rica
BEGIN:STANDARD
TZNAME:CST
DTSTART:20240713T060000
TZOFFSETFROM:+0000
TZOFFSETTO:-0600
END:STANDARD
END:VTIMEZONE
BEGIN:VEVENT
UID:67990e2c-302f-4df5-bfcc-19eecf012173
DTSTAMP:20260419T141451Z
CATEGORIES:Finanzas
CLASS:PUBLIC
DESCRIPTION;ALTREP="CID:<FFFF__=0ABBE548DFE235B58f9e8a93d@coffeebean.com>":
 Normas: NIIF 18 y NIC 7\nFecha: 14\, 16\, 21 y 23 de abril del 2026.Horari
 o: 8:30 a.m. a 11:30 a.m.Duración: 12 horas.Modalidad: Virtual.Plataforma:
  Zoom.Inversión: ¢120.000 + 2% de IVA por participante.Incluye: Material y
  certificado de participación en formato digital.Facilitador: Arturo Ménde
 z\, MBA.\nObjetivo: Analizar y elaborar el juego completo de estados finan
 cieros conforme a NIIF completas.\nInstructor: Arturo Méndez Arias\, MBAEs
  contador público y privado\, consultor financiero y docente universitario
  con amplia experiencia en contabilidad\, gestión financiera\, control int
 erno y análisis de costos. Es profesor de la Escuela de Administración de 
 Negocios de la Universidad de Costa Rica y de programas de posgrado y educ
 ación continua en diversas universidades. Cuenta con una Maestría en Admin
 istración y Dirección de Empresas con énfasis en Finanzas de la Universida
 d de Costa Rica y se ha especializado en Normas Internacionales de Informa
 ción Financiera (NIIF)\, contabilidad de costos y análisis financiero. Ade
 más\, se desempeña como consultor independiente asesorando organizaciones 
 en gestión financiera\, procesos contables y planificación estratégica.\nT
 odas nuestras capacitaciones pueden ser impartidas en su organización\nIns
 cripciones a info@cedeso.co.crTel: +506 2225-1007 WA: +506 6063-9111Visite
  nuestra página www.cedeso.co.crfacebook.com/cedesocostarica
DTSTART:20260414T143000Z
DTEND:20260423T173000Z
GEO:00;0
LOCATION:Virtual por Zoom
ORGANIZER;CN=:info@cedeso.co.cr
SEQUENCE:1
SUMMARY:Presentación y estructura de estados financieros
TRANSP:OPAQUE
URL:https://cedeso.co.cr/eventos-anteriores/1083-presentacion-y-estructura-
 de-estados-financieros
END:VEVENT
END:VCALENDAR
