BEGIN:VCALENDAR
VERSION:2.0
PRODID:-//Cedeso//NONSGML kigkonsult.se iCalcreator 2.30.10//
CALSCALE:GREGORIAN
METHOD:PUBLISH
UID:6ebc0a14-a158-4bbc-866f-aac872bab663
X-WR-CALNAME:iCagenda
X-WR-CALDESC:Event Management Extension for Joomla!
X-WR-RELCALID:3E26604A-50F4-4449-8B3E-E4F4932D05B5
X-WR-TIMEZONE:America/Costa_Rica
BEGIN:VTIMEZONE
TZID:America/Costa_Rica
BEGIN:STANDARD
TZNAME:CST
DTSTART:20240714T060000
TZOFFSETFROM:+0000
TZOFFSETTO:-0600
END:STANDARD
END:VTIMEZONE
BEGIN:VEVENT
UID:24ceb82c-1709-4bb6-9aec-109108619156
DTSTAMP:20260419T141451Z
CATEGORIES:Desarrollo personal
CLASS:PUBLIC
DESCRIPTION;ALTREP="CID:<FFFF__=0ABBE548DFE235B58f9e8a93d@coffeebean.com>":
 Fecha: 14\, 16 y 21 de abril del 2026.Horario: 9:00 a.m. a 12:00 m.d.Durac
 ión: 20 a 30 horas\, 9 sincrónicas.Modalidad: Virtual.Plataforma: Zoom.Inv
 ersión: $250 + 2% de IVA por participante.Incluye: Certificación emitida p
 or 6SigmaStudy de VMEdu y conferida tras la aprobación satisfactoria del e
 xamen de certificación.Instructor: Ing. Ricardo Del Valle MBA.\nIntroducci
 ónEl curso Six Sigma Green Belt (SSGB™) proporciona una comprensión sólida
  de las herramientas y técnicas clave de Six Sigma para la mejora continua
  de procesos.Estas herramientas permiten reducir defectos\, mejorar la cal
 idad y optimizar la eficiencia organizacional.El programa enfatiza la impl
 ementación práctica en contextos reales de negocio\, utilizando metodologí
 as estructuradas de resolución de problemas basadas en datos.\nObjetivos d
 e aprendizaje• Comprender los fundamentos del enfoque Six Sigma.• Aplicar 
 herramientas estadísticas para la mejora de procesos.• Identificar causas 
 raíz de defectos o variaciones.• Aplicar el ciclo DMAIC.• Reducir defectos
  y variabilidad.• Contribuir a iniciativas de calidad.• Liderar proyectos 
 de mejora continua.\nFormato y duración del examen• Formato: Opción múltip
 le• Prerrequisito: Preferably Six Sigma Yellow Belt (SSYB™) certified\, bu
 t not mandatory. Se da acceso gratuito a esta certificación.• Cantidad de 
 preguntas: 90 preguntas• Duración: 120 minutos• Modalidad: Examen supervis
 ado en línea• Puntaje: Evaluación por competencias (no porcentual) • Tasa 
 de aprobación estimada: 98%\nAudiencia objetivo• Profesionales interesados
  en mejora continua.• Líderes de procesos y supervisores.• Analistas de ca
 lidad.• Ingenieros industriales y de procesos.• Equipos de operaciones y m
 anufactura.• Organizaciones que buscan estandarizar la resolución de probl
 emas.\nPrerrequisitosExperiencia: No obligatoria.Educación recomendada: Si
 x Sigma Yellow Belt (opcional).\nProceso de certificación• Registro y pago
  del curso en línea.• Recepción de credenciales de acceso.• Acceso a mater
 iales: videos\, guías\, glosario y evaluaciones.• Programación del examen 
 supervisado.• Presentación del examen en línea.• Obtención del certificado
  digital al aprobar.• Hasta 2 reintentos gratuitos.\nMantenimiento de la c
 ertificaciónRenovación cada 3 años mediante examen de recertificación o nu
 eva certificación del proveedor.\nEstructura temática sugerida• Introducci
 ón a Six Sigma• Fundamentos de mejora de procesos• Metodología DMAIC• Defi
 ne (VOC\, SIPOC\, CTQ)• Measure (datos y capacidad)• Analyze (causa raíz)•
  Improve (soluciones y experimentación)• Control (estandarización y monito
 reo)• Implementación organizacional\nPerfil del egresado• Liderar proyecto
 s de mejora continua.• Analizar datos para optimización.• Reducir defectos
  en procesos.• Implementar soluciones sostenibles.• Contribuir a transform
 aciones operacionales.\nBio del instructorIng. Ricardo Del Valle MBA.MBA c
 on énfasis en Administración de la Tecnología de la Universidad Latinoamer
 icana de Ciencia y Tecnología. Estudios superiores en Finanzas por Univers
 idad Fidélitas. Licenciado en Ingeniería Industrial de Universidad Fidélit
 as. Más de 25 años de experiencia en Cadena de Suministro\, proyectos cons
 tructivos y consultoría en innovación y operaciones.Como consultor indepen
 diente de alto nivel\, dirige proyectos en mejora operativa\, Lean Six Sig
 ma\, innovación\, transformación digital y Cadena de Suministro\, generand
 o ahorros significativos y retornos de inversión sólidos para sus clientes
 .Adicionalmente\, funge como docente para varias de las universidades líde
 res del país\, aportando con sus investigaciones sobre movilidad urbana\, 
 gestión del transporte\, administración de la demanda y mejoramiento de la
  Calidad.\nTodas nuestras capacitaciones pueden ser impartidas en su organ
 ización\nInscripciones a info@cedeso.co.crTel: +506 2225-1007 WA: +506 606
 3-9111Visite nuestra página www.cedeso.co.crfacebook.com/cedesocostarica
DTSTART:20260415T030000Z
DTEND:20260421T180000Z
GEO:00;0
LOCATION:Virtual por Zoom
ORGANIZER;CN=:info@cedeso.co.cr
SEQUENCE:1
SUMMARY:Six Sigma Green Belt Professional Certification (SSGB™)
TRANSP:OPAQUE
URL:https://cedeso.co.cr/eventos-anteriores/1086-six-sigma-green-belt-profe
 ssional-certification-ssgb-tm
END:VEVENT
END:VCALENDAR
