BEGIN:VCALENDAR
VERSION:2.0
PRODID:-//Cedeso//NONSGML kigkonsult.se iCalcreator 2.30.10//
CALSCALE:GREGORIAN
METHOD:PUBLISH
UID:28c7c9b5-6b7d-4c7b-8dcf-d2b0f55c235c
X-WR-CALNAME:iCagenda
X-WR-CALDESC:Event Management Extension for Joomla!
X-WR-RELCALID:3E26604A-50F4-4449-8B3E-E4F4932D05B5
X-WR-TIMEZONE:America/Costa_Rica
BEGIN:VTIMEZONE
TZID:America/Costa_Rica
BEGIN:STANDARD
TZNAME:CST
DTSTART:20170620T060000
TZOFFSETFROM:+0000
TZOFFSETTO:-0600
END:STANDARD
END:VTIMEZONE
BEGIN:VEVENT
UID:2a4c985e-ef01-4416-a758-bc3be7e5823c
DTSTAMP:20260421T113900Z
CATEGORIES:Mejores Prácticas Organizacionales
CLASS:PUBLIC
DESCRIPTION;ALTREP="CID:<FFFF__=0ABBE548DFE235B58f9e8a93d@coffeebean.com>":
 Taller:\nResolución de Conflictos Organizacionales\nConstruyendo estrategi
 as para la Prevención\, Gestión y Resolución de conflictos\nObjetivo: Al f
 inalizar este taller la persona contará con las herramientas necesarias pa
 ra el desarrollo de destrezas y habilidades para la prevención\, gestión y
  resolución de conflictos y potenciará las bondades de la mediación como v
 ía para la resolución de conflictos en el ámbito personal y empresarial.\n
 Contenidos: • Componentes del conflicto. • Incidencia del conflicto en el 
 comportamiento. • Las diferentes respuestas frente al conflicto. Estilos d
 e afrontamiento del conflicto. • Manejo de situaciones difíciles. • Técnic
 as fundamentales de resolución de conflictos. • Identificación de conflict
 os y situaciones potencialmente conflictivas. • Comunicación asertiva y em
 patía: elementos clave en la resolución de conflictos. • Prevención de Con
 flictos y Control de Riesgos.\nFecha: 22 de marzo del 2019.Horario: 8:00 a
 .m. a 5:00 p.m.Duración: 8 horas.Lugar: Hotel Balmoral\, San José.Inversió
 n: ¢95.000 por persona.Incluye: Alimentación\, materiales y certificado de
  participación.\nFacilitadoras: Haidel Sequeira\, abogada certificada en R
 esolución Alterna de Conflictos\, con 7 años de experiencia en la mediació
 n de conflictos empresariales y el desarrollo de habilidades blandas que s
 ensibilicen la necesidad de implementar nuevas vías de solución de conflic
 tos. Gina Sequeira\, psicóloga certificada en Business Coaching\, con más 
 de 15 años de experiencia en el diseño de procesos de capacitación vincula
 dos al desarrollo de habilidades blandas y el fortalecimiento de equipos d
 e alto desempeño.\nTodas nuestras capacitaciones pueden ser impartidas en 
 su organización\nInscripciones e Información al e-mail info@cedeso.co.crTe
 l: (506) 2225-1007 / Fax: (506) 2253-2774 Visite nuestra página www.cedeso
 .co.crfacebook.com/cedesocostarica
DTSTART:20190322T140000Z
DTEND:20190322T230000Z
GEO:+09.933701;-84.075165
LOCATION:Hotel Balmoral\, San José.
ORGANIZER;CN=:info@cedeso.co.cr
SEQUENCE:1
SUMMARY:Resolución de Conflictos Organizacionales
TRANSP:OPAQUE
URL:https://cedeso.co.cr/eventos-anteriores/130-resoluci%C3%B3n-de-conflict
 os-organizacionales
END:VEVENT
END:VCALENDAR
