BEGIN:VCALENDAR
VERSION:2.0
PRODID:-//Cedeso//NONSGML kigkonsult.se iCalcreator 2.30.10//
CALSCALE:GREGORIAN
METHOD:PUBLISH
UID:55f75036-7739-4e10-8878-e840180d5bc3
X-WR-CALNAME:iCagenda
X-WR-CALDESC:Event Management Extension for Joomla!
X-WR-RELCALID:3E26604A-50F4-4449-8B3E-E4F4932D05B5
X-WR-TIMEZONE:America/Costa_Rica
BEGIN:VTIMEZONE
TZID:America/Costa_Rica
BEGIN:STANDARD
TZNAME:CST
DTSTART:20170626T060000
TZOFFSETFROM:+0000
TZOFFSETTO:-0600
END:STANDARD
END:VTIMEZONE
BEGIN:VEVENT
UID:74474266-d2b3-415b-b607-cbe9a7dfb302
DTSTAMP:20260419T125552Z
CATEGORIES:Operaciones
CLASS:PUBLIC
DESCRIPTION;ALTREP="CID:<FFFF__=0ABBE548DFE235B58f9e8a93d@coffeebean.com>":
 Charla:Formación de almacenistas\nObjetivo:Compartir con el grupo los elem
 entos principales que deben formar parte de las competencias que requieren
  los almacenistas y operarios de bodegas para ejercer su función en forma 
 correcta.\nContenido a tratar:1-La necesidad de manejar el lenguaje de las
  bodegas.2- Cuales son las competencias requeridas para los almacenistas.3
 - Las funciones en los almacenes. Una visión general y su importancia.4- C
 omo lograr las competencias para ser un almacenista de clase mundial.\nMet
 odología:Duran te el tiempo que compartamos se propiciará la participación
  de los participantes\, se compartirá el desayuno y conversaremos sobre lo
 s tópicos propuestos de forma tal que los participantes puedan aclarar dud
 as.\nFecha: 28 de marzo del 2019.Horario: 8:00 a.m. a 12:00 m.d.Duración: 
 4 horas.Lugar: Hotel Balmoral\, San José.Inversión: ¢25.000 por persona.In
 cluye: Desayuno y certificado de participación.\nFacilitador: Ing. Víctor 
 León\, Mg.Ingeniero Industrial con estudios de Postgrado en Ingeniería Ind
 ustrial\, Gerencia de RRHH y Dinámica de Grupos. Experiencia en las áreas 
 de Distribución\, Atención al Cliente y Planificación de la Producción\, M
 anejo de Inventarios\, Almacenes\, Costos y Elaboración de Proyectos de In
 versión. Certificación como conferencista internacional. Miembro de la aso
 ciación de conferencistas Hispanos. Capacitador en áreas gerenciales y téc
 nicas\, con 20 años de experiencia.\nTodas nuestras capacitaciones pueden 
 ser impartidas en su organización.\nInscripciones e Información al e-mail 
 info@cedeso.co.crTel: (506) 2225-1007 · Fax: (506) 2253-2774Visite nuestra
  página www.cedeso.co.crfacebook.com/cedesocostarica
DTSTART:20190328T140000Z
DTEND:20190328T180000Z
GEO:+09.933701;-84.075165
LOCATION:Hotel Balmoral\, San José.
ORGANIZER;CN=:info@cedeso.co.cr
SEQUENCE:1
SUMMARY:Formación de almacenistas
TRANSP:OPAQUE
URL:https://cedeso.co.cr/eventos-anteriores/134-formaci%C3%B3n-de-almacenis
 tas
END:VEVENT
END:VCALENDAR
