BEGIN:VCALENDAR
VERSION:2.0
PRODID:-//Cedeso//NONSGML kigkonsult.se iCalcreator 2.30.10//
CALSCALE:GREGORIAN
METHOD:PUBLISH
UID:75291116-b4c5-485d-a696-df4fe28a894f
X-WR-CALNAME:iCagenda
X-WR-CALDESC:Event Management Extension for Joomla!
X-WR-RELCALID:3E26604A-50F4-4449-8B3E-E4F4932D05B5
X-WR-TIMEZONE:America/Costa_Rica
BEGIN:VTIMEZONE
TZID:America/Costa_Rica
BEGIN:STANDARD
TZNAME:CST
DTSTART:20170805T060000
TZOFFSETFROM:+0000
TZOFFSETTO:-0600
END:STANDARD
END:VTIMEZONE
BEGIN:VEVENT
UID:da3d30e0-7078-45bc-85f3-cf15982aff43
DTSTAMP:20260419T125719Z
CATEGORIES:Compensaciones y beneficios
CLASS:PUBLIC
DESCRIPTION;ALTREP="CID:<FFFF__=0ABBE548DFE235B58f9e8a93d@coffeebean.com>":
 Taller:\nFormación de formadores SXXITrain the trainer SXXI\n¡Con microtea
 ching\, 10.20.70 y capacidades para la agilidad!\nObjetivo: los participan
 tes serán capaces de explicar\, aplicar y apreciar herramientas esenciales
  de didáctica con impacto en el desempeño de las personas.\nMetodología: p
 ráctica\, con ejercicios colaborativos de presentación\, diseño de formaci
 ón y movilización de grupos. Este taller es el primero y único en país que
  incorpora la metodología de Microteaching\, desarrollada por la Universid
 ad de Stanford (EUA).\nDirigido a: formadores\, líderes\, capacitadores em
 presariales (tanto en formación\, como capacitadores ya formados\, que req
 uieran refrescamiento y profundización de herramientas)\, voceros organiza
 cionales\, coaches\, cuadros de mando de capacitación y desarrollo\, encar
 gados de universidades empresariales…\nTemario del taller: 1. Aprendizaje 
 por la experiencia\, cierre de brechas y Ciclo de Kolb. 2. Neurociencia pa
 ra formadores: los líderes como educadores para el cambio y el alineamient
 o. 3. Capacidades para la agilidad y ocho modalidades de aprendizaje por e
 xposición 10.20.70. 4. Manejo de apertura y cierre1\, preguntas estratégic
 as2\, incidentes críticos3\, actividades de instrucción óptimas4\, mediaci
 ón de presentaciones5 y movilización grupal con “cuerdas bajas”6 y entorno
 s ludificados7.  5. Diseño de plan de clase y práctica mediante la técnica
  de microteaching. 6. Laboratorio de voz y acción: ejercicios de vocalizac
 ión\, dicción y articulación y manejo de la corporeidad. 7. Agile Mindset/
 Growth Mindset: formación en mentalidad ágil y de crecimiento para la era 
 digital.\nFacilitador: Enrique Margery Bertoglia • Doctor en Educación y T
 EDx speaker. • Profesor de la Maestría en Psicología del Trabajo en la Uni
 versidad de Costa Rica. Profesor invitado de la Universidad de Querétaro (
 UAQ\, México) y la Universidad del Este (PR). • Diseña capacitación para d
 esarrollo de soft skills basado en aprendizaje por la experiencia\, GBL y 
 “reto-aprendizaje”. • Coach especialista en ciencia de la colaboración y m
 anejo de top performers. • Diseña herramientas para medir el Sentido de Ur
 gencia\, el “termómetro de la colaboración” y la rentabilidad de la capaci
 tación\, entre otros. • Autor de los libros “Complejidad y Competencias”\,
  “Herramientas de Coaching” y “El Viaje” (Editorial Norma\; uno de los pri
 meros libros de psicología positiva publicados).\nFecha: 7 de mayo del 201
 9.Horario: 8:00 a.m. a 5:00 p.m.Duración: 8 horas.Lugar: Hotel Balmoral\, 
 San José.Inversión: ¢95.000 por persona.Incluye: Alimentación\, material d
 idáctico y certificado de participación.\nTodas nuestras capacitaciones pu
 eden ser impartidas en su organización\nInscripciones e Información al e-m
 ail info@cedeso.co.crTel: (506) 2225-1007 · Fax: (506) 2253-2774Visite nue
 stra página www.cedeso.co.crfacebook.com/cedesocostarica
DTSTART:20190507T140000Z
DTEND:20190507T230000Z
GEO:+09.933701;-84.075165
LOCATION:Hotel Balmoral\, San José.
ORGANIZER;CN=:info@cedeso.co.cr
SEQUENCE:1
SUMMARY:Formación de formadores SXXI
TRANSP:OPAQUE
URL:https://cedeso.co.cr/eventos-anteriores/142-formaci%C3%B3n-de-formadore
 s-sxxi
END:VEVENT
END:VCALENDAR
