BEGIN:VCALENDAR
VERSION:2.0
PRODID:-//Cedeso//NONSGML kigkonsult.se iCalcreator 2.30.10//
CALSCALE:GREGORIAN
METHOD:PUBLISH
UID:68adc663-4176-44a2-aa50-7cda60755ba1
X-WR-CALNAME:iCagenda
X-WR-CALDESC:Event Management Extension for Joomla!
X-WR-RELCALID:3E26604A-50F4-4449-8B3E-E4F4932D05B5
X-WR-TIMEZONE:America/Costa_Rica
BEGIN:VTIMEZONE
TZID:America/Costa_Rica
BEGIN:STANDARD
TZNAME:CST
DTSTART:20171120T060000
TZOFFSETFROM:+0000
TZOFFSETTO:-0600
END:STANDARD
END:VTIMEZONE
BEGIN:VEVENT
UID:2d430f48-8665-4d20-9f47-6fb2de3d2a85
DTSTAMP:20260419T125452Z
CATEGORIES:Compensaciones y beneficios
CLASS:PUBLIC
DESCRIPTION;ALTREP="CID:<FFFF__=0ABBE548DFE235B58f9e8a93d@coffeebean.com>":
 Taller:\nPrincipios de Andragogía\nEl arte de enseñar a personas adultas\n
 Dirigido a: Personal de Recursos Humanos\, encargados de capacitación\, in
 structores\, facilitadores de programas de aprendizaje para personas adult
 as.\nObjetivo general: Al finalizar este taller el participante estará en 
 condiciones de comprender y aplicar los principios fundamentales de la and
 ragogía\, así como contar con herramientas prácticas que favorecen la moti
 vación y el aprendizaje en adultos.\nContenidos: • ¿Cómo aprenden las pers
 onas adultas? • Necesidades y motivaciones en el aprendizaje de adultos • 
 Andragogía &amp\; Pedagogía • Principios que orientan la metodología en la
  enseñanza de adultos • Enfrentando los desafíos generacionales presentes 
 en las organizaciones • Principales competencias y rol de la persona facil
 itadora desde los principios de la Andragogía • Herramientas analógicas y 
 digitales que favorecen el aprendizaje en la edad adulta\nFecha: 22 de ago
 sto del 2019.Horario: 8:00 a.m. a 5:00 p.m.Duración: 8 horas.Lugar: Hotel 
 Balmoral\, San José.Inversión: ¢100.000 + 13% IVA por participanteIncluye:
  Alimentación\, material didáctico y certificado de participación.\nFacili
 tadora: Licda. Gina Sequeira\, psicóloga certificada en Business Coaching\
 , con más de 15 años de experiencia en el diseño de procesos de capacitaci
 ón vinculados al desarrollo de habilidades blandas y el fortalecimiento de
  equipos de alto desempeño.\nTodas nuestras capacitaciones pueden ser impa
 rtidas en su organización.\nInscripciones e Información al e-mail info@ced
 eso.co.crTel: (506) 2225-1007 Fax: (506) 2253-2774Visite nuestra página ww
 w.cedeso.co.crfacebook.com/cedesocostarica\n 
DTSTART:20190822T140000Z
DTEND:20190822T230000Z
GEO:+09.933701;-84.075165
LOCATION:Hotel Balmoral\, San José.
ORGANIZER;CN=:info@cedeso.co.cr
SEQUENCE:1
SUMMARY:Principios de Andragogía
TRANSP:OPAQUE
URL:https://cedeso.co.cr/eventos-anteriores/153-principios-de-andragog%C3%A
 Da
END:VEVENT
END:VCALENDAR
