BEGIN:VCALENDAR
VERSION:2.0
PRODID:-//Cedeso//NONSGML kigkonsult.se iCalcreator 2.30.10//
CALSCALE:GREGORIAN
METHOD:PUBLISH
UID:f419ff7a-1f08-4b14-ae4d-7ba63e870638
X-WR-CALNAME:iCagenda
X-WR-CALDESC:Event Management Extension for Joomla!
X-WR-RELCALID:3E26604A-50F4-4449-8B3E-E4F4932D05B5
X-WR-TIMEZONE:America/Costa_Rica
BEGIN:VTIMEZONE
TZID:America/Costa_Rica
BEGIN:STANDARD
TZNAME:CST
DTSTART:20171003T060000
TZOFFSETFROM:+0000
TZOFFSETTO:-0600
END:STANDARD
END:VTIMEZONE
BEGIN:VEVENT
UID:2faf5b72-d8d0-4320-adee-c52461633035
DTSTAMP:20260419T124957Z
CATEGORIES:Mejores Prácticas Organizacionales
CLASS:PUBLIC
DESCRIPTION;ALTREP="CID:<FFFF__=0ABBE548DFE235B58f9e8a93d@coffeebean.com>":
 Taller:\nInteligencia emocional\nGestionar eficazmente las emociones para 
 el éxito personal\nContenidos:- Autocontrol: ¿qué es y cómo alcanzarlo?- ¿
 Cómo y para qué cultivar la inteligencia emocional?- Autoconciencia y auto
 regulación.- Manejo del estrés y la frustración.- Manejo de emociones para
  la toma de decisiones.- Comunicación asertiva y empatía como base de las 
 relaciones interpersonales.- Comunicación y resolución de conflictos a tra
 vés de la inteligencia emocional.\nObjetivo:Al finalizar este taller la pe
 rsona estará en capacidad de evaluar su inteligencia emocional y aplicar t
 écnicas para fortalecerla. Contará con una serie de herramientas que benef
 iciarán su control de emociones\, aumentarán su motivación y le ayudarán a
  alcanzar sus metas personales y laborales.\nFecha: 5 de julio del 2019.Ho
 rario: 8:00 a.m. a 5:00 p.m.Duración: 8 horas.Lugar: Hotel Balmoral\, San 
 José.Inversión: ¢95.000 por persona.Incluye: Alimentación\, material didác
 tico y certificado de participación.\nFacilitadora: Licda. Gina Sequeira\,
  psicóloga certificada en Business Coaching\, con más de 15 años de experi
 encia en el diseño de procesos de capacitación vinculados al desarrollo de
  habilidades blandas y el fortalecimiento de equipos de alto desempeño.\nT
 odas nuestras capacitaciones pueden ser impartidas en su organización.\nIn
 scripciones e Información al e-mail info@cedeso.co.crTel: (506) 2225-1007 
 Fax: (506) 2253-2774Visite nuestra página www.cedeso.co.crfacebook.com/ced
 esocostarica
DTSTART:20190705T140000Z
DTEND:20190705T230000Z
GEO:00;0
LOCATION:Hotel Balmoral\, San José.
ORGANIZER;CN=:info@cedeso.co.cr
SEQUENCE:1
SUMMARY:Inteligencia emocional
TRANSP:OPAQUE
URL:https://cedeso.co.cr/eventos-anteriores/158-inteligencia-emocional
END:VEVENT
END:VCALENDAR
