BEGIN:VCALENDAR
VERSION:2.0
PRODID:-//Cedeso//NONSGML kigkonsult.se iCalcreator 2.30.10//
CALSCALE:GREGORIAN
METHOD:PUBLISH
UID:ab06923b-6862-412d-9bda-74c7aedbce31
X-WR-CALNAME:iCagenda
X-WR-CALDESC:Event Management Extension for Joomla!
X-WR-RELCALID:3E26604A-50F4-4449-8B3E-E4F4932D05B5
X-WR-TIMEZONE:America/Costa_Rica
BEGIN:VTIMEZONE
TZID:America/Costa_Rica
BEGIN:STANDARD
TZNAME:CST
DTSTART:20171121T060000
TZOFFSETFROM:+0000
TZOFFSETTO:-0600
END:STANDARD
END:VTIMEZONE
BEGIN:VEVENT
UID:64792b3e-118b-4ce1-bfde-e0128fd04f8e
DTSTAMP:20260419T130059Z
CATEGORIES:Mejores Prácticas Organizacionales
CLASS:PUBLIC
DESCRIPTION;ALTREP="CID:<FFFF__=0ABBE548DFE235B58f9e8a93d@coffeebean.com>":
 Taller:\nHerramientas para mejorar la productividad en el trabajo\nObjetiv
 o del seminario:Aprender de forma práctica herramientas que permitan al em
 pleado mejorar la productividad y desempeño en su trabajo.\nPor qué tomar 
 este seminario:Muchos trabajadores tienen grandes potenciales para ser exc
 elentes en su desempeño\, sin embargo es común que el trabajo sea ejecutad
 o según lo que se presente cada dia\, personalmente no cuentan con un plan
  de mediano plazo con metas y objetivos definidos\, se dejan de utilizar m
 uchas herramientas que fueron aprendidas durante sus estudios\, otros las 
 desconocen\, lo cual limita su desarrollo.El seminario permitirá organizar
  las ideas\, presentaremos herramientas para mejoras de productividad\, se
  exhortará a su uso y de forma proactiva permitirá que los asistentes pued
 an adoptar prácticas modernas que exige el ritmo de trabajo de hoy en dia.
 \nQuiénes deben tomar este seminario:Por su naturaleza este seminario es p
 ara aquellos que trabajan tanto en empresas privadas como en instituciones
  públicas. Si siente que su desempeño puede mejorar\, ser más productivo y
  tener más tiempo para usted el seminario le permitirá hacerlo.Usaremos un
  lenguaje sencillo comprensible y fácil de asimilar luego de conocerlo\, a
 briremos las puertas para su éxito en el trabajo.\nPrograma detallado:\n1)
  El plan estratégico• Que es el plan estratégico personal• Que incluye◦ Mi
 sión◦ Visión◦ Objetivos◦ Estrategias◦ Búsqueda de apoyo\n2) La marca perso
 nal• Que es una marca personal• Como nos vendemos• Uso de internet para ve
 nder nuestras habilidades\n3) Comunicación y redes sociales• Porque la com
 unicación es importante• Comunicación en la era tecnológica• Las redes soc
 iales\, Su uso para nuestro beneficio• Protocolo de comunicación moderno\n
 4) Trabajo en equipo• Importancia del trabajo en equipo• Herramientas digi
 tales para trabajo en equipo• Plataformas integradas para trabajo en equip
 o\n5) Generación Creativa de ideas• Ideas creativas• Creatividad e innovac
 ión en la productividad personal• Herramientas para la generación creativa
  de ideas• Mapas mentales \, una forma creativa de trabajar las ideas\n6) 
 Análisis de problemas• Método analítico para resolver problemas• 4 pasos e
 structurados para resolver problemas• Identificación y focalización de pro
 blemas• Análisis de problemas: Linea de base y herramientas• Búsqueda e im
 plementación de soluciones\n7) Gestión de tiempo• Importancia de aprovecha
 r el tiempo• Importante y urgente• Google calendarR y OutlookR herramienta
 s para planificar su tiempo• Interrupciones como manejarlas• Uso efectivo 
 de lapsos\n8) Presentaciones excelentes• Claves para hacerlas• Software y 
 páginas para hacerlo• Uso de multimedia en las presentaciones\nFecha: 23 d
 e agosto del 2019.Horario: 8:00 a.m. a 5:00 p.m.Duración: 8 horas.Lugar: H
 otel Balmoral\, San José.Inversión: ¢110.000 + 2% IVA por participante.Inc
 luye: Alimentación\, material didáctico y certificado de participación.\nF
 acilitador: Ing. Víctor León\, Mg.Ingeniero Industrial con estudios de Pos
 tgrado en Ingeniería Industrial\, Gerencia de RRHH y Dinámica de Grupos. E
 xperiencia en las áreas de Distribución\, Atención al Cliente y Planificac
 ión de la Producción\, Manejo de Inventarios\, Almacenes\, Costos y Elabor
 ación de Proyectos de Inversión. Certificación como conferencista internac
 ional. Miembro de la asociación de conferencistas Hispanos. Capacitador en
  áreas gerenciales y técnicas\, con 20 años de experiencia.\nTodas nuestra
 s capacitaciones pueden ser impartidas en su organización\nInscripciones e
  Información al e-mail info@cedeso.co.crTel: (506) 2225-1007 · Fax: (506) 
 2253-2774Visite nuestra página www.cedeso.co.crfacebook.com/cedesocostaric
 a
DTSTART:20190823T140000Z
DTEND:20190823T230000Z
GEO:+09.933701;-84.075165
LOCATION:Hotel Balmoral\, San José.
ORGANIZER;CN=:info@cedeso.co.cr
SEQUENCE:1
SUMMARY:Herramientas para mejorar la productividad en el trabajo
TRANSP:OPAQUE
URL:https://cedeso.co.cr/eventos-anteriores/172-herramientas-para-mejorar-l
 a-productividad-en-el-trabajo
END:VEVENT
END:VCALENDAR
