BEGIN:VCALENDAR
VERSION:2.0
PRODID:-//Cedeso//NONSGML kigkonsult.se iCalcreator 2.30.10//
CALSCALE:GREGORIAN
METHOD:PUBLISH
UID:f1d026c8-e451-4790-9ced-8ff55605cb8a
X-WR-CALNAME:iCagenda
X-WR-CALDESC:Event Management Extension for Joomla!
X-WR-RELCALID:3E26604A-50F4-4449-8B3E-E4F4932D05B5
X-WR-TIMEZONE:America/Costa_Rica
BEGIN:VTIMEZONE
TZID:America/Costa_Rica
BEGIN:STANDARD
TZNAME:CST
DTSTART:20171127T060000
TZOFFSETFROM:+0000
TZOFFSETTO:-0600
END:STANDARD
END:VTIMEZONE
BEGIN:VEVENT
UID:6bba3ec0-ea2c-4b25-bc08-afe96f7cd9e9
DTSTAMP:20260419T125726Z
CATEGORIES:Operaciones
CLASS:PUBLIC
DESCRIPTION;ALTREP="CID:<FFFF__=0ABBE548DFE235B58f9e8a93d@coffeebean.com>":
 Seminario:\nGestión y administración de inventarios\nMantenga sus inventar
 ios bajo control y disminuya su costo de operación\nObjetivo general: Prov
 eer a los participantes de los conocimientos que le permitan el diseño y o
 peración de un sistema de administración de inventarios moderno y efectivo
 \nQue obtendrá al finalizar el evento: Una metodología concreta que le per
 mitirá manejar sus inventarios en forma efectiva.\nPrograma:1.Conceptos e 
 impacto de los inventarios • Definiciones • Términos • Tipos de Inventario
 s • Costos que relacionados con los inventarios • Papel de inventarios en 
 la cadena de suministro • ¿El inventario agrega o no valor? • Punto de vis
 ta del inventario según teoría de restricciones2.Medidas e Indicadores par
 a controlar el inventario • Cálculo del ROI • Rotación y Cobertura de inve
 ntarios • Medidas de calidad en gerencia de Inventarios • Análisis ABC. Im
 portancia • Seguimiento de Backorders • Algunos reportes que pueden maneja
 rse para control de inventario3.Forecast elemento clave en la gestión de i
 nventarios • Elementos base que obligan a pronosticar • Importancia de pro
 nosticar • Aspectos cualitativos y cuantitativos en el pronóstico • Modelo
 s numéricos • Modelos cualitativos • Error de pronóstico • Actividad4.Mode
 los de inventario: teoría y aplicación • Fijación de un óptimo para el niv
 el de inventarios • Modelos determinísticos • Modelos probabilísticos • Ej
 emplos y Preguntas5.Como abastecer sus inventarios de forma efectiva. Deci
 siones tácticas en inventarios • Programación de pedidos • Modelos de abas
 tecimiento • Mrp • Concepto de DRP • Importancia de la exactitud  • Decisi
 ones tácticas\nFecha: 29 de agosto del 2019.Horario: 8:00 a.m. a 5:00 p.m.
 Duración: 8 horas.Lugar: Hotel Balmoral\, San José.Inversión: ¢110.000 + 2
 % IVA por participante.Incluye: Alimentación\, material didáctico y certif
 icado de participación.Facilitador: Ing. Víctor León\, Mg.- Ingeniero Indu
 strial con estudios de Postgrado en Ingeniería Industrial\, Gerencia de RR
 HH y Dinámica de Grupos.- Experiencia en las áreas de Distribución\, Atenc
 ión al Cliente y Planificación de la Producción\, Manejo de Inventarios\, 
 Almacenes\, Costos y Elaboración de Proyectos de Inversión.- Capacitador e
 n áreas gerenciales y técnicas\, con 20 años de experiencia.\nTodas nuestr
 as capacitaciones pueden ser impartidas en su organización\nInscripciones 
 e Información al e-mail info@cedeso.co.crTel: (506) 2225-1007 Fax: (506) 2
 253-2774Visite nuestra página www.cedeso.co.crfacebook.com/cedesocostarica
 \n 
DTSTART:20190829T140000Z
DTEND:20190829T230000Z
GEO:+09.933701;-84.075165
LOCATION:Hotel Balmoral\, San José.
ORGANIZER;CN=:info@cedeso.co.cr
SEQUENCE:1
SUMMARY:Gestión y administración de inventarios
TRANSP:OPAQUE
URL:https://cedeso.co.cr/eventos-anteriores/173-gesti%C3%B3n-y-administraci
 %C3%B3n-de-inventarios
END:VEVENT
END:VCALENDAR
