BEGIN:VCALENDAR
VERSION:2.0
PRODID:-//Cedeso//NONSGML kigkonsult.se iCalcreator 2.30.10//
CALSCALE:GREGORIAN
METHOD:PUBLISH
UID:fed1bba2-25cc-4641-8dc4-41e153112c3e
X-WR-CALNAME:iCagenda
X-WR-CALDESC:Event Management Extension for Joomla!
X-WR-RELCALID:3E26604A-50F4-4449-8B3E-E4F4932D05B5
X-WR-TIMEZONE:America/Costa_Rica
BEGIN:VTIMEZONE
TZID:America/Costa_Rica
BEGIN:STANDARD
TZNAME:CST
DTSTART:20171014T060000
TZOFFSETFROM:+0000
TZOFFSETTO:-0600
END:STANDARD
END:VTIMEZONE
BEGIN:VEVENT
UID:3c1ae2ff-1e0e-40c2-b3e8-77cea8772685
DTSTAMP:20260419T142758Z
CATEGORIES:Mejores Prácticas Organizacionales
CLASS:PUBLIC
DESCRIPTION;ALTREP="CID:<FFFF__=0ABBE548DFE235B58f9e8a93d@coffeebean.com>":
 Taller:\nBaby Boomers y Generación X versus Millennials y Centennials\nEnf
 rentando el desafío del encuentro generacional en el trabajo\nDirigido a: 
 Personal de Recursos Humanos\, Gerentes\, jefaturas y supervisores. En gen
 eral\, cualquier persona que desee promover el trabajo en equipo y la inte
 gración efectiva y productiva de personas pertenecientes a diferentes gene
 raciones en el ámbito laboral.\nObjetivo general: Al finalizar este taller
  el participante estará en condiciones de comprender las características f
 undamentales de cada generación en el ámbito laboral y aplicar estrategias
  para promover su inclusión\, integración y el trabajo en equipo desde un 
 enfoque respetuoso de las diferencias\, los derechos humanos y el compromi
 so con objetivos comunes.\nContenidos: • Tipología de generaciones present
 es en las organizaciones • Comprendiendo las nuevas formas de relación y c
 omunicación en las empresas multigeneracionales • Factores que motivan y c
 omprometen a cada generación • El desafío de retener a diversas generacion
 es • Choque generacional: Estrategias para sacar el mayor provecho organiz
 acional desde un enfoque respetuoso de las diferencias • Estrategias para 
 prevenir\, identificar y atender formas ocultas de discriminación por edad
  en el trabajo • Integrando el talento multigeneracional • Liderazgo y tra
 bajo en equipo en organizaciones multigeneracionales\nFecha: 16 de julio d
 el 2019.Horario: 8:00 a.m. a 5:00 p.m.Duración: 8 horas.Lugar: Hotel Balmo
 ral\, San José.Inversión: ¢113.000 por participante. Impuesto incluido.Inc
 luye: Alimentación\, material didáctico y certificado de participación.\nF
 acilitadora: Licda. Gina Sequeira\, psicóloga certificada en Business Coac
 hing\, con más de 15 años de experiencia en el diseño de procesos de capac
 itación vinculados al desarrollo de habilidades blandas y el fortalecimien
 to de equipos de alto desempeño.\nTodas nuestras capacitaciones pueden ser
  impartidas en su organización.\nInscripciones e Información al e-mail inf
 o@cedeso.co.crTel: (506) 2225-1007 Fax: (506) 2253-2774Visite nuestra pági
 na www.cedeso.co.crfacebook.com/cedesocostarica
DTSTART:20190716T140000Z
DTEND:20190716T230000Z
GEO:+09.933701;-84.075165
LOCATION:Hotel Balmoral\, San José.
ORGANIZER;CN=:info@cedeso.co.cr
SEQUENCE:1
SUMMARY:Baby Boomers y Generación X versus Millennials y Centennials
TRANSP:OPAQUE
URL:https://cedeso.co.cr/eventos-anteriores/174-baby-boomers-y-generaci%C3%
 B3n-x-versus-millennials-y-centennials
END:VEVENT
END:VCALENDAR
