BEGIN:VCALENDAR
VERSION:2.0
PRODID:-//Cedeso//NONSGML kigkonsult.se iCalcreator 2.30.10//
CALSCALE:GREGORIAN
METHOD:PUBLISH
UID:4c407f08-a3f7-42c6-a11a-25988bb0f9c8
X-WR-CALNAME:iCagenda
X-WR-CALDESC:Event Management Extension for Joomla!
X-WR-RELCALID:3E26604A-50F4-4449-8B3E-E4F4932D05B5
X-WR-TIMEZONE:America/Costa_Rica
BEGIN:VTIMEZONE
TZID:America/Costa_Rica
BEGIN:STANDARD
TZNAME:CST
DTSTART:20171007T060000
TZOFFSETFROM:+0000
TZOFFSETTO:-0600
END:STANDARD
END:VTIMEZONE
BEGIN:VEVENT
UID:4746fdcb-537a-45cf-877f-9f2c23bb9601
DTSTAMP:20260421T082621Z
CATEGORIES:Mejores Prácticas Organizacionales
CLASS:PUBLIC
DESCRIPTION;ALTREP="CID:<FFFF__=0ABBE548DFE235B58f9e8a93d@coffeebean.com>":
 Taller:\nAprendiendo a ser efectivos\n¿Cómo alcanzar las metas propuestas 
 en la carrera de la vida?\nDirigido a: Toda persona que desee mejorar su p
 roductividad\, ser eficiente en alcanzar las metas que se ha propuesto tan
 to en el ámbito personal como laboral.\nObjetivo general: Al finalizar est
 e taller\, las personas participantes estarán en condiciones de comprender
  y aplicar estrategias para el uso\, adecuada gestión y administración efe
 ctiva del tiempo\, promoviendo una mejora en su desempeño laboral\, así co
 mo la disminución del estrés asociado a las cargas laborales propias de su
  puesto.\nContenidos: • El paradigma del Reloj versus el paradigma de la B
 rújula: Administración del tiempo orientada al logro de objetivos • Lo urg
 ente versus lo importante: Definición estratégica de prioridades • Los lad
 rones del tiempo y cómo vencerlos • Efectividad y orientación a resultados
  • Estrategias para la planificación semanal • El arte de la delegación • 
 La matriz de administración del tiempo • Gestión eficaz del tiempo en las 
 comunicaciones • Autodiagnóstico de la efectividad personal • Plan de 10 p
 untos para la administración efectiva del tiempo • Diseño de un plan de ac
 ción personal para mejorar la productividad\nFecha: 9 de julio del 2019.Ho
 rario: 8:00 a.m. a 5:00 p.m.Duración: 8 horas.Lugar: Hotel Balmoral\, San 
 José.Inversión: ¢113.000 por participante. Impuestos incluidos.Incluye: Al
 imentación\, material didáctico y certificado de participación.\nFacilitad
 ora: Licda. Gina Sequeira\, psicóloga certificada en Business Coaching\, c
 on más de 15 años de experiencia en el diseño de procesos de capacitación 
 vinculados al desarrollo de habilidades blandas y el fortalecimiento de eq
 uipos de alto desempeño.\nTodas nuestras capacitaciones pueden ser imparti
 das en su organización.\nInscripciones e Información al e-mail info@cedeso
 .co.crTel: (506) 2225-1007 Fax: (506) 2253-2774Visite nuestra página www.c
 edeso.co.crfacebook.com/cedesocostarica
DTSTART:20190709T140000Z
DTEND:20190709T230000Z
GEO:+09.933701;-84.075165
LOCATION:Hotel Balmoral\, San José.
ORGANIZER;CN=:info@cedeso.co.cr
SEQUENCE:1
SUMMARY:Aprendiendo a ser efectivos
TRANSP:OPAQUE
URL:https://cedeso.co.cr/eventos-anteriores/178-aprendiendo-a-ser-efectivos
END:VEVENT
END:VCALENDAR
