BEGIN:VCALENDAR
VERSION:2.0
PRODID:-//Cedeso//NONSGML kigkonsult.se iCalcreator 2.30.10//
CALSCALE:GREGORIAN
METHOD:PUBLISH
UID:78d114d7-a5e4-43d3-af80-08ee71e41ab0
X-WR-CALNAME:iCagenda
X-WR-CALDESC:Event Management Extension for Joomla!
X-WR-RELCALID:3E26604A-50F4-4449-8B3E-E4F4932D05B5
X-WR-TIMEZONE:America/Costa_Rica
BEGIN:VTIMEZONE
TZID:America/Costa_Rica
BEGIN:STANDARD
TZNAME:CST
DTSTART:20171010T060000
TZOFFSETFROM:+0000
TZOFFSETTO:-0600
END:STANDARD
END:VTIMEZONE
BEGIN:VEVENT
UID:a09ba96c-5aac-4fff-a58c-1487438d2a5d
DTSTAMP:20260419T125929Z
CATEGORIES:Mejores Prácticas Organizacionales
CLASS:PUBLIC
DESCRIPTION;ALTREP="CID:<FFFF__=0ABBE548DFE235B58f9e8a93d@coffeebean.com>":
 Taller:\nMediación de Conflictos Organizacionales\nConstruyendo puentes pa
 ra un mejor ambiente laboral\nContenidos: - Componentes del Conflicto. - L
 as diferentes respuestas frente al conflicto. Estilos de afrontamiento del
  conflicto. - Identificación de conflictos y situaciones potencialmente co
 nflictivas. - Prevención de Conflictos y Control de Riesgos. - Principios 
 fundamentales de la mediación. - Habilidades básicas de un mediador(a). - 
 Estrategias de mediación de conflictos en entornos laborales. - El conflic
 to como oportunidad de crecimiento organizacional.\nObjetivo:Al finalizar 
 este taller la persona contará con las herramientas necesarias para el des
 arrollo de destrezas y habilidades para la gestión y mediación como vía pa
 ra la resolución de conflictos en el ámbito personal y empresarial.\nFecha
 : 12 de julio del 2019.Horario: 8:00 a.m. a 5:00 p.m.Duración: 8 horas.Lug
 ar: Hotel Balmoral\, San José.Inversión: ¢113.000 por participantes. Impue
 stos incluidos.Incluye: Alimentación\, materiales y certificado de partici
 pación.\nFacilitadoras:Haidel Sequeira\, abogada certificada en Resolución
  Alterna de Conflictos\, con 7 años de experiencia en la mediación de conf
 lictos empresariales y el desarrollo de habilidades blandas que sensibilic
 en la necesidad de implementar nuevas vías de solución de conflictos. Gina
  Sequeira\, psicóloga certificada en Business Coaching\, con más de 15 año
 s de experiencia en el diseño de procesos de capacitación vinculados al de
 sarrollo de habilidades blandas y el fortalecimiento de equipos de alto de
 sempeño.\nTodas nuestras capacitaciones pueden ser impartidas en su organi
 zación\nInscripciones e Información al e-mail info@cedeso.co.crTel: (506) 
 2225-1007 / Fax: (506) 2253-2774 Visite nuestra página www.cedeso.co.crfac
 ebook.com/cedesocostarica
DTSTART:20190712T140000Z
DTEND:20190712T230000Z
GEO:+09.933701;-84.075165
LOCATION:Hotel Balmoral\, San José.
ORGANIZER;CN=:info@cedeso.co.cr
SEQUENCE:1
SUMMARY:Mediación de Conflictos Organizacionales
TRANSP:OPAQUE
URL:https://cedeso.co.cr/eventos-anteriores/181-mediaci%C3%B3n-de-conflicto
 s-organizacionales
END:VEVENT
END:VCALENDAR
