BEGIN:VCALENDAR
VERSION:2.0
PRODID:-//Cedeso//NONSGML kigkonsult.se iCalcreator 2.30.10//
CALSCALE:GREGORIAN
METHOD:PUBLISH
UID:25317515-aefa-4822-a614-b9573f73ba20
X-WR-CALNAME:iCagenda
X-WR-CALDESC:Event Management Extension for Joomla!
X-WR-RELCALID:3E26604A-50F4-4449-8B3E-E4F4932D05B5
X-WR-TIMEZONE:America/Costa_Rica
BEGIN:VTIMEZONE
TZID:America/Costa_Rica
BEGIN:STANDARD
TZNAME:CST
DTSTART:20171021T060000
TZOFFSETFROM:+0000
TZOFFSETTO:-0600
END:STANDARD
END:VTIMEZONE
BEGIN:VEVENT
UID:612bd043-5415-4e43-98dd-9f491a776d47
DTSTAMP:20260419T125925Z
CATEGORIES:Mejores Prácticas Organizacionales
CLASS:PUBLIC
DESCRIPTION;ALTREP="CID:<FFFF__=0ABBE548DFE235B58f9e8a93d@coffeebean.com>":
 Taller:\nLas 5 C del Trabajo en Equipo\nDirigido a:  • Personas que deseen
  fortalecer sus habilidades de trabajo en equipo.  • Personal que se dediq
 ue a la formación y desarrollo del trabajo en equipo en entornos laborales
 .  • Equipos completos que busquen integrarse de manera efectiva para el l
 ogro de objetivos.\nObjetivo general:Al finalizar este taller el participa
 nte estará en condiciones de: • Comprender la importancia del aporte perso
 nal que realiza al logro de objetivos de un equipo • Integrarse de manera 
 efectiva a equipos de trabajo diversos • fortalecer sus habilidades person
 ales y potenciar las de sus compañeros de equipo para el logro de objetivo
 s comunes\nContenidos: - ¿Qué diferencia a los equipos de alto desempeño? 
 - La motivación en el trabajo en equipo - Condiciones indispensables para 
 el trabajo en equipo • Compromiso • Coordinación • Complementariedad • Con
 fianza  • Comunicación\nEntrenamiento práctico para desarrollar habilidade
 s que potencian las 5 C del trabajo en equipo\nFecha: 23 de julio del 2019
 .Horario: 8:00 a.m. a 5:00 p.m.Duración: 8 horas.Lugar: Hotel Balmoral\, S
 an José.Inversión: ¢113.000 por participante. Impuestos incluidos.Incluye:
  Alimentación\, material didáctico y certificado de participación.Facilita
 dora: Licda. Gina Sequeira\, psicóloga certificada en Business Coaching\, 
 con más de 15 años de experiencia en el diseño de procesos de capacitación
  vinculados al desarrollo de habilidades blandas y el fortalecimiento de e
 quipos de alto desempeño.\nTodas nuestras capacitaciones pueden ser impart
 idas en su organización.\nInscripciones e Información al e-mail info@cedes
 o.co.crTel: (506) 2225-1007 Fax: (506) 2253-2774Visite nuestra página www.
 cedeso.co.crfacebook.com/cedesocostarica
DTSTART:20190723T140000Z
DTEND:20190723T230000Z
GEO:+09.933701;-84.075165
LOCATION:Hotel Balmoral\, San José.
ORGANIZER;CN=:info@cedeso.co.cr
SEQUENCE:1
SUMMARY:Las 5 C del Trabajo en Equipo
TRANSP:OPAQUE
URL:https://cedeso.co.cr/eventos-anteriores/182-las-5-c-del-trabajo-en-equi
 po
END:VEVENT
END:VCALENDAR
