BEGIN:VCALENDAR
VERSION:2.0
PRODID:-//Cedeso//NONSGML kigkonsult.se iCalcreator 2.30.10//
CALSCALE:GREGORIAN
METHOD:PUBLISH
UID:b5f48ba1-9643-4f0c-9e7f-876da6118c40
X-WR-CALNAME:iCagenda
X-WR-CALDESC:Event Management Extension for Joomla!
X-WR-RELCALID:3E26604A-50F4-4449-8B3E-E4F4932D05B5
X-WR-TIMEZONE:America/Costa_Rica
BEGIN:VTIMEZONE
TZID:America/Costa_Rica
BEGIN:STANDARD
TZNAME:CST
DTSTART:20171107T060000
TZOFFSETFROM:+0000
TZOFFSETTO:-0600
END:STANDARD
END:VTIMEZONE
BEGIN:VEVENT
UID:c272ec30-80ff-4b9b-90c5-21a289868230
DTSTAMP:20260419T125714Z
CATEGORIES:Mejores Prácticas Organizacionales
CLASS:PUBLIC
DESCRIPTION;ALTREP="CID:<FFFF__=0ABBE548DFE235B58f9e8a93d@coffeebean.com>":
 3er Encuentro de Formación y Desarrollo\nInnovación\, gamificación y nueva
 s tendencias para el desarrollo de talento humano\nEvento gamificado: 'Viv
 a la experiencia de aprender jugando'\n \nFecha: viernes 9 de agosto 2019H
 orario: 7:45 a.m. a 5:00 p.m.Lugar: Hotel Radisson\, B° Tournón.Inversión:
  $260 + 2% IVA por participanteInformación: info@cedeso.co.cr Teléfono: 50
 6 2225-1007\nDirigido a: - Directores\, Gerentes y Jefes de Gestión del Ta
 lento. - Profesionales responsables de Formación y Desarrollo. - Generalis
 tas de RRHH. - Gestores de Personas. - Facilitadores de procesos de formac
 ión de adultos. - Otros profesionales interesados en expandir conocimiento
  en el tema.\nObjetivo general: Actualizar a los participantes sobre las n
 uevas tendencias y mejores prácticas para la formación y desarrollo del ta
 lento humano.\n \nActividades / Conferencias:\n'Aceleración\, urgencia y d
 igitalización: Microtraining\, microcertificaciones y virtualización en la
  era del liderazgo digital'Paola BulgarelliCINDE\nEn la economía del conoc
 imiento lo que sabemos se ha convertido en la nueva moneda mundial\; la ca
 pacidad que tengamos de re inventarnos constante nos ayudará a posicionarn
 os de mejor manera en el mercado laboral\; se trata de estudiar una carrer
 a? O se trata de saber un sobre todos los temas?\n'Todos se comunican poco
 s se conectan'Maureen VillalobosConferencista\, consultora y autora\nLa co
 municación es una habilidad blanda necesaria en cualquier organización\, y
  por ende\, es tan importante como el manejo de las relaciones. En esta co
 nferencia\, se reflexionará sobre nuestro nivel de conciencia y dónde nos 
 ubicamos en nuestra psiquis cuando nos comunicamos con otras personas. Al 
 entender nuestro comportamiento en el proceso de comunicación\, podemos me
 jorar la forma en que nos expresamos y así lograr resultados a través del 
 poder de la palabra. Los participantes podrán comprender el concepto de la
  comunicación profunda\, identificando diferentes barreras existentes y re
 conociendo mejores prácticas para conectarse con las personas en diferente
 s contextos y culturas.\n'Por qué debemos gamificar en las empresas'Lorna 
 PerazaGenius Lab\nEn los departamentos de recursos humanos\, las empresas 
 están implementando cada vez más la gamificación para impulsar una mayor p
 articipación de los empleados\, aumentar la productividad y fomentar hábit
 os saludables\, entre otros resultados. Al aprovechar el amor innato de la
 s personas por los juegos\, se alienta a los empleados a resolver problema
 s mientras generan resultados medibles para la organización. Es un taller 
 teórico – práctico donde vamos a tener ejemplos de actividades gamificadas
  para desarrollar en las empresas\, con temas de liderazgo\, trabajo en eq
 uipo\, entre otras.\n'10.20.70 y lúdica fuera de la caja: rompiendo paradi
 gmas en el mundo 4.0 de las soft skills'Enrique MargeryThe Open Institute
 \n(1) Las soft skills son FEAs (Flexibles\, Estratégicas y Adaptativas) y 
 duras de enseñar: exposición\, brecha\, insight y Kolb. (2) Micro taller p
 articipativo: colaboratorio en acción y procesos de flow. (3) Modelado y a
 nimación grupal en jefaturas: el modelo 10.20.70.\n'El futuro del trabajo 
 y la formación profesional'Leonardo Ferreira NevesOIT\nLa presentación abo
 rdará las fuerzas transformadoras del mundo del trabajo\, en particular lo
 s cambios tecnológicos\, y sus impactos sobre los mercados de trabajo\, co
 n especial énfasis a los desafíos y oportunidades para la formación profes
 ional\, entendida como la actividad educativa que se orienta hacia el desa
 rrollo de habilidades y competencias de aplicación inmediata en el mundo d
 el trabajo\, en el marco del mandato de la Organización Internacional del 
 Trabajo\, y su reciente Declaración del Centenario de la OIT para el Futur
 o del Trabajo\, 2019.\n'Desarrollo de Talento para la Sostenibilidad'Denni
 s ArciniegasSYKES\n'Vivencie el poder de la gamificación para favorecer el
  compromiso con los procesos de formación y aprendizaje'Gina Sequeira CEDE
 SO\n¡Evento 100% gamificado! Conviértase en piloto de autos de carrera por
  un día\, supere diferentes desafíos individuales y en equipo y conquiste 
 el trofeo al llegar a la meta: comprender las nuevas tendencias internacio
 nales en formación y desarrollo del talento humano.\n 
DTSTART:20190809T134500Z
DTEND:20190809T230000Z
GEO:+09.943364;-84.077087
LOCATION:Hotel Radisson\, B° Tournón
ORGANIZER;CN=:info@cedeso.co.cr
SEQUENCE:1
SUMMARY:3er Encuentro de Formación y Desarrollo
TRANSP:OPAQUE
URL:https://cedeso.co.cr/eventos-anteriores/183-3er-encuentro-de-formaci%C3
 %B3n-y-desarrollo
END:VEVENT
END:VCALENDAR
