BEGIN:VCALENDAR
VERSION:2.0
PRODID:-//Cedeso//NONSGML kigkonsult.se iCalcreator 2.30.10//
CALSCALE:GREGORIAN
METHOD:PUBLISH
UID:ecb113c7-dfbe-43d4-b4b9-c107be59252f
X-WR-CALNAME:iCagenda
X-WR-CALDESC:Event Management Extension for Joomla!
X-WR-RELCALID:3E26604A-50F4-4449-8B3E-E4F4932D05B5
X-WR-TIMEZONE:America/Costa_Rica
BEGIN:VTIMEZONE
TZID:America/Costa_Rica
BEGIN:STANDARD
TZNAME:CST
DTSTART:20171117T060000
TZOFFSETFROM:+0000
TZOFFSETTO:-0600
END:STANDARD
END:VTIMEZONE
BEGIN:VEVENT
UID:f41af1c7-592b-4859-a5bf-c2164858b161
DTSTAMP:20260419T125413Z
CATEGORIES:Mejores Prácticas Organizacionales
CLASS:PUBLIC
DESCRIPTION;ALTREP="CID:<FFFF__=0ABBE548DFE235B58f9e8a93d@coffeebean.com>":
 Gestión de Clima y Compromiso\n \nEste ciclo pretende formar en las habili
 dades fundamentales del equipo de Recursos Humanos o líderes que están int
 eresados en gestionar la propuesta de valor al empleado (PVE) y las medici
 ones de Clima y Compromiso Organizacional Al participar en este curso los 
 asistentes contarán con la oportunidad de obtener las tendencias globales 
 de talento de 2019\, las mejores prácticas\, metodologías y conceptos prin
 cipales para lograr colaboradores cada vez más comprometidos.\n¿Quiénes de
 ben asistir?Dirigido a líderes de Recursos Humanos o Líderes interesados e
 n impactar el Clima Organizacional y el compromiso en sus colaboradores.\n
 ¿Cómo se desarrolla el taller?• Analizaremos las principales tendencias gl
 obales del talento 2019 que refuerzan la importancia de escuchar a los col
 aboradores• Entenderemos ¿En qué consiste la propuesta de valor al emplead
 o (PVE)?• Trabajaremos la importante de gestionar la PVE más allá de una m
 edición de Clima y Compromiso• Hablaremos sobre las diferencias entre Sati
 sfacción\, Clima y Compromiso Organizacional• Profundizaremos en la import
 ancia de validar las expectativas de los colaboradores y la forma de hacer
 lo.• Finalmente los guiaremos en cómo construir una PVE y la comunicación 
 como aspecto fundamental del proceso• Lo anterior basado en un taller teór
 ico-práctico donde compartiremos experiencias con diferentes cliente.\nFec
 ha: 19 de agosto del 2019.Horario: 8:00 a.m. a 5:00 p.m.Duración: 8 horas.
 Lugar: Hotel Radisson\, B° Tournón.Inversión: $510 + 2% IVA por participan
 te.Incluye: Almuerzo\, refrigerios\, material y certificado de participaci
 ón.\nInscripciones e Información al e-mail info@cedeso.co.crTel: (506) 222
 5-1007 · Fax: (506) 2253-2774Visite nuestra página www.cedeso.co.crfaceboo
 k.com/cedesocostarica\n 
DTSTART:20190819T140000Z
DTEND:20190819T230000Z
GEO:+09.943364;-84.077087
LOCATION:Hotel Radisson\, B° Tournón.
ORGANIZER;CN=:info@cedeso.co.cr
SEQUENCE:1
SUMMARY:Gestión de clima y compromiso
TRANSP:OPAQUE
URL:https://cedeso.co.cr/eventos-anteriores/185-gesti%C3%B3n-de-clima-y-com
 promiso
END:VEVENT
END:VCALENDAR
