BEGIN:VCALENDAR
VERSION:2.0
PRODID:-//Cedeso//NONSGML kigkonsult.se iCalcreator 2.30.10//
CALSCALE:GREGORIAN
METHOD:PUBLISH
UID:28b5fe32-3884-4168-8ee7-f677fddb3b93
X-WR-CALNAME:iCagenda
X-WR-CALDESC:Event Management Extension for Joomla!
X-WR-RELCALID:3E26604A-50F4-4449-8B3E-E4F4932D05B5
X-WR-TIMEZONE:America/Costa_Rica
BEGIN:VTIMEZONE
TZID:America/Costa_Rica
BEGIN:STANDARD
TZNAME:CST
DTSTART:20171224T060000
TZOFFSETFROM:+0000
TZOFFSETTO:-0600
END:STANDARD
END:VTIMEZONE
BEGIN:VEVENT
UID:6078f611-1d36-48e6-bf19-df142c1ca8a4
DTSTAMP:20260419T130007Z
CATEGORIES:Mejores Prácticas Organizacionales
CLASS:PUBLIC
DESCRIPTION;ALTREP="CID:<FFFF__=0ABBE548DFE235B58f9e8a93d@coffeebean.com>":
 Taller:\nEl comunicador Rockstar: Comunicación en negocios\nA quién va dir
 igida la capacitación:Profesionales que deseen utilizar la comunicación co
 mo herramienta para logar el crecimiento en sus carrera\, lidiar con situa
 ciones exitosamente o mejorar su rendimiento y el de su equipo.\nObjetivo 
 general:Potenciar habilidades de comunicación\, como pieza clave en la est
 rategia del crecimiento profesional.  Resumen de contenidos: • Defina su e
 stilo de comunicación según teorías del comportamiento y utilícelo a su fa
 vor. • Aprenda a identificar el estilo de comunicación en otros\, con el u
 so de herramientas de comunicación. • Herramientas para el manejo de clien
 tes\, contactos estratégicos\, subalternos\, compañeros y jefes: La comuni
 cación 360 en el día a día y en conflictos. • Técnicas para presentar en p
 úblico según los triunfos clave de la comunicación en la teoría de la cien
 cia cerebral y psicología cognitiva. Fecha: 25 de setiembre del 2019. Hora
 rio: 8:00 a.m. a 5:00 p.m.Duración: 8 horas.Lugar: Hotel Balmoral\, San Jo
 sé.Inversión: ¢110.000 + 2% IVA por participante. Incluye: Almuerzo\, refr
 igerios\, material didáctico y certificado de participación.\nFacilitadora
 : Tanya Leiva. Experta en mejoras de negocio en América Latina. MBA\, PMP\
 , Data Scientist\, Asesora y especialista en PYMES. Líder de proyectos en 
 Latinoamérica con más de 10 años de experiencia en mejora o creaciónde org
 anizaciones y modelos de negocio\, impactando a más de 2\,000 personas.\nT
 odas nuestras capacitaciones pueden ser impartidas en su organización\nIns
 cripciones e Información al e-mail info@cedeso.co.crTel: (506) 2225-1007 ·
  Fax: (506) 2253-2774Visite nuestra página www.cedeso.co.crfacebook.com/ce
 desocostarica
DTSTART:20190925T140000Z
DTEND:20190925T230000Z
GEO:+09.933701;-84.075165
LOCATION:Hotel Balmoral\, San José.
ORGANIZER;CN=:info@cedeso.co.cr
SEQUENCE:1
SUMMARY:El comunicador Rockstar: Comunicación en negocios
TRANSP:OPAQUE
URL:https://cedeso.co.cr/eventos-anteriores/187-el-comunicador-rockstar-com
 unicaci%C3%B3n-en-negocios
END:VEVENT
END:VCALENDAR
