BEGIN:VCALENDAR
VERSION:2.0
PRODID:-//Cedeso//NONSGML kigkonsult.se iCalcreator 2.30.10//
CALSCALE:GREGORIAN
METHOD:PUBLISH
UID:57b55532-ada0-4000-95a6-f00accda198e
X-WR-CALNAME:iCagenda
X-WR-CALDESC:Event Management Extension for Joomla!
X-WR-RELCALID:3E26604A-50F4-4449-8B3E-E4F4932D05B5
X-WR-TIMEZONE:America/Costa_Rica
BEGIN:VTIMEZONE
TZID:America/Costa_Rica
BEGIN:STANDARD
TZNAME:CST
DTSTART:20171120T060000
TZOFFSETFROM:+0000
TZOFFSETTO:-0600
END:STANDARD
END:VTIMEZONE
BEGIN:VEVENT
UID:6c772b68-c7a7-4956-97bb-f8cae2db6889
DTSTAMP:20260419T130017Z
CATEGORIES:Mejores Prácticas Organizacionales
CLASS:PUBLIC
DESCRIPTION;ALTREP="CID:<FFFF__=0ABBE548DFE235B58f9e8a93d@coffeebean.com>":
 Taller:\n¿Hablando se entiende la gente?\nEntrenamiento práctico en Comuni
 cación Asertiva\nDirigido a: Colaboradores de Recursos Humanos\, Gerentes\
 , jefaturas\, supervisores\, líderes de equipos de trabajo. En general\, c
 ualquier persona que desee identificar su estilo de comunicación y entrena
 rse en habilidades de comunicación y escucha efectiva como base para estab
 lecer relaciones personales sanas y respetuosas a nivel personal y laboral
 .\nObjetivo general: Al finalizar este taller el participante estará en co
 ndiciones de autoevaluar el grado de eficacia en su estilo de comunicación
  predominante\, así como entrenarse en técnicas de comunicación y escucha 
 efectiva\, pudiendo aplicar cambios inmediatos en la forma de transmitir y
  recibir mensajes en las relaciones que establece a nivel personal y labor
 al.\nContenidos: • ¿Qué es y cómo se implementa la comunicación asertiva? 
 • Auto evaluación de la eficacia en la comunicación. • La comunicación más
  allá de las palabras. • Venciendo las barreras entre el que escucha y el 
 que habla. • Estrategias para lograr una escucha activa y eficaz. • Estrat
 egias para favorecer que el otro le escuche de manera efectiva. • Resoluci
 ón de conflictos a través de una escucha eficaz y una comunicación asertiv
 a. • El arte de dar retroalimentación.\nFecha: 22 de agosto del 2019.Horar
 io: 8:00 a.m. a 5:00 p.m.Duración: 8 horas.Lugar: Hotel Balmoral\, San Jos
 é.Inversión: ¢110.000 + 2% IVA por participante.Incluye: Alimentación\, ma
 terial didáctico y certificado de participación.Facilitadora: Licda. Gina 
 Sequeira\, psicóloga certificada en Business Coaching\, con más de 15 años
  de experiencia en el diseño de procesos de capacitación vinculados al des
 arrollo de habilidades blandas y el fortalecimiento de equipos de alto des
 empeño.\nTodas nuestras capacitaciones pueden ser impartidas en su organiz
 ación.\nInscripciones e Información al e-mail info@cedeso.co.crTel: (506) 
 2225-1007 Fax: (506) 2253-2774Visite nuestra página www.cedeso.co.crfacebo
 ok.com/cedesocostarica
DTSTART:20190822T140000Z
DTEND:20190822T230000Z
GEO:+09.933701;-84.075165
LOCATION:Hotel Balmoral\, San José.
ORGANIZER;CN=:info@cedeso.co.cr
SEQUENCE:1
SUMMARY:¿Hablando se entiende la gente?
TRANSP:OPAQUE
URL:https://cedeso.co.cr/eventos-anteriores/188-%C2%BFhablando-se-entiende-
 la-gente
END:VEVENT
END:VCALENDAR
