BEGIN:VCALENDAR
VERSION:2.0
PRODID:-//Cedeso//NONSGML kigkonsult.se iCalcreator 2.30.10//
CALSCALE:GREGORIAN
METHOD:PUBLISH
UID:7cb79822-2adc-445b-bf72-90b8c3eb89ce
X-WR-CALNAME:iCagenda
X-WR-CALDESC:Event Management Extension for Joomla!
X-WR-RELCALID:3E26604A-50F4-4449-8B3E-E4F4932D05B5
X-WR-TIMEZONE:America/Costa_Rica
BEGIN:VTIMEZONE
TZID:America/Costa_Rica
BEGIN:STANDARD
TZNAME:CST
DTSTART:20171203T060000
TZOFFSETFROM:+0000
TZOFFSETTO:-0600
END:STANDARD
END:VTIMEZONE
BEGIN:VEVENT
UID:88744cae-7fde-4cf5-96cd-55d6115b756a
DTSTAMP:20260419T125544Z
CATEGORIES:Mejores Prácticas Organizacionales
CLASS:PUBLIC
DESCRIPTION;ALTREP="CID:<FFFF__=0ABBE548DFE235B58f9e8a93d@coffeebean.com>":
 CURSO BÁSICO\nEL ABC DE LA FORMULACIÓN Y EVALUACIÓN DE PROYECTOS:\nLO QUE 
 USTED DEBE SABER PARA ENTENDER LA IMPORTANCIA \nDE LA LÓGICA EN LOS PROYEC
 TOS DE INVERSIÓN\n \n¿Necesita usted saber por qué es importante el manejo
  de proyectos en la actualidad?\n¿Está usted preparado para comprender por
  qué los proyectos nos sirven para tomar las decisiones inteligentes que s
 e requieren en un mundo competitivo como el de hoy?\n \n \nFecha: 4 de set
 iembre 2019.\nHorario: De 8:00 a.m. a 5:00 p.m.\nLugar: Hotel Balmoral\, S
 an José.\nInversión: ¢110.000 + 2% de IVA por participante\nIncluye: Almue
 rzo\, refrigerios\, material y certificado de participación.\n \nDirigido 
 a: Profesionales\, empresarios (micros\, medianos y pequeños)\, gerentes\,
  profesionales independientes\, funcionarios vinculados a la toma de decis
 iones en el área de inversión pública y/o privada\, auditoría\, finanzas\,
  proveeduría\, así como personas emprendedoras deseosas e interesados en c
 onocer el amplio mundo de los proyectos y que deseen poseer los conocimien
 tos generales en esta materia.\n \nObjetivo: Brindar a los participantes l
 os conocimientos básicos para conocer la dinámica y metodología de proyect
 os\, a fin de entender en que consiste el Ciclo de Vida de un proyecto\, s
 us diferentes etapas y el proceso de formulación y evaluación de un Proyec
 to de Inversión.\n \nContenido del curso:\n\nObjetivos\nElementos conceptu
 alesImportancia de la inversión pública/privada\nEl ciclo vida de un proye
 cto\n\nEtapa de preinversión\nEtapa de promoción y negociación\nEtapa de u
 n proyecto de inversión\nEtapa de operación\, mantenimiento y cierre\n\n\n
 \n \n\nTipos de proyectos en el ciclo de vida\nLa etapa de la preinversión
 \n\nEl proceso de planificación/formulación\n\nIdentificación de proyecto
 \nEstudio de mercado\nEstudio técnico\, legal\, administrativo\, organizac
 ional\n\n\nEl proceso de evaluación\n\nEvaluación financiera\nEvaluación e
 conómica y social\nEvaluación de impacto ambiental\n\n\n\n\n\n \n \nExposi
 tor:\n \nFremi Mejía Canelo:  Ingeniero Civil y Máster en Construcciones H
 idrotécnicas de la Universidad Amistad de los Pueblo de Moscú\, Rusia\, po
 see estudios de Maestría en Política Económica con   énfasis   en Sector E
 xterno de la Universidad Nacional de Costa Rica. Es candidato a Doctor en 
 Gestión Pública y Ciencias Empresariales del Instituto Centroamericano de 
 Administración Pública (ICAP). Posgrado en proyectos de desarrollo en el I
 CAP. Cuenta con más de 3 décadas de experiencia en el ICAP\, como Docente 
 y Consultor en Gerencia de Proyectos de Desarrollo\, Coordinador del área 
 de Gestión de Políticas y Negociaciones Internacionales\, además\, Coordin
 ador de Asistencia Técnica. Actualmente Profesor del Programa de Posgrado 
 en Proyectos de la Facultad de Ciencias Sociales de la UCR.
DTSTART:20190904T140000Z
DTEND:20190904T230000Z
GEO:+09.933701;-84.075165
LOCATION:Hotel Balmoral\, San José.
ORGANIZER;CN=:info@cedeso.co.cr
SEQUENCE:1
SUMMARY:El ABC de la formulación y evaluación de proyectos
TRANSP:OPAQUE
URL:https://cedeso.co.cr/eventos-anteriores/191-el-abc-de-la-formulaci%C3%B
 3n-y-evaluaci%C3%B3n-de-proyectos
END:VEVENT
END:VCALENDAR
