BEGIN:VCALENDAR
VERSION:2.0
PRODID:-//Cedeso//NONSGML kigkonsult.se iCalcreator 2.30.10//
CALSCALE:GREGORIAN
METHOD:PUBLISH
UID:ddd3b639-e589-4127-9e86-399da5083110
X-WR-CALNAME:iCagenda
X-WR-CALDESC:Event Management Extension for Joomla!
X-WR-RELCALID:3E26604A-50F4-4449-8B3E-E4F4932D05B5
X-WR-TIMEZONE:America/Costa_Rica
BEGIN:VTIMEZONE
TZID:America/Costa_Rica
BEGIN:STANDARD
TZNAME:CST
DTSTART:20171206T060000
TZOFFSETFROM:+0000
TZOFFSETTO:-0600
END:STANDARD
END:VTIMEZONE
BEGIN:VEVENT
UID:bb6ca51f-4022-4ec5-b116-a856184e4b2e
DTSTAMP:20260419T125710Z
CATEGORIES:Informática
CLASS:PUBLIC
DESCRIPTION;ALTREP="CID:<FFFF__=0ABBE548DFE235B58f9e8a93d@coffeebean.com>":
 Capacitación:\nHerramientas para la gestión de Business Intelligence\nDiri
 gido a:A todas personas individuales o empresas que estén interesados en d
 esarrollar habilidades de business intelligence en su organización.\nObjet
 ivo general: Desarrollar habilidades en SQL y Power BI para poder resolver
  problemas de business intelligence.\nDuración: 20 horas. Una sesión de 3 
 horas por semana.Modalidad: Virtual. Sábados de 9:00 a.m. a 12:00 m.d.Fech
 a: Sábado 7 de setiembre al sábado 12 de octubre.Inversión: 200.000 + 2% I
 VA por participante.Incluye: Material y certificado de capacitación.\nFaci
 litadora: Ing. Vannesa Mora Hernández\, ingeniera informática y actualment
 e cursa la maestría en bioinformática y biología de sistemas en la UCR. \n
 Tiene experiencia en JAVA\, .NET\, PHP \, HTML\, PYTHON\, CMS JOOMLA. y ma
 nejo de bases de datos en SQL SERVER y MySQL. \nPreviamente fue la facilit
 adora del programa de capacitación 500 mujeres en HTML5\, programa de Cons
 truyendo Talento e Intel.\nSQL (Structured Query Languaje) es un lenguaje 
 estructurado para solicitar información de una base de datos de tal forma 
 que quien lo domina puede extraer conocimiento de cliente como indicadores
  de ventas\, manejo de inventarios\, y responder a muchas interrogantes de
 l negocio de forma rápida y gracias a la automatización minimizando errore
 s. Power BI (Business Intelligence) por su lado facilita el manejar la inf
 ormación para construir indicadores y visualizarlos por medio de herramien
 tas tipo dashboard\, lo que permite a los negocios utilizar la información
  para generar inteligencia de negocio. Poder contar con colaboradores que 
 sepan utilizar estas herramientas se convierte más que en un diferenciador
 \, en una necesidad para poder administrar las necesidades del mundo del b
 ig data.\nResumen de contenidos:SQL Server Management Studio (SSMS) • Conc
 eptos básicos  • Crear base de datos • Crear tablas en SSMS • Tipos de dat
 os • Clave primaria  • Relacionar tablas • Consultas simples SQL • Diagram
 as de base de datos\nPower BI • Conceptos básicos • Conexión de Power BI a
  un archivo de datos • Gráficos de barras  • Diagramas de dispersión • Inf
 ormes en Power BI\nInscripciones e Información al e-mail info@cedeso.co.cr
 Tel: (506) 2225-1007 · Fax: (506) 2253-2774Visite nuestra página www.cedes
 o.co.crfacebook.com/cedesocostarica\n 
DTSTART:20190907T150000Z
DTEND:20190907T180000Z
GEO:00;0
LOCATION:Virtual
ORGANIZER;CN=:info@cedeso.co.cr
SEQUENCE:1
SUMMARY:Herramientas para la gestión de Business Intelligence
TRANSP:OPAQUE
URL:https://cedeso.co.cr/eventos-anteriores/192-herramientas-para-la-gesti%
 C3%B3n-de-business-intelligence
END:VEVENT
END:VCALENDAR
