BEGIN:VCALENDAR
VERSION:2.0
PRODID:-//Cedeso//NONSGML kigkonsult.se iCalcreator 2.30.10//
CALSCALE:GREGORIAN
METHOD:PUBLISH
UID:a4a1c982-8a23-44ec-ae3c-81c79aad074c
X-WR-CALNAME:iCagenda
X-WR-CALDESC:Event Management Extension for Joomla!
X-WR-RELCALID:3E26604A-50F4-4449-8B3E-E4F4932D05B5
X-WR-TIMEZONE:America/Costa_Rica
BEGIN:VTIMEZONE
TZID:America/Costa_Rica
BEGIN:STANDARD
TZNAME:CST
DTSTART:20171230T060000
TZOFFSETFROM:+0000
TZOFFSETTO:-0600
END:STANDARD
END:VTIMEZONE
BEGIN:VEVENT
UID:9611dcbb-d869-4574-96a1-bf84d1049353
DTSTAMP:20260419T125555Z
CATEGORIES:Informática
CLASS:PUBLIC
DESCRIPTION;ALTREP="CID:<FFFF__=0ABBE548DFE235B58f9e8a93d@coffeebean.com>":
 Seminario:\nContabilidad básica. Módulo # 1\n¿Se encuentra el personal de 
 su empresa capacitado para interpretar el estado actual de la empresa y as
 í aportar a su mejoramiento?\nDirigido a: Empresarios\, y funcionarios rel
 acionados con el área financiera\, contable y administrativa\, así como to
 do personal interesado en interpretar adecuadamente los resultados de la e
 mpresa y conocer la normativa que la regula\, con o sin experiencia.\nObje
 tivo: Proporcionar los conocimientos básicos que debe de tener\, todo aque
 l funcionario relacionado con los procesos administrativos\, contables\, f
 inancieros\, producción\, ventas\; para que puede interpretar la operación
  de la empresa y los reportes contables y así poder desarrollar sus labore
 s\, aportando eficiencia para el logro de resultados financieros positivos
 .\nMetodología: El seminario tendrá una metodología teórico-práctico\, en 
 donde los participantes tendrán la oportunidad de aplicar la teoría\, en p
 rácticas programas\, con el fin de que realmente interpreten el proceso co
 ntable.\nContenidos:\nImportancia de la contabilidad - El registro correct
 o de la contabilidad y su efecto en el flujo de información - El uso de la
  información contable y su efecto en la toma de decisiones\nElementos y pr
 incipios básicos contables - El ciclo contable - Elementos de la ecuación 
 contable - Conceptos y cuentas de balance  - Activo - Pasivo - Patrimonio 
 y capital contable - Conceptos y cuentas de resultados - Ingresos  - Costo
 s - Gastos - Estados financieros básicos - Balance General - Estado de res
 ultados - Configuración contable de una empresa - Concepto y aplicación de
  cuenta - Catálogo de cuentas - Código de cuentas - Concepto y aplicación 
 de partida doble - Concepto y uso de los asientos de diario - Balanza de c
 omprobación - Concepto de diario\, mayor y balances - Registro de los asie
 ntos de diario - Mayorización de los asientos de diario - Asientos de ajus
 te - Asientos de cierre - Elaboración de la balanza de comprobación - Elab
 oración de estados financieros - Regulación Nacional e Internacional relat
 iva a la contabilidad (históricamente) - Principios generalmente aceptados
  de contabilidad - Normas internacionales de contabilidad NIC - Normas int
 ernacionales de información Financieras NIFS - Normas internacionales de a
 uditoría NIAS - Registro de las transacciones normales de la empresa - Cap
 ital social - Ventas - Compras - Gastos - Inventarios - Activos - Planilla
  - Chica - Auxiliares contables - Bancos - Cuentas por cobrar - Inventario
 s - Activos - Cuentas por pagar - Capital social - Depreciaciones - Concep
 tos - Elementos - Métodos - Tipos de documentos contables y su registro - 
 Facturas - Cheques - Depósitos - Notas de débito y crédito - Otros - Infor
 mes contables y gerenciales - Estados financieros - Informes específicos -
  Informes de resultados - Otros - Control interno aplicado en el proceso c
 ontable - Concepto - Tipos de control interno - Objetivos - Principios  - 
 Base para su aplicación - Obligaciones fiscales y tributarias - Normativa 
 reguladora - Obligaciones del declarante - Los procesos tributarios de ges
 tión y fiscalización tributarios - El costo del incumplimiento de las obli
 gaciones tributarias\nFecha: 1 y 2 de octubre del 2019.Horario: 8:00 a.m. 
 a 5:00 p.m.Duración: 16 horas.Lugar: Hotel Balmoral\, San José.Inversión: 
 ¢200.000 + 2% IVA por participante.Incluye: Alimentación\, material didáct
 ico y certificado de participación.\nFacilitador: CPI Marco A. Zapata Cast
 ro\, Presidente de Asesorías en Crédito y Cobro S. A.\, Contador Privado\,
  Asesor Nacional e Internacional en el área contable financiero\, Profesor
  en la Universidad Católica\, Universidad Tecnológica Nacional y Universid
 ad Hispanoamericana\, Fiscal de la Cámara de Importadores CRECEX\, ex Dire
 ctor Bancario y facilitador en entidades como CEDESO\, Colegio de Contador
 es Privados\, Fundación Solpromesa\, Crecex y en empresas nacionales e int
 ernacionales.\nTodas nuestras capacitaciones pueden ser impartidas en su o
 rganización\nInscripciones e información al e-mail info@cedeso.co.crTel: (
 506) 2225-1007 / Fax: (506) 2253-2774 Visite nuestra página www.cedeso.co.
 crfacebook.com/cedesocostarica
DTSTART:20191001T140000Z
DTEND:20191002T230000Z
GEO:+09.933701;-84.075165
LOCATION:Hotel Balmoral\, San José.
ORGANIZER;CN=:info@cedeso.co.cr
SEQUENCE:1
SUMMARY:Contabilidad básica. Módulo # 1
TRANSP:OPAQUE
URL:https://cedeso.co.cr/eventos-anteriores/193-contabilidad-b%C3%A1sica-m%
 C3%B3dulo-1
END:VEVENT
END:VCALENDAR
