BEGIN:VCALENDAR
VERSION:2.0
PRODID:-//Cedeso//NONSGML kigkonsult.se iCalcreator 2.30.10//
CALSCALE:GREGORIAN
METHOD:PUBLISH
UID:2f973c84-46b1-45f8-ae61-8b9fdc9ce872
X-WR-CALNAME:iCagenda
X-WR-CALDESC:Event Management Extension for Joomla!
X-WR-RELCALID:3E26604A-50F4-4449-8B3E-E4F4932D05B5
X-WR-TIMEZONE:America/Costa_Rica
BEGIN:VTIMEZONE
TZID:America/Costa_Rica
BEGIN:STANDARD
TZNAME:CST
DTSTART:20180101T060000
TZOFFSETFROM:+0000
TZOFFSETTO:-0600
END:STANDARD
END:VTIMEZONE
BEGIN:VEVENT
UID:b49dc28c-dee2-44c8-a26c-b573b55b3dff
DTSTAMP:20260419T130058Z
CATEGORIES:Mejores Prácticas Organizacionales
CLASS:PUBLIC
DESCRIPTION;ALTREP="CID:<FFFF__=0ABBE548DFE235B58f9e8a93d@coffeebean.com>":
 Seminario:\nAlcances y limitaciones de la Ley de Igualdad de Oportunidades
  para las Personas con DiscapacidadLey Nº 7600 y su aplicación en el Secto
 r Público costarricense\nContenidos:\nGeneralidades ¿Qué ocurre en nuestra
  Costa Rica actual? ¿Somos todas las personas actualmente iguales ante la 
 ley? ¿Está Costa Rica sumergida en las grandes violaciones a este precepto
  como el resto del mundo? ¿Qué significa ser iguales ante la ley? Tema 1: 
 Abordaje de la temática desde los derechos humanos para comprender de mejo
 r manera qué significa ser iguales ante la ley¿Qué son Derechos Humanos?Ca
 racterísticas de los Derechos HumanosDerechos Humanos y GeneracionesIncump
 limiento de los Derechos Humanos\nTema 2: ¿Cómo lograr que toda persona se
 a igual ante la ley?\nTema 3: Tratamiento jurídico de la igualdad y no dis
 criminación  Jerarquía de los Derechos Humanos Legislación sobre la temáti
 ca para el sector público. Nacional e Internacional Jurisprudencia naciona
 l\nFecha: 3 y 4 de octubre del 2019.Horario: 8:00 a.m. a 5:00 p.m.Duración
 : 16 horas.Lugar: Hotel Balmoral\, San José.Inversión: ¢200.000 + 2% IVA p
 or participante.Incluye: Almuerzos\, refrigerios\, material y certificado 
 de participación.\nFacilitador: Jerry Campos Monge es Consultor Jurídico E
 specializado. Abogado y Notario Público por la Universidad de Costa Rica (
 1999). Magister en Derechos Humanos (2002) y Doctorando en Derecho (actual
 mente) por la Universidad Estatal a Distancia. Con más de 16 años de ejerc
 icio profesional\, 14 de ellos en el Sector Público\, principalmente como 
 Asesor Parlamentario Especializado en temas de derecho en general y de Der
 echos Humanos en particular\, en la Asamblea Legislativa Costarricense. Ex
  Juez de la República. Docente universitario a nivel de grado y posgrado\,
  tanto en Universidades públicas como privadas\, nacionales e internaciona
 les (España). Capacitador y Tratadista en temas de derecho en general. Ex 
 Candidato a Defensor de los Habitantes de la República\, recomendado con a
 ltos puntajes ante el Plenario Legislativo.\nTodas nuestras capacitaciones
  pueden ser impartidas en su organización\nInscripciones e información al 
 e-mail info@cedeso.co.crTel: (506) 2225-1007 / Fax: (506) 2253-2774 Visite
  nuestra página www.cedeso.co.crfacebook.com/cedesocostarica
DTSTART:20191003T140000Z
DTEND:20191004T230000Z
GEO:+09.933701;-84.075165
LOCATION:Hotel Balmoral\, San José.
ORGANIZER;CN=:info@cedeso.co.cr
SEQUENCE:1
SUMMARY:Alcances y limitaciones de la Ley de Igualdad de Oportunidades para
  las Personas con Discapacidad
TRANSP:OPAQUE
URL:https://cedeso.co.cr/eventos-anteriores/199-alcances-y-limitaciones-de-
 la-ley-de-igualdad-de-oportunidades-para-las-personas-con-discapacidad
END:VEVENT
END:VCALENDAR
