BEGIN:VCALENDAR
VERSION:2.0
PRODID:-//Cedeso//NONSGML kigkonsult.se iCalcreator 2.30.10//
CALSCALE:GREGORIAN
METHOD:PUBLISH
UID:782232a4-48c1-4d2d-8aaa-4ba9e9ed8135
X-WR-CALNAME:iCagenda
X-WR-CALDESC:Event Management Extension for Joomla!
X-WR-RELCALID:3E26604A-50F4-4449-8B3E-E4F4932D05B5
X-WR-TIMEZONE:America/Costa_Rica
BEGIN:VTIMEZONE
TZID:America/Costa_Rica
BEGIN:STANDARD
TZNAME:CST
DTSTART:20180114T060000
TZOFFSETFROM:+0000
TZOFFSETTO:-0600
END:STANDARD
END:VTIMEZONE
BEGIN:VEVENT
UID:e4d06547-fc06-4c54-8f47-5b826f483077
DTSTAMP:20260419T130059Z
CATEGORIES:Mejores Prácticas Organizacionales
CLASS:PUBLIC
DESCRIPTION;ALTREP="CID:<FFFF__=0ABBE548DFE235B58f9e8a93d@coffeebean.com>":
 Taller:\nElementos clave para intervenir el Acoso Sexual en el trabajo\nDi
 rigido a: Personas que conforman comisiones investigadoras en las instituc
 iones o que tienen la responsabilidad de intervenir directamente en situac
 iones de acoso sexual en el ámbito laboral.\nObjetivo general: Al finaliza
 r este taller el participante estará en condiciones de definir y comprende
 r el procedimiento adecuado para investigar situaciones de acoso sexual en
  el ámbito laboral\, entrenándose en estrategias puntuales para liderar la
 s investigaciones y emitir recomendaciones sobre los resultados de ellas a
  la autoridad competente.\nContenidos:• Perfil de víctima y acosador• Defi
 nición y seguimiento del debido proceso en una investigación• Criterios pa
 ra la elección de integrantes de una comisión investigadora• Comisión inst
 itucional y comisión investigadora: roles y responsabilidades• Cómo llevar
  a cabo un Proceso de investigación• Recomendaciones para entrevistas\, ¿q
 ué se puede preguntar y qué no?• ¿Qué hacer cuando no hay pruebas concreta
 s?• Medidas cautelares: ¿qué son y cuándo aplicarlas?• Rol de la Defensorí
 a de los Habitantes• Plazos y recomendación de posibles sanciones\nFecha: 
 16 de octubre del 2019.Horario: 8:00 a.m. a 5:00 p.m.Duración: 8 horas.Lug
 ar: Hotel Balmoral\, San José.Inversión: ¢110.000 + 2% de IVA por particip
 ante.Incluye: Almuerzo\, refrigerios\, material didáctico y certificado de
  participación.Facilitadora: Licda. Gina Sequeira\, psicóloga certificada 
 en Business Coaching\, con más de 15 años de experiencia en el diseño de p
 rocesos de capacitación vinculados al desarrollo de habilidades blandas y 
 el fortalecimiento de equipos de alto desempeño.\nTodas nuestras capacitac
 iones pueden ser impartidas en su organización.\nInscripciones e Informaci
 ón al e-mail info@cedeso.co.crTel: (506) 2225-1007 Fax: (506) 2253-2774Vis
 ite nuestra página www.cedeso.co.crfacebook.com/cedesocostarica
DTSTART:20191016T140000Z
DTEND:20191016T230000Z
GEO:00;0
LOCATION:Hotel Balmoral\, San José.
ORGANIZER;CN=:info@cedeso.co.cr
SEQUENCE:1
SUMMARY:Elementos clave para intervenir el Acoso Sexual en el trabajo
TRANSP:OPAQUE
URL:https://cedeso.co.cr/eventos-anteriores/205-elementos-clave-para-interv
 enir-el-acoso-sexual-en-el-trabajo
END:VEVENT
END:VCALENDAR
