BEGIN:VCALENDAR
VERSION:2.0
PRODID:-//Cedeso//NONSGML kigkonsult.se iCalcreator 2.30.10//
CALSCALE:GREGORIAN
METHOD:PUBLISH
UID:7a40480b-5c10-40c9-9453-e2a1a2a9a7f2
X-WR-CALNAME:iCagenda
X-WR-CALDESC:Event Management Extension for Joomla!
X-WR-RELCALID:3E26604A-50F4-4449-8B3E-E4F4932D05B5
X-WR-TIMEZONE:America/Costa_Rica
BEGIN:VTIMEZONE
TZID:America/Costa_Rica
BEGIN:STANDARD
TZNAME:CST
DTSTART:20180203T060000
TZOFFSETFROM:+0000
TZOFFSETTO:-0600
END:STANDARD
END:VTIMEZONE
BEGIN:VEVENT
UID:1bd86fc3-4a3e-4953-9e64-82bbeb9088e1
DTSTAMP:20260419T142908Z
CATEGORIES:Mejores Prácticas Organizacionales
CLASS:PUBLIC
DESCRIPTION;ALTREP="CID:<FFFF__=0ABBE548DFE235B58f9e8a93d@coffeebean.com>":
 Programa de Certificación “Analista de Monitoreo Estratégico”Basado en el 
 BSC Focusplus:2019 – Un Balanced Scorecard con Enfoque Moderno\nObjetivo: 
 Brindar el marco lógico de diferentes metodologías de monitoreo de indicad
 ores estratégicos como OKR\, Dashboard o SMART y cómo hacerlas compatibles
  con el Balanced Scorecard en su versión optimizada y moderna: El BSC Focu
 splus:2019.\nA quién va dirigido: Los responsables directos de recopilar\,
  monitorear y analizar los diferentes indicadores estratégicos que se van 
 generando en la entidad. Aplica tanto a entidades públicas como privadas.
 \nContenidos:I. Marco lógico: 4 horas1. Objectives and Key Results (OKR)2.
  Objetivos SMART3. Dashboard4. Balanced Scorecard5. BSC Focusplus:2019\nII
 . Trabajo en Mesa Redonda: 12 horas1. Dada una Matriz FODA cruzada de una 
 Unidad Estratégica\, se elaborará un Balanced Scorecard preliminar.2. En b
 ase al Balanced Scorecard definir los OKR3. En base al Balanced Scorecard 
 definir Objetivos SMART4. En base al Balanced Scorecard definir un Dashboa
 rd de Indicadores\nFecha: 5 y 6 de noviembre del 2019.Horario: 8:00 a.m. a
  5:00 p.m.Duración: 16 horas.Lugar: Hotel Balmoral\, San José.Inversión: U
 S$300 + 2% IVA por participante.Incluye: Almuerzos\, refrigerios\, materia
 l. Stratego y Cedeso acreditarán a cada participante con la Certificación 
 'Analista de Monitoreo Estratégico'\nFacilitador:Iván Arrieta GarcíaConsul
 tor\, Facilitador de Talleres\, Certificador y Conferencista Internacional
  de Planeamiento Estratégico y Balanced Scorecard (BSC) con más alto recon
 ocimiento en Latinoamérica. Creador del BSC Focusplus. CEO de la firma Con
 sultoría y Asesoría Stratego.\nDistinguido por Promperú como Orgulloso Rep
 resentante de la Marca Perú por 3er. año consecutivo. Propietario y Franqu
 iciador de la Marca OptimusBSC®. Creador y líder del Grupo Linkedin 'Balan
 ced Scorecard - Latinoamérica'.\nA continuación algunos números relevantes
 :(1) 19 años de experiencia en Planeamiento Estratégico y Balanced Scoreca
 rd.(2) Más de 100 proyectos de Planeamiento Estratégico y Balanced Scoreca
 rd\, tanto a entidades del sector público como del privado.(3) Más de 10\,
 000 asistentes a sus distintas conferencias BSC en 10 países: Perú\, Colom
 bia\, Argentina\, Chile\, Ecuador\, Panamá\, Bolivia\, Costa Rica\, Hondur
 as y España. Reconocido en las últimas 38 conferencias como el especialist
 a no. 1 de BSC en Latinoamérica tanto por entidades académicas como gremia
 les.(4) Autor de 15 artículos BSC publicados en diversas revistas empresar
 iales\, gremiales y académicas.(5) Revista virtual 'Balanced Scorecard': E
 ditor de la Revista. 17 ediciones.(6) Grupo Linkedin 'Balanced Scorecard -
  Latinoamérica': Con 7\,300 miembros\, es el grupo No. 1 de América Latina
  y No. 3 del mundo dedicado al tema en esta red profesional.Mayor informac
 ión: http://scorecard.com.pe/j-links-expertise-bsc/\nTodas nuestras capaci
 taciones pueden ser impartidas en su organización\nInscripciones e informa
 ción al e-mail info@cedeso.co.crTel: (506) 2225-1007 / Fax: (506) 2253-277
 4 Visite nuestra página www.cedeso.co.crfacebook.com/cedesocostarica
DTSTART:20191105T140000Z
DTEND:20191106T230000Z
GEO:+09.933701;-84.075165
LOCATION:Hotel Balmoral\, San José.
ORGANIZER;CN=:info@cedeso.co.cr
SEQUENCE:1
SUMMARY:Analista de Monitoreo Estratégico
TRANSP:OPAQUE
URL:https://cedeso.co.cr/eventos-anteriores/210-analista-de-monitoreo-estra
 t%C3%A9gico
END:VEVENT
END:VCALENDAR
