BEGIN:VCALENDAR
VERSION:2.0
PRODID:-//Cedeso//NONSGML kigkonsult.se iCalcreator 2.30.10//
CALSCALE:GREGORIAN
METHOD:PUBLISH
UID:65b9a359-afee-4378-95fc-6f4dc8e60832
X-WR-CALNAME:iCagenda
X-WR-CALDESC:Event Management Extension for Joomla!
X-WR-RELCALID:3E26604A-50F4-4449-8B3E-E4F4932D05B5
X-WR-TIMEZONE:America/Costa_Rica
BEGIN:VTIMEZONE
TZID:America/Costa_Rica
BEGIN:STANDARD
TZNAME:CST
DTSTART:20180205T060000
TZOFFSETFROM:+0000
TZOFFSETTO:-0600
END:STANDARD
END:VTIMEZONE
BEGIN:VEVENT
UID:3eb2c879-c0fa-4fe6-967c-41bb3110e7ce
DTSTAMP:20260419T142524Z
CATEGORIES:Mejores Prácticas Organizacionales
CLASS:PUBLIC
DESCRIPTION;ALTREP="CID:<FFFF__=0ABBE548DFE235B58f9e8a93d@coffeebean.com>":
 Programa de Certificación “Líder Balanced Scorecard”Basado en el BSC Focus
 plus:2019 – Un Balanced Scorecard con Enfoque Moderno\nObjetivo: Brindar e
 l expertise necesario para manejar óptimamente el BSC en su versión modern
 a.\nDirigido a: Al encargado de liderar el monitoreo del cumplimiento de l
 a estrategia. Aplica tanto a entidades públicas como privadas.\nContenidos
 :I. Marco lógico: 4 horas 1. El Organigrama de Unidades Estratégicas y la 
 Matriz FODA 2. Marco Lógico del Balanced Scorecard 3. Errores Comunes en e
 l Diseño y en la Implementación del BSC 4. Recomendaciones para un Softwar
 e BSC 5. El BSC Focusplus:2019\n2) Trabajo en Mesa Redonda: 12 horas1. Def
 inir el Organigrama de Unidades Estratégicas de la entidad que trabajará c
 ada una de las mesas redondas.Exposición grupal. Rueda de preguntas.2. Def
 inir una Matriz FODA cruzada preliminar para una de las Unidades Estratégi
 cas identificadas. Exposición grupal. Rueda de preguntas.3. Definir un Bal
 anced Scorecard preliminar para una de las Unidades Estratégicas identific
 adas. Exposición grupal. Rueda de preguntas.\nFecha: 7 y 8 noviembre del 2
 019.Horario: 8:00 a.m. a 5:00 p.m.Duración: 16 horas.Lugar: Hotel Balmoral
 \, San José.Inversión: US$350 + 2% IVA por participante.Incluye: Almuerzos
 \, refrigerios y material. Stratego y Cedeso acreditarán a cada participan
 te con la Certificación 'Líder Balanced Scorecard'\nFacilitador:Iván Arrie
 ta García. Consultor\, Facilitador de Talleres\, Certificador y Conferenci
 sta Internacional de Planeamiento Estratégico y Balanced Scorecard (BSC) c
 on más alto reconocimiento en Latinoamérica. Creador del BSC Focusplus. CE
 O de la firma Consultoría y Asesoría Stratego.\nDistinguido por Promperú c
 omo Orgulloso Representante de la Marca Perú por 3er. año consecutivo. Pro
 pietario y Franquiciador de la Marca OptimusBSC®. Creador y líder del Grup
 o Linkedin 'Balanced Scorecard - Latinoamérica'.\nA continuación algunos n
 úmeros relevantes:(1) 19 años de experiencia en Planeamiento Estratégico y
  Balanced Scorecard.(2) Más de 100 proyectos de Planeamiento Estratégico y
  Balanced Scorecard\, tanto a entidades del sector público como del privad
 o.(3) Más de 10\,000 asistentes a sus distintas conferencias BSC en 10 paí
 ses: Perú\, Colombia\, Argentina\, Chile\, Ecuador\, Panamá\, Bolivia\, Co
 sta Rica\, Honduras y España. Reconocido en las últimas 38 conferencias co
 mo el especialista no. 1 de BSC en Latinoamérica tanto por entidades acadé
 micas como gremiales.(4) Autor de 15 artículos BSC publicados en diversas 
 revistas empresariales\, gremiales y académicas.(5) Revista virtual 'Balan
 ced Scorecard': Editor de la Revista. 17 ediciones.(6) Grupo Linkedin 'Bal
 anced Scorecard - Latinoamérica': Con 7\,300 miembros\, es el grupo No. 1 
 de América Latina y No. 3 del mundo dedicado al tema en esta red profesion
 al.Mayor información: http://scorecard.com.pe/j-links-expertise-bsc/
DTSTART:20191107T140000Z
DTEND:20191108T230000Z
GEO:+09.933701;-84.075165
LOCATION:Hotel Balmoral\, San José.
ORGANIZER;CN=:info@cedeso.co.cr
SEQUENCE:1
SUMMARY:Líder Balanced Scorecard
TRANSP:OPAQUE
URL:https://cedeso.co.cr/eventos-anteriores/211-l%C3%ADder-balanced-scoreca
 rd
END:VEVENT
END:VCALENDAR
