BEGIN:VCALENDAR
VERSION:2.0
PRODID:-//Cedeso//NONSGML kigkonsult.se iCalcreator 2.30.10//
CALSCALE:GREGORIAN
METHOD:PUBLISH
UID:0f3a25d6-86ca-49de-945b-ca3cd8014d5d
X-WR-CALNAME:iCagenda
X-WR-CALDESC:Event Management Extension for Joomla!
X-WR-RELCALID:3E26604A-50F4-4449-8B3E-E4F4932D05B5
X-WR-TIMEZONE:America/Costa_Rica
BEGIN:VTIMEZONE
TZID:America/Costa_Rica
BEGIN:STANDARD
TZNAME:CST
DTSTART:20180217T060000
TZOFFSETFROM:+0000
TZOFFSETTO:-0600
END:STANDARD
END:VTIMEZONE
BEGIN:VEVENT
UID:e1230781-4cd7-4f5f-adf1-fbaae7cec4d4
DTSTAMP:20260419T142614Z
CATEGORIES:Mejores Prácticas Organizacionales
CLASS:PUBLIC
DESCRIPTION;ALTREP="CID:<FFFF__=0ABBE548DFE235B58f9e8a93d@coffeebean.com>":
 Taller:\nConstrucción de manuales de capacitación\nObjetivo general: Tener
  la capacidad de diseñar y construir los Manuales de los cursos de capacit
 ación que causen impacto y brinde la comprensión necesaria\, de acuerdo co
 n los niveles taxonómicos definidos.\nObjetivos específicos: 1. Conocer la
  estructura de un Manual de Capacitación y sus beneficios en el proceso de
  capacitación.2. Diferenciar el manual del estudiante y el manual del inst
 ructor.3. Diseñar las diferentes herramientas que componen el manual de ca
 pacitación del instructor con las técnicas de enseñanza aprendizaje defini
 das en el curso.4. Redactar los objetivos generales y específicos con sus 
 puntos específicos y variables de manera que den claridad a los estudiante
 s.\nDirigido a:• Personas encargadas de impartir cursos de capacitación.• 
 Personas encargadas del proceso de capacitación de un departamento de recu
 rsos humanos.• Colaboradores del departamento de capacitación que colabore
 n con los procesos de D.N.C. y planes de capacitación• Otras personas inte
 resadas en el tema.\nMetodología:• Técnica expositiva.• Lectura dirigida.•
  Trabajos en grupo.\nContenidos:1. Estructura del manual del Instructor2. 
 Portada3. Introducción4. Objetivos 5. Objetivo general a. Alcances y estru
 ctura b. Redacción del objetivo general6. Objetivos específicos a. Redacci
 ón del objetivo específicos7. Especificaciones del Curso8. Requerimientos 
 de la actividad de capacitación9. Contenido temático10.Guía de Instrucción
 11.Diseño\, letra y espacios12.Importancia visual13.Relación del manual co
 n el apoyo audiovisual14.Adjuntos15.Bibliografía\nFecha: 19 y 20 de noviem
 bre del 2019.Horario: 8:00 a.m. a 5:00 p.m.Duración: 16 horas.Lugar: Hotel
  Balmoral\, San José.Inversión: ¢200.000 + 2% IVA por participante.Incluye
 : Almuerzos\, refrigerios\, material y certificado de participación.\nFaci
 litador: Lic. Adolfo Marín.Licenciado en Administración énfasis en Recurso
 s Humanos\, experiencia profesional en la gestión de capacitación y\, como
  facilitador especializado en temas de competencias laborales. Facilitador
  de CEDELA\, Grupo Sule y CEDESO en temas de formación. Ha desarrollado su
 s propios talleres: formación de formadores\, desarrollo de competencias\,
  diseño de manuales de capacitación\, DNC y Planeación de la capacitación.
 \nTodas nuestras capacitaciones pueden ser impartidas en su organización\n
 Inscripciones e información al e-mail info@cedeso.co.crTel: (506) 2225-100
 7 / Fax: (506) 2253-2774 Visite nuestra página www.cedeso.co.crfacebook.co
 m/cedesocostarica
DTSTART:20191119T140000Z
DTEND:20191120T230000Z
GEO:+09.933701;-84.075165
LOCATION:Hotel Balmoral\, San José.
ORGANIZER;CN=:info@cedeso.co.cr
SEQUENCE:1
SUMMARY:Construcción de manuales de capacitación
TRANSP:OPAQUE
URL:https://cedeso.co.cr/eventos-anteriores/214-construcci%C3%B3n-de-manual
 es-de-capacitaci%C3%B3n
END:VEVENT
END:VCALENDAR
