BEGIN:VCALENDAR
VERSION:2.0
PRODID:-//Cedeso//NONSGML kigkonsult.se iCalcreator 2.30.10//
CALSCALE:GREGORIAN
METHOD:PUBLISH
UID:965b0ecf-1bfb-4cc6-ba42-374a6f674e42
X-WR-CALNAME:iCagenda
X-WR-CALDESC:Event Management Extension for Joomla!
X-WR-RELCALID:3E26604A-50F4-4449-8B3E-E4F4932D05B5
X-WR-TIMEZONE:America/Costa_Rica
BEGIN:VTIMEZONE
TZID:America/Costa_Rica
BEGIN:STANDARD
TZNAME:CST
DTSTART:20180225T060000
TZOFFSETFROM:+0000
TZOFFSETTO:-0600
END:STANDARD
END:VTIMEZONE
BEGIN:VEVENT
UID:3d920aa4-f2b3-4001-bd06-eececa2bcff1
DTSTAMP:20260419T142900Z
CATEGORIES:Mejores Prácticas Organizacionales
CLASS:PUBLIC
DESCRIPTION;ALTREP="CID:<FFFF__=0ABBE548DFE235B58f9e8a93d@coffeebean.com>":
 1er Jornada de Relaciones Laborales\n \nEste evento está dirigido a los Di
 rectores\, Gerentes y Jefes de Gestión del Talento\, a los responsables de
  Relaciones Laborales y de Compensación de las Organizaciones Privadas y P
 úblicas. Además de otros profesionales y especialistas interesados en incr
 ementar conocimientos en estos temas.\nLa Jornada de Relaciones Laborales 
 abordará dos de los temas de mayor relevancia por su impacto en las finanz
 as de las organizaciones y la necesidad de anticipar problemas laborales c
 uyos consecuencias podrían ser realmente graves.\n \nMódulo I: Compensació
 n y beneficios\n\nQué es un esquema de compensación.\nIdentificando oportu
 nidades de compensación en la organización.\n¿Cómo diseñar un esquema de c
 ompensación?\nTratamiento legal de los componentes salariales y no salaria
 les.\nImpacto de la Ley de Fortalecimiento de las Finanzas Públicas en los
  esquemas de compensación.\nPluses salariales en el sector público y sus r
 ecientes reformas.\nTaller: Diseñe un esquema de compensación.\n\n \nMódul
 o II: Mejores prácticas en materia de no discriminación:\n\nDiscriminación
  y RPL.\nUn antes y un después en la realidad costarricense.\nImpacto en l
 a Etapa Precontractual.\nImpacto en la Etapa Contractual.\nImpacto en la T
 erminación de la Relación Laboral.\n¿Cómo evitar reclamos o demandas por d
 iscriminación?\nAfrontando una demanda por discriminación.\n\n \nExpositor
 es:\nM.Sc. Alejandro TrejosLicenciado en Derecho egresado de la Universida
 d de Costa Rica. Autor de la tesis por el grado de licenciatura titulada: 
 “La Cláusula de no Competencia Post Contractual en el Derecho Laboral Cost
 arricense” y de la tesis de maestría: “Publicaciones de los trabajadores e
 n redes sociales\, su aplicación en la etapa precontractual y en la determ
 inación de faltas a nivel interno\, así como medio de prueba en el proceso
  laboral”.Forma parte de la Firma desde 1999\, cuenta con una Maestría en 
 Derecho del Trabajo y Seguridad Social de la Universidad Estatal a Distanc
 ia\, y se ha desempeñado como profesor de la Cátedra de Derecho Laboral de
  la Facultad de Derecho de la Universidad de Costa Rica\, así como profeso
 r de postgrado en ULACIT.Adicionalmente\, cuenta con amplio conocimiento d
 el impacto del uso de la tecnología en el lugar de trabajo.Ha sido reconoc
 ido por Chambers &amp\; Partners como abogado destacado en derecho laboral
  en Costa Rica durante los años 2015\, 2016\, 2017 y 2018\, de igual forma
 \, Best Lawyers le dio el reconocimiento como Abogado del Año 2018 en asun
 tos laborales en Costa Rica.\nM.Sc. José Joaquín AcuñaLicenciado en Derech
 o graduado con Honores de la Facultad de Derecho de la Universidad de Cost
 a Rica. Coautor de la tesis por el grado de licenciatura titulada: “Poder 
 de Dirección y Control con Énfasis en Monitoreo y Vigilancia” la cual fue 
 aprobada con distinción por el tribunal evaluador.Ha trabajado para nuestr
 a Firma desde el año 2005\, y se convirtió en socio en el 2012. Es especia
 lista en Derecho del Trabajo egresado de la Universidad de Salamanca\, Esp
 aña y posee una Maestría en Derecho del Trabajo y Seguridad Social de la U
 niversidad Estatal a Distancia.Es profesor de la Cátedra de Derecho Labora
 l de la Facultad de Derecho de la Universidad de Costa Rica y de la Univer
 sidad Latina de Costa Rica. Se desempeña como profesor del programa de Mae
 stría de Derecho del Trabajo y Seguridad Social de la Universidad Estatal 
 a Distancia. Así mismo\, es miembro de la Comisión de Derecho Laboral del 
 Colegio de Abogados de Costa Rica.Ha sido reconocido por Chambers &amp\; P
 artners como abogado destacado en derecho laboral en Costa Rica durante lo
 s años 2014\, 2015\, 2016\, 2017 y 2018.\nM.Sc. Ronald GutiérrezLicenciado
  en Derecho egresado de la Universidad de Costa Rica. Máster en Derecho de
 l Trabajo y Seguridad Social de la UNED\, con graduación de honor. Autor d
 e la tesis por el grado de licenciatura titulada: “Viabilidad Jurídica de 
 Implementar el Salario Único en las Instituciones Públicas a la luz de la 
 experiencia de los Bancos Públicos Nacionales”. Autor de la tesis de maest
 ría titulada: “Las convenciones colectivas y los incentivos por desempeño 
 en el sector bancario estatal”.Especialista en Derecho Notarial y Registra
 l de la Universidad Escuela Libre de Derecho (graduación de honor).Se dese
 mpeñó como asistente legal de la Oficina de Letrados del Tribunal Supremo 
 Electoral e igualmente fue asistente legal en la Dirección Ejecutiva del I
 nstituto del Café de Costa Rica. Es profesor y coordinador del Programa de
  Derecho Laboral de la Universidad de Costa Rica y ha sido también coordin
 ador del Programa en Derecho Laboral de la Escuela de Administración de Em
 presas del Instituto Tecnológico de Costa Rica. Ha participado en diversos
  adiestramientos sobre temas laborales relacionados con el sector público 
 y privado. Es colaborador de la sección elempleo.com del periódico La Naci
 ón.Forma parte de la Firma desde el 2008 y se convirtió en socio en el 201
 6. Responsable de la práctica de Derecho Laboral Público y Colectivo de nu
 estra Firma.Como socio maneja importantes clientes del sector público y pr
 ivado a nivel de consultoría\, lo que le ha permitido ganarse el reconocim
 iento de personas involucradas en estas organizaciones.\n \nLugar: Hotel R
 adisson\, San José.Fecha: 27 de noviembre 2019Horario: 8:00 a.m. a 4:00 p.
 m.Inversión:    * $250 + 2% de IVA entrada general.   * $200 + 2% de IVA c
 lientes BDS Asesores.\n \nInformación al 2225-1007 o al correo: info@cedes
 o.co.cr
DTSTART:20191127T140000Z
DTEND:20191127T220000Z
GEO:+09.943364;-84.077087
LOCATION:Hotel Radisson\, San José.
ORGANIZER;CN=:info@cedeso.co.cr
SEQUENCE:1
SUMMARY:1era Jornada de Relacionas Laborales
TRANSP:OPAQUE
URL:https://cedeso.co.cr/eventos-anteriores/216-1era-jornada-de-relacionas-
 laborales
END:VEVENT
END:VCALENDAR
