BEGIN:VCALENDAR
VERSION:2.0
PRODID:-//Cedeso//NONSGML kigkonsult.se iCalcreator 2.30.10//
CALSCALE:GREGORIAN
METHOD:PUBLISH
UID:473832c7-e1fc-4699-8712-161b3ff18e07
X-WR-CALNAME:iCagenda
X-WR-CALDESC:Event Management Extension for Joomla!
X-WR-RELCALID:3E26604A-50F4-4449-8B3E-E4F4932D05B5
X-WR-TIMEZONE:America/Costa_Rica
BEGIN:VTIMEZONE
TZID:America/Costa_Rica
BEGIN:STANDARD
TZNAME:CST
DTSTART:20180429T060000
TZOFFSETFROM:+0000
TZOFFSETTO:-0600
END:STANDARD
END:VTIMEZONE
BEGIN:VEVENT
UID:56acf231-975f-4d72-b718-b50e788e4351
DTSTAMP:20260419T142808Z
CATEGORIES:Mejores Prácticas Organizacionales
CLASS:PUBLIC
DESCRIPTION;ALTREP="CID:<FFFF__=0ABBE548DFE235B58f9e8a93d@coffeebean.com>":
 Taller:\nOrientación a la acción: sentido de Urgencia y ¡Ejecución!\nObjet
 ivo orientativo: las y los participantes podrán explicar\, aplicar y aprec
 iar un conjunto integrado de herramientas para apuntar a la ejecución y la
  acción con sentido de urgencia.\nContenidos y actividades:- IAP (Indagaci
 ón Apreciativa en Prioridades): conociendo y fortaleciendo las propias cap
 acidades de acción.- Think thank 6x4: historias de éxito de los propioas p
 articipantes en situaciones límite de estrés\, cambio\, broblemas inespera
 dos y oportunidades exponenciales.- La Gestión del Tiempo como una compete
 ncia: 10 comportamientos del alto desempeño en la competencia y la estrate
 gia óptima para desarrollarlos 7 comportamientos de bajo desempeño y la es
 trategia óptima para combatirlos.- Matriz de prioridades y Caja de Eisenho
 wer- VSO para mantener el enfoque y atacar la procrastinación.- Ejercicio 
 Phillips 6x4: diseñamos nuestro propio artefacto para manejo de prioridade
 s.- De las prioridades individuales a la ejecución colectiva + Obstáculos 
 culturales a la ejecución. + Conducta asertiva en tres: límites\, delegaci
 ón y redes.  + Liderazgo en la ejecución (ágil).- ¿Es bueno manejar priori
 dades? ¡Jah! Ejercicio “reto a los supuestos” y Laboratorio de Inmunidad a
 l cambio (las ganancias secundarias de no manejar prioridades)- Los cuatro
  ejes del Sentido de Urgencia. Autoevaluación de cada participante. ¿Cuál 
 es mi nivel de actuación en prioridades\, promesas\, tenacidad y agilidad?
  ¿Cómo evito caer en la acción irreflexiva-0- Reuniones ágiles: seis regla
 s de conducta en Agile Meetings y comportamientos que frenan o impulsan la
  agilidad.\nFecha: 29 de enero del 2019.Horario: 8:00 a.m. a 5:00 p.m.Dura
 ción: 8 horas.Lugar: Hotel Radisson\, B° Tournón.Inversión: ¢110.000 + 2% 
 de IVA por participanteIncluye: Almuerzo\, refrigerios\, material didáctic
 o y certificado de participación.\nFacilitador: Dr. Enrique Margery  • Doc
 tor en Educación y TEDx speaker.  • Profesor de la Maestría en Psicología 
 del Trabajo en la Universidad de Costa Rica. Profesor invitado de la Unive
 rsidad de Querétaro (UAQ\, México) y la Universidad UAGM (Puerto Rico).  •
  Diseña capacitación para desarrollo de soft skills basado en aprendizaje 
 por la experiencia\, GBL y “reto-aprendizaje”.  • Coach especialista en ci
 encia de la colaboración y manejo de top performers.  • Diseña herramienta
 s para medir el Sentido de Urgencia\, el “termómetro de la colaboración” y
  la rentabilidad de la capacitación\, entre otros.  • Autor de los libros 
 “Complejidad y Competencias”\, “Herramientas de Coaching”\, “El Viaje” (Ed
 itorial Norma\; uno de los primeros libros de psicología positiva publicad
 os) y 'Complejidad\, Transdisciplinariedad y Compentencias'\nTodas nuestra
 s capacitaciones pueden ser impartidas en su organización\nInscripciones e
  Información al e-mail info@cedeso.co.crTel: (506) 2225-1007 · Fax: (506) 
 2253-2774Visite nuestra página www.cedeso.co.crfacebook.com/cedesocostaric
 a
DTSTART:20200129T140000Z
DTEND:20200129T230000Z
GEO:+09.943364;-84.077087
LOCATION:Hotel Radisson\, B° Amón
ORGANIZER;CN=:info@cedeso.co.cr
SEQUENCE:1
SUMMARY:Orientación a la acción: sentido de Urgencia\, ¡Ejecución! y Priori
 dades
TRANSP:OPAQUE
URL:https://cedeso.co.cr/eventos-anteriores/218-orientaci%C3%B3n-a-la-acci%
 C3%B3n-sentido-de-urgencia-y-%C2%A1ejecuci%C3%B3n
END:VEVENT
END:VCALENDAR
