BEGIN:VCALENDAR
VERSION:2.0
PRODID:-//Cedeso//NONSGML kigkonsult.se iCalcreator 2.30.10//
CALSCALE:GREGORIAN
METHOD:PUBLISH
UID:8635114d-c2ab-431c-9f1e-d7a5b52143c6
X-WR-CALNAME:iCagenda
X-WR-CALDESC:Event Management Extension for Joomla!
X-WR-RELCALID:3E26604A-50F4-4449-8B3E-E4F4932D05B5
X-WR-TIMEZONE:America/Costa_Rica
BEGIN:VTIMEZONE
TZID:America/Costa_Rica
BEGIN:STANDARD
TZNAME:CST
DTSTART:20180313T060000
TZOFFSETFROM:+0000
TZOFFSETTO:-0600
END:STANDARD
END:VTIMEZONE
BEGIN:VEVENT
UID:8b8a54b8-5eea-49a8-b3f5-9500c6fe1832
DTSTAMP:20260419T142526Z
CATEGORIES:Mejores Prácticas Organizacionales
CLASS:PUBLIC
DESCRIPTION;ALTREP="CID:<FFFF__=0ABBE548DFE235B58f9e8a93d@coffeebean.com>":
 La función debe continuar\nEntrenamiento en habilidades esenciales para as
 istentes administrativos\, secretarias y personal de apoyo en oficina.\n 
 \nCon la metáfora de circo y una metodología gamificada\, que incorpora ju
 egos y actividades divertidas para favorecer el aprendizaje\, los particip
 antes disfrutarán de una jornada rica en conocimiento y herramientas práct
 icas para mejorar su trabajo cotidiano.\nDirigido a:  \n\nSecretarias.\nAs
 istentes administrativos.\nRecepcionistas.\nPersonal de apoyo de oficina.
 \nAuxiliares.\nPersonal de servicio al cliente.\n\nContenidos:\n\nReconoci
 endo mi estilo preferido de trabajo.\n\n\nIdentificando el estilo de mis j
 efes y del equipo para ayudarlos mejor.\nLa manera de trabajar muy bien co
 n cualquier estilo de trabajo.\nAplicando la inteligencia emocional.\n\n\n
 Administración del tiempo y productividad personal.\n\n\nLas técnicas clás
 icas para ser eficiente ante el volumen de trabajo.\nTips efectivos para f
 abricar tiempo.\nPlan de trabajo diario y manejo de prioridades.\n\n\nCómo
  mejorando mi comunicación e influenciar positivamente a las personas a mi
  alrededor.\n\n\nEl ABC de la comprensión\, cómo asistir en la solución de
  conflictos.\nManejando los pecados de la oficina\; El mal ambiente\, el u
 so desmedido de internet y las redes\, los chismes y rumores y\, la impunt
 ualidad.\nEstrategias para apoyar la resolución de conflictos en temas fin
 ancieros de gestión del trabajo y de relaciones interpersonales.\n\n \nFec
 ha: 13 de diciembre 2019.\nHorario: 8:00 a.m. a 4:00 p.m.\nDuración: 8 hor
 as.\nLugar: Hotel Radisson\, B° Tournón.\nInversión: ¢65.000 + 2% de IVA p
 or participante.\nIncluye: Desayuno\, almuerzo\, refrigerio\, material y c
 ertificado de participación.\n \nFacilitadora:\nLicda. Gina Sequeira\, psi
 cóloga certificada en Business Coaching\, con más de 15 años de experienci
 a en el diseño de procesos de capacitación vinculados al desarrollo de hab
 ilidades blandas y el fortalecimiento de equipos de alto desempeño.\n \nTo
 das nuestras capacitaciones pueden ser impartidas en su organización\n \nI
 nscripciones e información al e-mail info@cedeso.co.cr\nTel: (506) 2225-10
 07 / Fax: (506) 2253-2774\nVisite nuestra página www.cedeso.co.cr\nfaceboo
 k.com/cedesocostarica
DTSTART:20191213T140000Z
DTEND:20191213T230000Z
GEO:+09.943364;-84.077087
LOCATION:Hotel Radisso\, Barrio Tournón
ORGANIZER;CN=:info@cedeso.co.cr
SEQUENCE:1
SUMMARY:La función debe continuar
TRANSP:OPAQUE
URL:https://cedeso.co.cr/eventos-anteriores/219-la-funci%C3%B3n-debe-contin
 uar
END:VEVENT
END:VCALENDAR
