BEGIN:VCALENDAR
VERSION:2.0
PRODID:-//Cedeso//NONSGML kigkonsult.se iCalcreator 2.30.10//
CALSCALE:GREGORIAN
METHOD:PUBLISH
UID:4e6efe91-d504-4948-a11b-3440a6e61940
X-WR-CALNAME:iCagenda
X-WR-CALDESC:Event Management Extension for Joomla!
X-WR-RELCALID:3E26604A-50F4-4449-8B3E-E4F4932D05B5
X-WR-TIMEZONE:America/Costa_Rica
BEGIN:VTIMEZONE
TZID:America/Costa_Rica
BEGIN:STANDARD
TZNAME:CST
DTSTART:20180317T060000
TZOFFSETFROM:+0000
TZOFFSETTO:-0600
END:STANDARD
END:VTIMEZONE
BEGIN:VEVENT
UID:90f0be41-aa60-484f-869d-afb0eedba22b
DTSTAMP:20260419T142928Z
CATEGORIES:Mejores Prácticas Organizacionales
CLASS:PUBLIC
DESCRIPTION;ALTREP="CID:<FFFF__=0ABBE548DFE235B58f9e8a93d@coffeebean.com>":
 Preparándonos para el 2020\nHerramientas para nuevos jefes y supervisores
 \n \nContenidos:\nLas claves para desarrollar el personal\n\nDNC fácil y p
 ráctico.\nDesarrollar fuentes internas.\nEstableciendo las inducciones al 
 puesto.\nEvaluando el impacto.\n\n Gestión de la disciplina\, actualizació
 n Legislación laboral\n\nÉtica y disciplina.\nEvitando los campos minados.
 \nCasos. \n\nManejando un sistema de comunicación\n\nLa estructura formal 
 de comunicación.\nUno a uno.\nInterpretando la comunicación no verbal.\nMa
 nejando personas problemáticas mediante comunicación.\n\n El manejo de la 
 eficiencia\n\nEl papel de las métricas.\nLos estilos de trabajo\, cómo org
 anizar el grupo para hacerlo más eficiente.\nMis prioridades en el 2020\, 
 plan de acción y compromiso personal.\n\n \nFecha: 17 de diciembre del 201
 9.\nHorario: 8:00 a.m. a 4:00 p.m.\nDuración: 8 horas.\nLugar: Hotel Radis
 son\, Barrio Tournón.\nInversión: ¢65.000 + 2% de IVA por participante.\nI
 ncluye: Almuerzo\, refrigerios\, materiales y certificado de participación
 .\n \nFacilitador: Lic. Carlos Solera Umaña Licenciado en administración d
 e negocios\, técnico en seguros. Más de 30 años de experiencia en todos lo
 s subprocesos de Gestión de RRHH\, como responsable de reclutamiento selec
 ciono más de mil personas en los diferentes países de Centroamérica. Ampli
 a experiencia en organizaciones de manufactura\, servicios\, cooperativas 
 y ONG’s. Actual fundador y director de CEDESO.S.A.\n \nTodas nuestras capa
 citaciones pueden ser impartidas en su organización\n \nInscripciones e In
 formación al e-mail info@cedeso.co.cr\nTel: (506) 2225-1007 / Fax: (506) 2
 253-2774\nVisite nuestra página www.cedeso.co.cr\nfacebook.com/cedesocosta
 rica
DTSTART:20191217T140000Z
DTEND:20191217T230000Z
GEO:+09.943364;-84.077087
LOCATION:Hotel Radisson\, Barrio Tournón.
ORGANIZER;CN=:info@cedeso.co.cr
SEQUENCE:1
SUMMARY:Herramientas para nuevos jefes y supervisores
TRANSP:OPAQUE
URL:https://cedeso.co.cr/eventos-anteriores/220-herramientas-para-nuevos-je
 fes-y-supervisores
END:VEVENT
END:VCALENDAR
