BEGIN:VCALENDAR
VERSION:2.0
PRODID:-//Cedeso//NONSGML kigkonsult.se iCalcreator 2.30.10//
CALSCALE:GREGORIAN
METHOD:PUBLISH
UID:c21a46fb-24c4-49d8-9f86-6aa49e7f93c1
X-WR-CALNAME:iCagenda
X-WR-CALDESC:Event Management Extension for Joomla!
X-WR-RELCALID:3E26604A-50F4-4449-8B3E-E4F4932D05B5
X-WR-TIMEZONE:America/Costa_Rica
BEGIN:VTIMEZONE
TZID:America/Costa_Rica
BEGIN:STANDARD
TZNAME:CST
DTSTART:20180429T060000
TZOFFSETFROM:+0000
TZOFFSETTO:-0600
END:STANDARD
END:VTIMEZONE
BEGIN:VEVENT
UID:06d3677c-927d-4804-9f4a-f6ef8c2cf707
DTSTAMP:20260419T142900Z
CATEGORIES:Mejores Prácticas Organizacionales
CLASS:PUBLIC
DESCRIPTION;ALTREP="CID:<FFFF__=0ABBE548DFE235B58f9e8a93d@coffeebean.com>":
 Taller:\nOrientación a la acción: Sentido de urgencia\, ¡ejecución! y prio
 ridades\nObjetivo orientativo: las y los participantes podrán explicar\, a
 plicar y apreciar un conjunto integrado de herramientas para apuntar a la 
 ejecución y la acción con sentido de urgencia.\nContenidos y actividades:-
  IAP (Indagación Apreciativa en Prioridades): conociendo y fortaleciendo l
 as propias capacidades de acción.- Think thank 6x4: historias de éxito de 
 los propioas participantes en situaciones límite de estrés\, cambio\, brob
 lemas inesperados y oportunidades exponenciales.- La Gestión del Tiempo co
 mo una competencia: 10 comportamientos del alto desempeño en la competenci
 a y la estrategia óptima para desarrollarlos 7 comportamientos de bajo des
 empeño y la estrategia óptima para combatirlos.- Matriz de prioridades y C
 aja de Eisenhower- VSO para mantener el enfoque y atacar la procrastinació
 n.- Ejercicio Phillips 6x4: diseñamos nuestro propio artefacto para manejo
  de prioridades.- De las prioridades individuales a la ejecución colectiva
  + Obstáculos culturales a la ejecución. + Conducta asertiva en tres: lími
 tes\, delegación y redes.  + Liderazgo en la ejecución (ágil).- ¿Es bueno 
 manejar prioridades? ¡Jah! Ejercicio “reto a los supuestos” y Laboratorio 
 de Inmunidad al cambio (las ganancias secundarias de no manejar prioridade
 s)- Los cuatro ejes del Sentido de Urgencia. Autoevaluación de cada partic
 ipante. ¿Cuál es mi nivel de actuación en prioridades\, promesas\, tenacid
 ad y agilidad? ¿Cómo evito caer en la acción irreflexiva-0- Reuniones ágil
 es: seis reglas de conducta en Agile Meetings y comportamientos que frenan
  o impulsan la agilidad.\nFecha: 29 de enero del 2020.Horario: 8:00 a.m. a
  5:00 p.m.Duración: 8 horas.Lugar: Hotel Radisson\, B° Tournón.Inversión: 
 ¢110.000 + 2% de IVA por participanteIncluye: Almuerzo\, refrigerios\, mat
 erial didáctico y certificado de participación.\nFacilitador: Dr. Enrique 
 Margery• Doctor en Educación y TEDx speaker.• Profesor de la Maestría en P
 sicología del Trabajo en la Universidad de Costa Rica. Profesor invitado d
 e la Universidad de Querétaro (UAQ\, México) y la Universidad UAGM (Puerto
  Rico).• Diseña capacitación para desarrollo de soft skills basado en apre
 ndizaje por la experiencia\, GBL y “reto-aprendizaje”.• Coach especialista
  en ciencia de la colaboración y manejo de top performers.• Diseña herrami
 entas para medir el Sentido de Urgencia\, el “termómetro de la colaboració
 n” y la rentabilidad de la capacitación\, entre otros.• Autor de los libro
 s “Complejidad y Competencias”\, “Herramientas de Coaching”\, “El Viaje” (
 Editorial Norma\; uno de los primeros libros de psicología positiva public
 ados) y 'Complejidad\, Transdisciplinariedad y Compentencias'\nTodas nuest
 ras capacitaciones pueden ser impartidas en su organización\nInscripciones
  e Información al e-mail info@cedeso.co.crTel: (506) 2225-1007 · Fax: (506
 ) 2253-2774Visite nuestra página www.cedeso.co.crfacebook.com/cedesocostar
 ica
DTSTART:20200129T140000Z
DTEND:20200129T230000Z
GEO:+09.943364;-84.077087
LOCATION:Hotel Radisson\, B° Tournón.
ORGANIZER;CN=:info@cedeso.co.cr
SEQUENCE:1
SUMMARY:Orientación a la acción
TRANSP:OPAQUE
URL:https://cedeso.co.cr/eventos-anteriores/222-administraci%C3%B3n-del-tie
 mpo-y-gesti%C3%B3n-de-prioridade
END:VEVENT
END:VCALENDAR
