BEGIN:VCALENDAR
VERSION:2.0
PRODID:-//Cedeso//NONSGML kigkonsult.se iCalcreator 2.30.10//
CALSCALE:GREGORIAN
METHOD:PUBLISH
UID:ecac7ce4-a726-497c-84ae-f19491d9eded
X-WR-CALNAME:iCagenda
X-WR-CALDESC:Event Management Extension for Joomla!
X-WR-RELCALID:3E26604A-50F4-4449-8B3E-E4F4932D05B5
X-WR-TIMEZONE:America/Costa_Rica
BEGIN:VTIMEZONE
TZID:America/Costa_Rica
BEGIN:STANDARD
TZNAME:CST
DTSTART:20180520T060000
TZOFFSETFROM:+0000
TZOFFSETTO:-0600
END:STANDARD
END:VTIMEZONE
BEGIN:VEVENT
UID:d6b6991c-2ed4-4455-87cc-3c8ac1b67cc1
DTSTAMP:20260419T142929Z
CATEGORIES:Mejores Prácticas Organizacionales
CLASS:PUBLIC
DESCRIPTION;ALTREP="CID:<FFFF__=0ABBE548DFE235B58f9e8a93d@coffeebean.com>":
 Taller:\nTendencias innovadoras en el servicio al cliente\nInnovación y co
 mpromiso para crear fidelización\nContenidos:Expectativas del cliente actu
 al en el ciclo de consumo.Tipos de clientes y sus respectivas estrategias 
 de atención para brindar un servicio de calidad.Calidad de la atención mul
 ticanal: manejo de medios digitales en el servicio al cliente (aplicacione
 s\, chat\, correo electrónico\, entre otros).Inteligencia emocional aplica
 da al servicio al cliente.El impacto de la comunicación en la fidelización
  de clientes.Manejo de clientes difíciles y Resolución de problemas en el 
 servicio al cliente.Autocuidado de los responsables de puntos de contacto 
 con el cliente.\nObjetivo:Al finalizar este taller la persona podrá compre
 nder las necesidades actuales de los diferentes tipos de clientes\, contar
 á con herramientas para satisfacerlas en tiempo real y estará en capacidad
  de aplicar estrategias innovadoras en la interacción presencial y digital
  con sus clientes.\nFecha: 19 de febrero del 2020.Horario: 8:00 a.m. a 5:0
 0 p.m.Duración: 8 horas.Lugar: Hotel Radisson\, B° Tournón.Inversión: ¢110
 .000 + 2% IVA por participante.Incluye: Almuerzo\, refrigerios\, material 
 didáctico y certificado de participación.\nFacilitadora: Licda. Gina Seque
 ira\, psicóloga certificada en Business Coaching\, con más de 15 años de e
 xperiencia en el diseño de procesos de capacitación vinculados al desarrol
 lo de habilidades blandas y el fortalecimiento de equipos de alto desempeñ
 o.\nTodas nuestras capacitaciones pueden ser impartidas en su organización
 .\nInscripciones e Información al e-mail info@cedeso.co.crTel: (506) 2225-
 1007 Fax: (506) 2253-2774Visite nuestra página www.cedeso.co.crfacebook.co
 m/cedesocostarica\n \n 
DTSTART:20200219T140000Z
DTEND:20200219T230000Z
GEO:+09.943364;-84.077087
LOCATION:Hotel Radisson\, B° Tournón.
ORGANIZER;CN=:info@cedeso.co.cr
SEQUENCE:1
SUMMARY:Tendencias innovadoras en el servicio al cliente
TRANSP:OPAQUE
URL:https://cedeso.co.cr/eventos-anteriores/234-tendencias-innovadoras-en-e
 l-servicio-al-cliente
END:VEVENT
END:VCALENDAR
