BEGIN:VCALENDAR
VERSION:2.0
PRODID:-//Cedeso//NONSGML kigkonsult.se iCalcreator 2.30.10//
CALSCALE:GREGORIAN
METHOD:PUBLISH
UID:94bff20d-c208-4888-b6a3-a006fe7e0bfc
X-WR-CALNAME:iCagenda
X-WR-CALDESC:Event Management Extension for Joomla!
X-WR-RELCALID:3E26604A-50F4-4449-8B3E-E4F4932D05B5
X-WR-TIMEZONE:America/Costa_Rica
BEGIN:VTIMEZONE
TZID:America/Costa_Rica
BEGIN:STANDARD
TZNAME:CST
DTSTART:20180519T060000
TZOFFSETFROM:+0000
TZOFFSETTO:-0600
END:STANDARD
END:VTIMEZONE
BEGIN:VEVENT
UID:b06bb9c3-f263-45b6-9eb4-2f779f80f82b
DTSTAMP:20260419T142437Z
CATEGORIES:Mejores Prácticas Organizacionales
CLASS:PUBLIC
DESCRIPTION;ALTREP="CID:<FFFF__=0ABBE548DFE235B58f9e8a93d@coffeebean.com>":
 Taller:\nLos componentes de la comprensión\n¿Cómo puedo hablarle a la gent
 e y saber lo que piensan?\, para tener mejores relaciones en la vida y el 
 trabajo.\nContenidos:1. Los tres factores de la comprensión2. Cómo utiliza
 r el Triángulo de la comprensión.3. Manera de mejorar las relaciones con t
 odo tipo de personas.4. Lograr evitar los errores que conducen a mala rela
 ción.\nFecha: 18 de febrero del 2020.Horario: 8:00 a.m. a 12:00 m.d.Duraci
 ón: 4 horas.Lugar: Hotel Radisson\, B° Tournón.Inversión: ¢75.000 + 2% de 
 IVA por participante.Incluye: Desayuno\, material didáctico y certificado 
 de participación.\nFacilitador: Dr. Gustavo Carballo Parini.Médico General
  Universidad de Ciencias Médicas de Costa Rica. Formación Pedagógica de la
  Enseñanza en Francia por L’ Académie de Lyon. Estudios en administración\
 , organización\, manejo y reclutamiento de personal. 12 años de estudios y
  experiencia en comportamiento humano y su manejo a nivel personal y organ
 izacional. Miembro fundador de How Admin Tech. Idiomas Inglés Francés (DAL
 F)\, Italiano (Dante Alighieri).\nTodas nuestras capacitaciones pueden ser
  impartidas en su organización\nInscripciones e Información al e-mail info
 @cedeso.co.crTel: (506) 2225-1007 · Fax: (506) 2253-2774Visite nuestra pág
 ina www.cedeso.co.crfacebook.com/cedesocostarica
DTSTART:20200218T140000Z
DTEND:20200218T180000Z
GEO:+09.943364;-84.077087
LOCATION:Hotel Radisson\, B° Tournón.
ORGANIZER;CN=:info@cedeso.co.cr
SEQUENCE:1
SUMMARY:Los componentes de la comprensión
TRANSP:OPAQUE
URL:https://cedeso.co.cr/eventos-anteriores/236-los-componentes-de-la-compr
 ensi%C3%B3n
END:VEVENT
END:VCALENDAR
