BEGIN:VCALENDAR
VERSION:2.0
PRODID:-//Cedeso//NONSGML kigkonsult.se iCalcreator 2.30.10//
CALSCALE:GREGORIAN
METHOD:PUBLISH
UID:c2b3a7b5-454c-4807-a368-2a8bf93934c8
X-WR-CALNAME:iCagenda
X-WR-CALDESC:Event Management Extension for Joomla!
X-WR-RELCALID:3E26604A-50F4-4449-8B3E-E4F4932D05B5
X-WR-TIMEZONE:America/Costa_Rica
BEGIN:VTIMEZONE
TZID:America/Costa_Rica
BEGIN:STANDARD
TZNAME:CST
DTSTART:20180522T060000
TZOFFSETFROM:+0000
TZOFFSETTO:-0600
END:STANDARD
END:VTIMEZONE
BEGIN:VEVENT
UID:894fd1fc-0385-4a96-8f01-7f7db3997d19
DTSTAMP:20260419T142800Z
CATEGORIES:Mejores Prácticas Organizacionales
CLASS:PUBLIC
DESCRIPTION;ALTREP="CID:<FFFF__=0ABBE548DFE235B58f9e8a93d@coffeebean.com>":
 Taller:\nCómo incrementar su habilidad para trabajar eficientemente\nApren
 der herramientas sencillas pero poderosas para mejorar la eficiencia perso
 nal\nContenidos:1. Cómo manejar la confusión en el lugar de trabajo.2. Alc
 anzar y retirarse.3. Cómo manejar el agotamiento en el mundo del trabajo.4
 . La importancia del trabajo.\nFecha: 21 de febrero del 2020.Horario: 8:00
  a.m. a 12:00 m.d.Duración: 4 horas.Lugar: Hotel Radisson\, B° Tournón.Inv
 ersión: ¢75.000 + 2% de IVA por participante.Incluye: Desayuno\, material 
 didáctico y certificado de participación.\nFacilitador: Dr. Gustavo Carbal
 lo PariniMédico General Universidad de Ciencias Médicas de Costa Rica. For
 mación Pedagógica de la Enseñanza en Francia por L’ Académie de Lyon. Estu
 dios en administración\, organización\, manejo y reclutamiento de personal
 . 12 años de estudios y experiencia en comportamiento humano y su manejo a
  nivel personal y organizacional. Miembro fundador de How Admin Tech. Idio
 mas Inglés Francés (DALF)\, Italiano (Dante Alighieri).\nTodas nuestras ca
 pacitaciones pueden ser impartidas en su organización\nInscripciones e Inf
 ormación al e-mail info@cedeso.co.crTel: (506) 2225-1007 · Fax: (506) 2253
 -2774Visite nuestra página www.cedeso.co.crfacebook.com/cedesocostarica
DTSTART:20200221T140000Z
DTEND:20200221T180000Z
GEO:+09.943364;-84.077087
LOCATION:Hotel Radisson\, B° Tournón.
ORGANIZER;CN=:info@cedeso.co.cr
SEQUENCE:1
SUMMARY:Cómo incrementar su habilidad para trabajar eficientemente
TRANSP:OPAQUE
URL:https://cedeso.co.cr/eventos-anteriores/237-c%C3%B3mo-incrementar-su-ha
 bilidad-para-trabajar-eficientemente
END:VEVENT
END:VCALENDAR
