BEGIN:VCALENDAR
VERSION:2.0
PRODID:-//Cedeso//NONSGML kigkonsult.se iCalcreator 2.30.10//
CALSCALE:GREGORIAN
METHOD:PUBLISH
UID:ab81fb90-0a80-4bf8-acc3-660452444834
X-WR-CALNAME:iCagenda
X-WR-CALDESC:Event Management Extension for Joomla!
X-WR-RELCALID:3E26604A-50F4-4449-8B3E-E4F4932D05B5
X-WR-TIMEZONE:America/Costa_Rica
BEGIN:VTIMEZONE
TZID:America/Costa_Rica
BEGIN:STANDARD
TZNAME:CST
DTSTART:20180611T060000
TZOFFSETFROM:+0000
TZOFFSETTO:-0600
END:STANDARD
END:VTIMEZONE
BEGIN:VEVENT
UID:4d87d6f2-5e7d-46d1-b0e9-f472feaa1aa5
DTSTAMP:20260419T154715Z
CATEGORIES:Ventas
CLASS:PUBLIC
DESCRIPTION;ALTREP="CID:<FFFF__=0ABBE548DFE235B58f9e8a93d@coffeebean.com>":
 Taller:\nTécnicas de Negociación Efectiva\n \nContenidos: - Fundamentos - 
 Lo que se ve y no se ve…. Percepciones dentro de la negociación. Ejercicio
  práctico. - Niveles de conflicto - Conductas frente al conflicto. - ¿Qué 
 es una negociación? - Caso práctico. - Condiciones básicas para una negoci
 ación - Preparación de la negociación y propuesta - Tácticas de negociació
 n - Ejercicio práctico.\nFecha: 12 de marzo del 2020.Horario: 8:00 a.m. a 
 12:00 m.d.Duración: 4 horas.Lugar: Hotel Radisson\, B° Tournón.Inversión: 
 ¢75.000 + 2% de IVA por participanteIncluye: Desayuno\, material didáctico
  y certificado de participación.\nFacilitador: David Rodríguez. Administra
 dor de empresas\, con especialidad en comportamiento humano en México y en
  California. Ha laborado en Recursos Humanos en Florida y durante los últi
 mos 9 años se ha desempeñado como Gerente de Ventas Internacionales en una
  empresa costarricense. Ha dictado conferencias\, cursos\, capacitaciones 
 y realizado asesorías en Estados Unidos\, Guatemala\, El Salvador\, Nicara
 gua\, Panamá\, Ecuador\, y otros países de Sur América y el Caribe. Autor 
 del libro 'La ingeniería de vender'.\nTodas nuestras capacitaciones pueden
  ser impartidas en su organización\nInscripciones e Información al e-mail 
 info@cedeso.co.crTel: (506) 2225-1007 · Fax: (506) 2253-2774Visite nuestra
  página www.cedeso.co.crfacebook.com/cedesocostarica
DTSTART:20200312T140000Z
DTEND:20200312T180000Z
GEO:+09.943364;-84.077087
LOCATION:Hotel Radisson\, B° Tournón.
ORGANIZER;CN=:info@cedeso.co.cr
SEQUENCE:1
SUMMARY:Técnicas de Negociación Efectiva
TRANSP:OPAQUE
URL:https://cedeso.co.cr/eventos-anteriores/247-t%C3%A9cnicas-de-negociaci%
 C3%B3n-efectiva
END:VEVENT
END:VCALENDAR
