BEGIN:VCALENDAR
VERSION:2.0
PRODID:-//Cedeso//NONSGML kigkonsult.se iCalcreator 2.30.10//
CALSCALE:GREGORIAN
METHOD:PUBLISH
UID:1da99d9a-75d5-44b2-a134-88be6f3c325a
X-WR-CALNAME:iCagenda
X-WR-CALDESC:Event Management Extension for Joomla!
X-WR-RELCALID:3E26604A-50F4-4449-8B3E-E4F4932D05B5
X-WR-TIMEZONE:America/Costa_Rica
BEGIN:VTIMEZONE
TZID:America/Costa_Rica
BEGIN:STANDARD
TZNAME:CST
DTSTART:20180617T060000
TZOFFSETFROM:+0000
TZOFFSETTO:-0600
END:STANDARD
END:VTIMEZONE
BEGIN:VEVENT
UID:8e212c74-a157-497d-b138-99fd6dffa93c
DTSTAMP:20260419T160732Z
CATEGORIES:Mejores Prácticas Organizacionales
CLASS:PUBLIC
DESCRIPTION;ALTREP="CID:<FFFF__=0ABBE548DFE235B58f9e8a93d@coffeebean.com>":
 Taller:\nLiderazgo inclusivo\nEl reto de liderar equipos inclusivos y acab
 ar con la discriminación en el trabajo\nDirigido a: Personal de Recursos H
 umanos\, Gerentes\, jefaturas\, supervisores\, líderes de equipos de traba
 jo\, responsables de procesos de clima y cultura organizacional.\nObjetivo
  general:Al finalizar este taller el participante estará en condiciones de
 : • Comprender la importancia del líder en la gestión de la diversidad y l
 a inclusión en el entorno laboral • Identificar posibles fuentes de discri
 minación en el entorno laboral • Entrenarse en técnicas para garantizar la
  inclusión y prevenir la discriminación • Comprender los procedimientos qu
 e deben seguirse a nivel interno en caso de presentarse un caso de discrim
 inación en sus equipos de trabajo\nContenidos: • ¿Qué se entiende por lide
 razgo inclusivo? • El papel del líder en la gestión de la diversidad • ¿Po
 r qué es importante hablar de inclusión en el ejercicio del liderazgo? • E
 jercicio práctico para identificar factores de riesgo y factores de protec
 ción en la empresa relacionados con la inclusión y posibles focos de discr
 iminación • Los estereotipos del líder: ¿Cómo gestionarlos? • Tipos de dis
 criminación a la luz de la Reforma Procesal Laboral • Inclusión de persona
 s con discapacidad al entorno laboral • Estrategias prácticas para ejercer
  un liderazgo inclusivo y potenciar las fortalezas de los equipos diversos
  • El reto de liderar equipos diversos (multigeneracionales\, diversidad d
 e género\, cultura\, etc)\nFecha: 18 de marzo del 2020.Horario: 8:00 a.m. 
 a 5:00 p.m.Duración: 8 horas.Lugar: Hotel Radisson\, B° Tournón.Inversión:
  ¢110.000 + 2% de IVA por participante.Incluye: Almuerzo\, refrigerios\, m
 aterial didáctico y certificado de participación.\nFacilitadora: Licda. Gi
 na Sequeira\, psicóloga certificada en Business Coaching\, con más de 15 a
 ños de experiencia en el diseño de procesos de capacitación vinculados al 
 desarrollo de habilidades blandas y el fortalecimiento de equipos de alto 
 desempeño.\nTodas nuestras capacitaciones pueden ser impartidas en su orga
 nización.\nInscripciones e Información al e-mail info@cedeso.co.crTel: (50
 6) 2225-1007 Fax: (506) 2253-2774Visite nuestra página www.cedeso.co.crfac
 ebook.com/cedesocostarica
DTSTART:20200318T140000Z
DTEND:20200318T230000Z
GEO:+09.943364;-84.077087
LOCATION:Hotel Radisson\, B° Tournón.
ORGANIZER;CN=:info@cedeso.co.cr
SEQUENCE:1
SUMMARY:Liderazgo inclusivo
TRANSP:OPAQUE
URL:https://cedeso.co.cr/eventos-anteriores/249-liderazgo-inclusivo
END:VEVENT
END:VCALENDAR
