BEGIN:VCALENDAR
VERSION:2.0
PRODID:-//Cedeso//NONSGML kigkonsult.se iCalcreator 2.30.10//
CALSCALE:GREGORIAN
METHOD:PUBLISH
UID:130a54ae-688a-4d98-946d-174ed2ac86c8
X-WR-CALNAME:iCagenda
X-WR-CALDESC:Event Management Extension for Joomla!
X-WR-RELCALID:3E26604A-50F4-4449-8B3E-E4F4932D05B5
X-WR-TIMEZONE:America/Costa_Rica
BEGIN:VTIMEZONE
TZID:America/Costa_Rica
BEGIN:STANDARD
TZNAME:CST
DTSTART:20180629T060000
TZOFFSETFROM:+0000
TZOFFSETTO:-0600
END:STANDARD
END:VTIMEZONE
BEGIN:VEVENT
UID:f71c2166-bccf-4424-9312-a4f0b6dee179
DTSTAMP:20260419T160934Z
CATEGORIES:Compensaciones y beneficios
CLASS:PUBLIC
DESCRIPTION;ALTREP="CID:<FFFF__=0ABBE548DFE235B58f9e8a93d@coffeebean.com>":
 Taller:\n¿Hablando se entiende la gente?\nEntrenamiento práctico en Comuni
 cación Asertiva\nDirigido a: Colaboradores de Recursos Humanos\, Gerentes\
 , jefaturas\, supervisores\, líderes de equipos de trabajo. En general\, c
 ualquier persona que desee identificar su estilo de comunicación y entrena
 rse en habilidades de comunicación y escucha efectiva como base para estab
 lecer relaciones personales sanas y respetuosas a nivel personal y laboral
 .\nObjetivo general: Al finalizar este taller el participante estará en co
 ndiciones de autoevaluar el grado de eficacia en su estilo de comunicación
  predominante\, así como entrenarse en técnicas de comunicación y escucha 
 efectiva\, pudiendo aplicar cambios inmediatos en la forma de transmitir y
  recibir mensajes en las relaciones que establece a nivel personal y labor
 al.\nContenidos: • ¿Qué es y cómo se implementa la comunicación asertiva? 
 • Auto evaluación de la eficacia en la comunicación. • La comunicación más
  allá de las palabras. • Venciendo las barreras entre el que escucha y el 
 que habla. • Estrategias para lograr una escucha activa y eficaz. • Estrat
 egias para favorecer que el otro le escuche de manera efectiva. • Resoluci
 ón de conflictos a través de una escucha eficaz y una comunicación asertiv
 a. • El arte de dar retroalimentación.\nFecha: 30 de marzo del 2020.Horari
 o: 8:00 a.m. a 5:00 p.m.Duración: 8 horas.Lugar: Hotel Radisson\, B° Tourn
 ón.Inversión: ¢110.000 + 2% IVA por participante.Incluye: Almuerzo\, refri
 gerios\, material didáctico y certificado de participación.\nFacilitadora:
  Licda. Gina Sequeira\, psicóloga certificada en Business Coaching\, con m
 ás de 15 años de experiencia en el diseño de procesos de capacitación vinc
 ulados al desarrollo de habilidades blandas y el fortalecimiento de equipo
 s de alto desempeño.\nTodas nuestras capacitaciones pueden ser impartidas 
 en su organización.\nInscripciones e Información al e-mail info@cedeso.co.
 crTel: (506) 2225-1007 Fax: (506) 2253-2774Visite nuestra página www.cedes
 o.co.crfacebook.com/cedesocostarica
DTSTART:20200330T140000Z
DTEND:20200330T230000Z
GEO:+09.943364;-84.077087
LOCATION:Hotel Radisson\, B° Tournón.
ORGANIZER;CN=:info@cedeso.co.cr
SEQUENCE:1
SUMMARY:¿Hablando se entiende la gente?
TRANSP:OPAQUE
URL:https://cedeso.co.cr/eventos-anteriores/250-%C2%BFhablando-se-entiende-
 la-gente
END:VEVENT
END:VCALENDAR
