BEGIN:VCALENDAR
VERSION:2.0
PRODID:-//Cedeso//NONSGML kigkonsult.se iCalcreator 2.30.10//
CALSCALE:GREGORIAN
METHOD:PUBLISH
UID:f34fd638-e56b-4fef-85fe-6d9ac4cd571d
X-WR-CALNAME:iCagenda
X-WR-CALDESC:Event Management Extension for Joomla!
X-WR-RELCALID:3E26604A-50F4-4449-8B3E-E4F4932D05B5
X-WR-TIMEZONE:America/Costa_Rica
BEGIN:VTIMEZONE
TZID:America/Costa_Rica
BEGIN:STANDARD
TZNAME:CST
DTSTART:20180624T060000
TZOFFSETFROM:+0000
TZOFFSETTO:-0600
END:STANDARD
END:VTIMEZONE
BEGIN:VEVENT
UID:d99784e7-0304-4cea-bd7e-01c0170485d9
DTSTAMP:20260419T160007Z
CATEGORIES:Mejores Prácticas Organizacionales
CLASS:PUBLIC
DESCRIPTION;ALTREP="CID:<FFFF__=0ABBE548DFE235B58f9e8a93d@coffeebean.com>":
 CURSO BÁSICO\nEL ABC DE LA FORMULACIÓN Y EVALUACIÓN DE PROYECTOS:\nLO QUE 
 USTED DEBE SABER PARA ENTENDER LA IMPORTANCIA \nDE LA LÓGICA EN LOS PROYEC
 TOS DE INVERSIÓN\n \n¿Necesita usted saber por qué es importante el manejo
  de proyectos en la actualidad?\n¿Está usted preparado para comprender por
  qué los proyectos nos sirven para tomar las decisiones inteligentes que s
 e requieren en un mundo competitivo como el de hoy?\n \n \nFecha: 25 y 26 
 de marzo 2020.\nHorario: 8:00 a.m. a 5:00 p.m.\nDuración: 16 horas.\nLugar
 : Hotel Radisson\, B° Tournón.\nInversión: ¢220.000 + 2% de IVA por partic
 ipante.\nIncluye: Almuerzos\, refrigerios\, material y certificado de part
 icipación.\n \nDirigido a: Profesionales\, empresarios (micros\, medianos 
 y pequeños)\, gerentes\, profesionales independientes\, funcionarios vincu
 lados a la toma de decisiones en el área de inversión pública y/o privada\
 , auditoría\, finanzas\, proveeduría\, así como personas emprendedoras des
 eosas e interesados en conocer el amplio mundo de los proyectos y que dese
 en poseer los conocimientos generales en esta materia.\n \nObjetivo: Brind
 ar a los participantes los conocimientos básicos para conocer la dinámica 
 y metodología de proyectos\, a fin de entender en que consiste el Ciclo de
  Vida de un proyecto\, sus diferentes etapas y el proceso de formulación y
  evaluación de un Proyecto de Inversión.\n \nContenido del curso:\n\nObjet
 ivos\nElementos conceptualesImportancia de la inversión pública/privada\nE
 l ciclo vida de un proyecto\n\nEtapa de preinversión\nEtapa de promoción y
  negociación\nEtapa de un proyecto de inversión\nEtapa de operación\, mant
 enimiento y cierre\n\n\n\n \n\nTipos de proyectos en el ciclo de vida\nLa 
 etapa de la preinversión\n\nEl proceso de planificación/formulación\n\nIde
 ntificación de proyecto\nEstudio de mercado\nEstudio técnico\, legal\, adm
 inistrativo\, organizacional\n\n\nEl proceso de evaluación\n\nEvaluación f
 inanciera\nEvaluación económica y social\nEvaluación de impacto ambiental
 \n\n\n\n\n\n \n \nExpositor:\nFremi Mejía Canelo:  Ingeniero Civil y Máste
 r en Construcciones Hidrotécnicas de la Universidad Amistad de los Pueblo 
 de Moscú\, Rusia\, posee estudios de Maestría en Política Económica con   
 énfasis   en Sector Externo de la Universidad Nacional de Costa Rica. Es c
 andidato a Doctor en Gestión Pública y Ciencias Empresariales del Institut
 o Centroamericano de Administración Pública (ICAP). Posgrado en proyectos 
 de desarrollo en el ICAP. Cuenta con más de 3 décadas de experiencia en el
  ICAP\, como Docente y Consultor en Gerencia de Proyectos de Desarrollo\, 
 Coordinador del área de Gestión de Políticas y Negociaciones Internacional
 es\, además\, Coordinador de Asistencia Técnica. Actualmente Profesor del 
 Programa de Posgrado en Proyectos de la Facultad de Ciencias Sociales de l
 a UCR.
DTSTART:20200325T140000Z
DTEND:20200326T230000Z
GEO:+09.943364;-84.077087
LOCATION:Hotel Radisson\, B° Tournón.
ORGANIZER;CN=:info@cedeso.co.cr
SEQUENCE:1
SUMMARY:El ABC de la formulación y evaluación de proyectos
TRANSP:OPAQUE
URL:https://cedeso.co.cr/eventos-anteriores/252-el-abc-de-la-formulaci%C3%B
 3n-y-evaluaci%C3%B3n-de-proyectos
END:VEVENT
END:VCALENDAR
