BEGIN:VCALENDAR
VERSION:2.0
PRODID:-//Cedeso//NONSGML kigkonsult.se iCalcreator 2.30.10//
CALSCALE:GREGORIAN
METHOD:PUBLISH
UID:e67b055b-442a-4970-b9a5-090f5eab0d7e
X-WR-CALNAME:iCagenda
X-WR-CALDESC:Event Management Extension for Joomla!
X-WR-RELCALID:3E26604A-50F4-4449-8B3E-E4F4932D05B5
X-WR-TIMEZONE:America/Costa_Rica
BEGIN:VTIMEZONE
TZID:America/Costa_Rica
BEGIN:STANDARD
TZNAME:CST
DTSTART:20180728T060000
TZOFFSETFROM:+0000
TZOFFSETTO:-0600
END:STANDARD
END:VTIMEZONE
BEGIN:VEVENT
UID:6d47441b-f9f0-46a1-848c-175651a4f809
DTSTAMP:20260419T160302Z
CATEGORIES:Operaciones
CLASS:PUBLIC
DESCRIPTION;ALTREP="CID:<FFFF__=0ABBE548DFE235B58f9e8a93d@coffeebean.com>":
 Taller Internacional:\nAplicación de las 9s en el manejo óptimo de bodegas
 \nObjetivo:Capacitar a los participantes en técnicas avanzadas para la mej
 ora en la gestión de bodegas.\nDirigido a:A personal supervisorio u operat
 ivo de bodegas\, personal responsable de operaciones logísticas.\nQue obte
 ndrá al final del seminario1. Entenderá la esencia y objetivos del manejo 
 de bodegas.2. Identificara cuales áreas debe gestionar en una bodega con a
 lta efectividad.3. Aprenderá técnicas para operar o supervisar a quienes o
 peren en una bodega.4. Cambiará la posición actitudinal hacia la operación
 .\nContenidos:\nTema 1Conceptos en almacenajeObjetivos\, estrategias y tác
 ticas en almacenaje\nTema 2\nRelación con las cosasSeiri - clasificaciónSe
 iton - OrganizaciónSeiso - Limpieza\nRelación con usted mismoSeiketzu - Bi
 enestar personalShitzuke - DisciplinaShikari - ConstanciaShitsokoku - Comp
 romiso\nRelación con la organizaciónSeishoo - CoordinaciónSeido - Estandar
 ización\nMetodología:\nTomando en cuenta que se trata de un conjunto de co
 mpetencias específicas el seminario será dictado utilizando técnicas de co
 mprensión de conocimientos\, auto revelación de actitudes de los participa
 ntes\, ejemplos genéricos y aplicación en casos relativos a bodegas.\nEntr
 egable:\nListas de chequeo para la aplicación práctica de las técnicas en 
 el trabajo cotidiano.\nFecha: 28 de abril del 2020.Horario: 8:00 a.m. a 5:
 00 p.m.Duración: 8 horas.Lugar: Hotel Radisson\, B° Tournón.Inversión: ¢11
 0.000 + 2% de IVA por participante.Incluye: Almuerzo\, refrigerios\, mater
 ial didáctico y certificado de participación.\nFacilitador: Ing. Víctor Le
 ón\, Mg.- Ingeniero Industrial con estudios de Postgrado en Ingeniería Ind
 ustrial\, Gerencia de RRHH y Dinámica de Grupos.- Experiencia en las áreas
  de Distribución\, Atención al Cliente y Planificación de la Producción\, 
 Manejo de Inventarios\, Almacenes\, Costos y Elaboración de Proyectos de I
 nversión.- Capacitador en áreas gerenciales y técnicas\, con 20 años de ex
 periencia.\nTodas nuestras capacitaciones pueden ser impartidas en su orga
 nización\nInscripciones e Información al e-mail info@cedeso.co.crTel: (506
 ) 2225-1007 Fax: (506) 2253-2774Visite nuestra página www.cedeso.co.crface
 book.com/cedesocostarica
DTSTART:20200428T140000Z
DTEND:20200428T230000Z
GEO:+09.943364;-84.077087
LOCATION:Hotel Radisson\, B° Tournón.
ORGANIZER;CN=:info@cedeso.co.cr
SEQUENCE:1
SUMMARY:Aplicación de las 9s en el manejo óptimo de bodegas
TRANSP:OPAQUE
URL:https://cedeso.co.cr/eventos-anteriores/254-aplicaci%C3%B3n-de-las-9s-e
 n-el-manejo-%C3%B3ptimo-de-bodegas
END:VEVENT
END:VCALENDAR
