BEGIN:VCALENDAR
VERSION:2.0
PRODID:-//Cedeso//NONSGML kigkonsult.se iCalcreator 2.30.10//
CALSCALE:GREGORIAN
METHOD:PUBLISH
UID:ce41941f-80dd-44b3-ae05-66041080eca0
X-WR-CALNAME:iCagenda
X-WR-CALDESC:Event Management Extension for Joomla!
X-WR-RELCALID:3E26604A-50F4-4449-8B3E-E4F4932D05B5
X-WR-TIMEZONE:America/Costa_Rica
BEGIN:VTIMEZONE
TZID:America/Costa_Rica
BEGIN:STANDARD
TZNAME:CST
DTSTART:20180722T060000
TZOFFSETFROM:+0000
TZOFFSETTO:-0600
END:STANDARD
END:VTIMEZONE
BEGIN:VEVENT
UID:bab84d02-43ab-4684-8d51-3fd645a78d00
DTSTAMP:20260419T155811Z
CATEGORIES:Operaciones
CLASS:PUBLIC
DESCRIPTION;ALTREP="CID:<FFFF__=0ABBE548DFE235B58f9e8a93d@coffeebean.com>":
 Taller:\nGestión de bodegas\n¿Sabe usted gestionar el almacenaje en forma 
 efectiva?\nObjetivo principal:Transmitir a los participantes los puntos qu
 e deben revisar dentro de sus organizaciones para lograr que sus bodegas/a
 lmacenes sean operados más eficientemente y que contribuyan a la generació
 n de valor para la organización\nDirigido a:Jefes y supervisores profesion
 ales de departamentos logísticos y administrativo\, Compradores\, Auditore
 s\, Profesionales de la logística\, Personal técnico y responsable de proy
 ectos logísticos\, profesionales interesados en aprender técnicas logístic
 as.\nQue obtendrá al finalizar el evento:- Herramientas esenciales para an
 alizar sus procesos y determinar cuál es la mejor vía para mejorarlos.- Vi
 vencias y ejemplos prácticos que le permitirán mejorar su gestión.\nConten
 ido:1. El almacenamiento en el sistema de logística y su interdependencia 
 con otros procesos corporativos. a. Definiciones y tipos de almacenes. b. 
 Mapas del proceso.2. Inbound: Los procesos de recepción\, acomodo.3. Almac
 enaje:  a. Fundamentos en la organización de bodegas/almacenes.  b. Recorr
 ido por los sistemas de almacenaje y manejo de materiales (medios y modos)
 . 4. Outbound: Procesos de preparación (picking) y alistamiento (packing) 
 de órdenes. despacho en las bodegas.5. Controles de la bodega. a. Inventar
 io físico. b. Indicadores.6. Fundamentos de Lean warehousing.\nFecha: 22 d
 e abril del 2020.Horario: 8:00 a.m. a 5:00 p.m.Duración: 8 horas.Lugar: Ho
 tel Radisson\, B° Tournón.Inversión: ¢110.000 + 2% de IVA por participante
 .Incluye: Almuerzo\, refrigerios\, material didáctico y certificado de par
 ticipación.\nFacilitador: Ing. Víctor León\, Mg.- Ingeniero Industrial con
  estudios de Postgrado en Ingeniería Industrial\, Gerencia de RRHH y Dinám
 ica de Grupos.- Experiencia en las áreas de Distribución\, Atención al Cli
 ente y Planificación de la Producción\, Manejo de Inventarios\, Almacenes\
 , Costos y Elaboración de Proyectos de Inversión.- Capacitador en áreas ge
 renciales y técnicas\, con 20 años de experiencia.\nTodas nuestras capacit
 aciones pueden ser impartidas en su organización\nInscripciones e Informac
 ión al e-mail info@cedeso.co.crTel: (506) 2225-1007 Fax: (506) 2253-2774Vi
 site nuestra página www.cedeso.co.crfacebook.com/cedesocostarica
DTSTART:20200422T140000Z
DTEND:20200422T230000Z
GEO:+09.943364;-84.077087
LOCATION:Hotel Radisson\, B° Tournón.
ORGANIZER;CN=:info@cedeso.co.cr
SEQUENCE:1
SUMMARY:Gestión de bodegas
TRANSP:OPAQUE
URL:https://cedeso.co.cr/eventos-anteriores/257-gesti%C3%B3n-de-bodegas
END:VEVENT
END:VCALENDAR
