BEGIN:VCALENDAR
VERSION:2.0
PRODID:-//Cedeso//NONSGML kigkonsult.se iCalcreator 2.30.10//
CALSCALE:GREGORIAN
METHOD:PUBLISH
UID:0de349d0-9f7e-4d94-848c-942156b467ea
X-WR-CALNAME:iCagenda
X-WR-CALDESC:Event Management Extension for Joomla!
X-WR-RELCALID:3E26604A-50F4-4449-8B3E-E4F4932D05B5
X-WR-TIMEZONE:America/Costa_Rica
BEGIN:VTIMEZONE
TZID:America/Costa_Rica
BEGIN:STANDARD
TZNAME:CST
DTSTART:20180729T060000
TZOFFSETFROM:+0000
TZOFFSETTO:-0600
END:STANDARD
END:VTIMEZONE
BEGIN:VEVENT
UID:e0d05160-b814-4d72-bfef-b35658b84f2a
DTSTAMP:20260419T161257Z
CATEGORIES:Operaciones
CLASS:PUBLIC
DESCRIPTION;ALTREP="CID:<FFFF__=0ABBE548DFE235B58f9e8a93d@coffeebean.com>":
 Taller:\nIniciativas y estrategias para ahorrar costos en su bodega\nSea l
 íder en ahorro de costos optimizando la operación de su bodega\nObjetivo: 
 Discutir y reconocer los objetivos y estrategias medulares que permitirán 
 el ahorro de costos en la bodega.\nDirigido a:Jefes y supervisores profesi
 onales de departamentos logísticos y administrativo\, Compradores\, Audito
 res\, Profesionales de la logística\, Personal técnico y responsable de pr
 oyectos logísticos\, profesionales interesados en aprender técnicas logíst
 icas.\nContenidos:• Definiciones y conceptos necesarios para entender la o
 peración de una bodega.• Aspectos relacionados con la misión de la bodega.
 • Los costos de la bodega ¿cuáles son?• Áreas claves de enfoque para para 
 el logro de ahorros en el costo de operación de la bodega.• Tácticas para 
 disminuir los costos en la bodega.• Casos estudio.\nFecha: 29 de abril del
  2020.Horario: 8:00 a.m. a 5:00 p.m.Duración: 8 horas.Lugar: Hotel Radisso
 n\, B° Tournón.Inversión: ¢110.000 + 2% de IVA por participante.Incluye: A
 lmuerzo\, refrigerios\, material didáctico y certificado de participación.
 \nFacilitador: Ing. Víctor León\, Mg.- Ingeniero Industrial con estudios d
 e Postgrado en Ingeniería Industrial\, Gerencia de RRHH y Dinámica de Grup
 os.- Experiencia en las áreas de Distribución\, Atención al Cliente y Plan
 ificación de la Producción\, Manejo de Inventarios\, Almacenes\, Costos y 
 Elaboración de Proyectos de Inversión.- Capacitador en áreas gerenciales y
  técnicas\, con 20 años de experiencia.\nTodas nuestras capacitaciones pue
 den ser impartidas en su organización\nInscripciones e Información al e-ma
 il info@cedeso.co.crTel: (506) 2225-1007 Fax: (506) 2253-2774Visite nuestr
 a página www.cedeso.co.crfacebook.com/cedesocostarica
DTSTART:20200429T140000Z
DTEND:20200429T230000Z
GEO:+09.943364;-84.077087
LOCATION:Hotel Radisson\, B° Tournón.
ORGANIZER;CN=:info@cedeso.co.cr
SEQUENCE:1
SUMMARY:Iniciativas y estrategias para ahorrar costos en su bodega
TRANSP:OPAQUE
URL:https://cedeso.co.cr/eventos-anteriores/258-iniciativas-y-estrategias-p
 ara-ahorrar-costos-en-su-bodega
END:VEVENT
END:VCALENDAR
