BEGIN:VCALENDAR
VERSION:2.0
PRODID:-//Cedeso//NONSGML kigkonsult.se iCalcreator 2.30.10//
CALSCALE:GREGORIAN
METHOD:PUBLISH
UID:a6585fc3-57be-4450-bd5d-c03086e7fb14
X-WR-CALNAME:iCagenda
X-WR-CALDESC:Event Management Extension for Joomla!
X-WR-RELCALID:3E26604A-50F4-4449-8B3E-E4F4932D05B5
X-WR-TIMEZONE:America/Costa_Rica
BEGIN:VTIMEZONE
TZID:America/Costa_Rica
BEGIN:STANDARD
TZNAME:CST
DTSTART:20180702T060000
TZOFFSETFROM:+0000
TZOFFSETTO:-0600
END:STANDARD
END:VTIMEZONE
BEGIN:VEVENT
UID:e67b1f3b-6d6d-4b10-aa89-cd1af840f2e5
DTSTAMP:20260419T161041Z
CATEGORIES:Mejores Prácticas Organizacionales
CLASS:PUBLIC
DESCRIPTION;ALTREP="CID:<FFFF__=0ABBE548DFE235B58f9e8a93d@coffeebean.com>":
 Taller:\nAdministración del tiempo y gestión de prioridades\nObjetivo orie
 ntativo: las y los participantes podrán explicar\, aplicar y apreciar un c
 onjunto integrado de herramientas para apuntar a la ejecución y la acción 
 con sentido de urgencia.\nContenidos y actividades:- IAP (Indagación Aprec
 iativa en Prioridades): conociendo y fortaleciendo las propias capacidades
  de acción.- Think thank 6x4: historias de éxito de los propioas participa
 ntes en situaciones límite de estrés\, cambio\, broblemas inesperados y op
 ortunidades exponenciales.- La Gestión del Tiempo como una competencia: 10
  comportamientos del alto desempeño en la competencia y la estrategia ópti
 ma para desarrollarlos 7 comportamientos de bajo desempeño y la estrategia
  óptima para combatirlos.- Matriz de prioridades y Caja de Eisenhower- VSO
  para mantener el enfoque y atacar la procrastinación.- Ejercicio Phillips
  6x4: diseñamos nuestro propio artefacto para manejo de prioridades.- De l
 as prioridades individuales a la ejecución colectiva + Obstáculos cultural
 es a la ejecución. + Conducta asertiva en tres: límites\, delegación y red
 es.  + Liderazgo en la ejecución (ágil).- ¿Es bueno manejar prioridades? ¡
 Jah! Ejercicio “reto a los supuestos” y Laboratorio de Inmunidad al cambio
  (las ganancias secundarias de no manejar prioridades)- Los cuatro ejes de
 l Sentido de Urgencia. Autoevaluación de cada participante. ¿Cuál es mi ni
 vel de actuación en prioridades\, promesas\, tenacidad y agilidad? ¿Cómo e
 vito caer en la acción irreflexiva-0- Reuniones ágiles: seis reglas de con
 ducta en Agile Meetings y comportamientos que frenan o impulsan la agilida
 d.\nFecha: 2 de abril del 2020.Horario: 8:00 a.m. a 5:00 p.m.Duración: 8 h
 oras.Lugar: Hotel Radisson\, B° Tournón.Inversión: ¢110.000 + 2% de IVA po
 r participanteIncluye: Almuerzo\, refrigerios\, material didáctico y certi
 ficado de participación.\nFacilitador: Dr. Enrique Margery• Doctor en Educ
 ación y TEDx speaker.• Profesor de la Maestría en Psicología del Trabajo e
 n la Universidad de Costa Rica. Profesor invitado de la Universidad de Que
 rétaro (UAQ\, México) y la Universidad UAGM (Puerto Rico).• Diseña capacit
 ación para desarrollo de soft skills basado en aprendizaje por la experien
 cia\, GBL y “reto-aprendizaje”.• Coach especialista en ciencia de la colab
 oración y manejo de top performers.• Diseña herramientas para medir el Sen
 tido de Urgencia\, el “termómetro de la colaboración” y la rentabilidad de
  la capacitación\, entre otros.• Autor de los libros “Complejidad y Compet
 encias”\, “Herramientas de Coaching”\, “El Viaje” (Editorial Norma\; uno d
 e los primeros libros de psicología positiva publicados) y 'Complejidad\, 
 Transdisciplinariedad y Compentencias'\nTodas nuestras capacitaciones pued
 en ser impartidas en su organización\nInscripciones e Información al e-mai
 l info@cedeso.co.crTel: (506) 2225-1007 · Fax: (506) 2253-2774Visite nuest
 ra página www.cedeso.co.crfacebook.com/cedesocostarica
DTSTART:20200402T140000Z
DTEND:20200402T230000Z
GEO:+09.943364;-84.077087
LOCATION:Hotel Radisson\, B° Tournón.
ORGANIZER;CN=:info@cedeso.co.cr
SEQUENCE:1
SUMMARY:Administración del tiempo y gestión de prioridades
TRANSP:OPAQUE
URL:https://cedeso.co.cr/eventos-anteriores/259-administraci%C3%B3n-del-tie
 mpo-y-gesti%C3%B3n-de-prioridades
END:VEVENT
END:VCALENDAR
