BEGIN:VCALENDAR
VERSION:2.0
PRODID:-//Cedeso//NONSGML kigkonsult.se iCalcreator 2.30.10//
CALSCALE:GREGORIAN
METHOD:PUBLISH
UID:5e4f9511-eaa7-40e4-8ba3-97ab5f804283
X-WR-CALNAME:iCagenda
X-WR-CALDESC:Event Management Extension for Joomla!
X-WR-RELCALID:3E26604A-50F4-4449-8B3E-E4F4932D05B5
X-WR-TIMEZONE:America/Costa_Rica
BEGIN:VTIMEZONE
TZID:America/Costa_Rica
BEGIN:STANDARD
TZNAME:CST
DTSTART:20180721T060000
TZOFFSETFROM:+0000
TZOFFSETTO:-0600
END:STANDARD
END:VTIMEZONE
BEGIN:VEVENT
UID:a3379b8b-600f-4caf-968c-8bb42b84d306
DTSTAMP:20260419T172228Z
CATEGORIES:Operaciones
CLASS:PUBLIC
DESCRIPTION;ALTREP="CID:<FFFF__=0ABBE548DFE235B58f9e8a93d@coffeebean.com>":
 Taller Internacional:\nToma de Inventarios Cíclicos\nIncremente la exactit
 ud del inventario en sus almacenes y bodegas\n \nObjetivo General:Proveer 
 a los participantes de una técnica específica para mejorar y controlar la 
 exactitud de su inventario físico.\nQue Obtendrá al finalizar el evento:- 
 Mantener un adecuado control del inventario de materias primas y productos
  terminados. Esto significa que\, apoyados por una tecnología informática 
 adecuada\, podrán contestar el CUANTO y DONDE SE ENCUENTRA cada código o a
 rtículo. - Interpretar procedimientos de operación escritos de forma de cu
 mplir exactamente las operaciones tal y como han sido diseñadas\, de maner
 a de no provocar diferencias de inventario debidas a mala praxis. - Planif
 icar y ejecutar métodos de recuento rápidos y seguros que le permitan cuan
 tificar el inventario del depósito\, encontrar diferencias entre el invent
 ario lógico y el inventario físico\; cuantificar las pérdidas y realizar a
 nálisis de las pérdidas. - Operar en almacenes que utilizan códigos de bar
 ra para identificación de artículos\, posiciones y otros activos. - Identi
 ficar acciones que producen diferencias de inventarios.- Potenciar la efec
 tividad en el manejo de los inventarios físicos. - Entender el efecto que 
 produce una operación incorrecta. - Analizar las diferencias detectadas en
 tre las cifras que acusa el stock del sistema informático y el resultado d
 e los recuentos realizados.\nPrograma:El Inventario. • Importancia del man
 tenimiento de los registros de inventarios.• Formación del inventario teór
 ico• Qué es un registro exacto• Impacto de las variaciones de inventarios 
 en la empresa• Las pérdidas y su impacto en el activo de la Empresa. • Cla
 sificación y Prevención de Pérdidas.\nInventario Físico• Manejo del invent
 ario físico en el almacén• Codificación• Almacenaje• Planificación y Ejecu
 ción del Recuento Físico. • Métodos para la toma del inventario físico• Tr
 atamiento de diferencias. Recuentos del Inventario. Análisis de diferencia
 s\nConteo cíclico• Qué es conteo cíclico• Diseño de un programa de conteo 
 cíclico Tratamiento de errores• Errores típicos y riesgo de errores. Preve
 nción de errores• El problema de las transacciones\nImplementación de un s
 istema de conteo cíclico\nMetodología:Exposiciones\, análisis de situacion
 es prácticas\, problemas reflexiones de participantes. Fecha: 21 de abril 
 del 2020.Horario: 8:00 a.m. a 5:00 p.m.Lugar: Hotel Radisson\, B° Tournón.
 Inversión: ¢110.000 + 2% de IVA por participante.Incluye: Almuerzo\, refri
 gerios\, material y certificado de participación\nFacilitador: Ing. Víctor
  León\, Mg.-Ingeniero Industrial con estudios de Postgrado en Ingeniería I
 ndustrial\, Gerencia de RRHH y Dinámica de Grupos.-Experiencia en las área
 s de Distribución\, Atención al Cliente y Planificación de la Producción\,
  Manejo de Inventarios\,-Almacenes\, Costos y Elaboración de Proyectos de 
 Inversión.Capacitador en áreas gerenciales y técnicas\, con 20 años de exp
 eriencia.\nInscripciones e Información al e-mail info@cedeso.co.crTel: (50
 6) 2225-1007 Tel./Fax: (506) 2253-2774
DTSTART:20200421T140000Z
DTEND:20200421T230000Z
GEO:+09.943364;-84.077087
LOCATION:Hotel Radisson\, B° Tournón.
ORGANIZER;CN=:info@cedeso.co.cr
SEQUENCE:1
SUMMARY:Toma de Inventarios Cíclicos
TRANSP:OPAQUE
URL:https://cedeso.co.cr/eventos-anteriores/260-toma-de-inventarios-c%C3%AD
 clicos
END:VEVENT
END:VCALENDAR
