BEGIN:VCALENDAR
VERSION:2.0
PRODID:-//Cedeso//NONSGML kigkonsult.se iCalcreator 2.30.10//
CALSCALE:GREGORIAN
METHOD:PUBLISH
UID:e0fbdeec-6600-4ccc-adf6-028a76b4d88f
X-WR-CALNAME:iCagenda
X-WR-CALDESC:Event Management Extension for Joomla!
X-WR-RELCALID:3E26604A-50F4-4449-8B3E-E4F4932D05B5
X-WR-TIMEZONE:America/Costa_Rica
BEGIN:VTIMEZONE
TZID:America/Costa_Rica
BEGIN:STANDARD
TZNAME:CST
DTSTART:20180724T060000
TZOFFSETFROM:+0000
TZOFFSETTO:-0600
END:STANDARD
END:VTIMEZONE
BEGIN:VEVENT
UID:42d5be46-6bd2-402f-a88b-b29f391a1f64
DTSTAMP:20260419T160752Z
CATEGORIES:Mejores Prácticas Organizacionales
CLASS:PUBLIC
DESCRIPTION;ALTREP="CID:<FFFF__=0ABBE548DFE235B58f9e8a93d@coffeebean.com>":
 2da Jornada de Relaciones Laborales\nImplicaciones de la Ley de Fortalecim
 iento de las Finanzas Públicas (LFFP) en los esquemas de remuneración y la
  evaluación de desempeño en el Sector Público.\n \nEje Legal:\n- Generalid
 ades sobre la LFFP.- Nuevos topes a los salarios.- Reglas para el reconoci
 miento de la dedicación exclusiva\, la prohibición legal y la anualidad.- 
 Aspectos legales a considerar para la evaluación del desempeño.- Pago de c
 esantía y convenciones colectivas.- Conclusiones y Recomendaciones.\nEje R
 RHH:\n- Introducción al tema.- Generalidades de la evaluación del desempeñ
 o.- Estructura de un proceso idóneo de evaluación del desempeño.- Tipos de
  evaluación.- Competencias\, habilidades blandas\, otros enfoques al momen
 to de evaluar.- Lineamientos claves de la LFFP: Cuestionamientos\, implica
 ciones\, regulaciones.- Últimas directrices e indicaciones aplicables al t
 ema.- Conclusiones y Recomendaciones.\nFecha: 24 de abril del 2020.Horario
 : 8:00 a.m. a 4:00 p.m.Lugar: Hotel Radisson\, B° Tournón.Inversión: $250 
 + 2% de IVA por participante.Incluye: Desayuno\, almuerzo\, café de la tar
 de\, material didáctico y certificado de participación.\nTodas nuestras ca
 pacitaciones pueden ser impartidas en su organización\nInscripciones e Inf
 ormación al e-mail info@cedeso.co.crTel: (506) 2225-1007 · Fax: (506) 2253
 -2774Visite nuestra página www.cedeso.co.crfacebook.com/cedesocostarica\n 
DTSTART:20200424T140000Z
DTEND:20200424T220000Z
GEO:+09.943364;-84.077087
LOCATION:Hotel Radisson\, B° Tournón.
ORGANIZER;CN=:info@cedeso.co.cr
SEQUENCE:1
SUMMARY:2da Jornada de Relaciones Laborales
TRANSP:OPAQUE
URL:https://cedeso.co.cr/eventos-anteriores/261-2da-jornada-de-relaciones-l
 aborales
END:VEVENT
END:VCALENDAR
