BEGIN:VCALENDAR
VERSION:2.0
PRODID:-//Cedeso//NONSGML kigkonsult.se iCalcreator 2.30.10//
CALSCALE:GREGORIAN
METHOD:PUBLISH
UID:2b484015-9371-4314-9908-563f75a1fdf4
X-WR-CALNAME:iCagenda
X-WR-CALDESC:Event Management Extension for Joomla!
X-WR-RELCALID:3E26604A-50F4-4449-8B3E-E4F4932D05B5
X-WR-TIMEZONE:America/Costa_Rica
BEGIN:VTIMEZONE
TZID:America/Costa_Rica
BEGIN:STANDARD
TZNAME:CST
DTSTART:20180729T060000
TZOFFSETFROM:+0000
TZOFFSETTO:-0600
END:STANDARD
END:VTIMEZONE
BEGIN:VEVENT
UID:b03380ef-6950-44e9-80a7-391106cacbbd
DTSTAMP:20260419T155929Z
CATEGORIES:Mejores Prácticas Organizacionales
CLASS:PUBLIC
DESCRIPTION;ALTREP="CID:<FFFF__=0ABBE548DFE235B58f9e8a93d@coffeebean.com>":
 Taller:\nInteligencia emocional\nGestionar eficazmente las emociones para 
 el éxito personal\n \nContenidos:Autocontrol: ¿qué es y cómo alcanzarlo?¿C
 ómo y para qué cultivar la inteligencia emocional?Autoconciencia y autoreg
 ulación.Manejo del estrés y la frustración.Manejo de emociones para la tom
 a de decisiones.Comunicación asertiva y empatía como base de las relacione
 s interpersonales.Comunicación y resolución de conflictos a través de la i
 nteligencia emocional.\nObjetivo:Al finalizar este taller la persona estar
 á en capacidad de evaluar su inteligencia emocional y aplicar técnicas par
 a fortalecerla. Contará con una serie de herramientas que beneficiarán su 
 control de emociones\, aumentarán su motivación y le ayudarán a alcanzar s
 us metas personales y laborales.\nFecha: 29 de abril del 2020.Horario: 8:0
 0 a.m. a 5:00 p.m.Duración: 8 horas.Lugar: Hotel Radisson\, B° Tournón.Inv
 ersión: ¢110.000 + 2% de IVA por participante.Incluye: Almuerzo\, refriger
 ios\, material didáctico y certificado de participación.\nFacilitadora: Li
 cda. Gina Sequeira\, psicóloga certificada en Business Coaching\, con más 
 de 15 años de experiencia en el diseño de procesos de capacitación vincula
 dos al desarrollo de habilidades blandas y el fortalecimiento de equipos d
 e alto desempeño.\nTodas nuestras capacitaciones pueden ser impartidas en 
 su organización.\nInscripciones e Información al e-mail info@cedeso.co.crT
 el: (506) 2225-1007 Fax: (506) 2253-2774Visite nuestra página www.cedeso.c
 o.crfacebook.com/cedesocostarica
DTSTART:20200429T140000Z
DTEND:20200429T220000Z
GEO:+09.943364;-84.077087
LOCATION:Hotel Radisson\, B° Tournón.
ORGANIZER;CN=:info@cedeso.co.cr
SEQUENCE:1
SUMMARY:Inteligencia emocional
TRANSP:OPAQUE
URL:https://cedeso.co.cr/eventos-anteriores/262-inteligencia-emocional
END:VEVENT
END:VCALENDAR
