BEGIN:VCALENDAR
VERSION:2.0
PRODID:-//Cedeso//NONSGML kigkonsult.se iCalcreator 2.30.10//
CALSCALE:GREGORIAN
METHOD:PUBLISH
UID:3a5df9eb-6cb1-46fb-b774-351dcb8eba39
X-WR-CALNAME:iCagenda
X-WR-CALDESC:Event Management Extension for Joomla!
X-WR-RELCALID:3E26604A-50F4-4449-8B3E-E4F4932D05B5
X-WR-TIMEZONE:America/Costa_Rica
BEGIN:VTIMEZONE
TZID:America/Costa_Rica
BEGIN:STANDARD
TZNAME:CST
DTSTART:20180722T060000
TZOFFSETFROM:+0000
TZOFFSETTO:-0600
END:STANDARD
END:VTIMEZONE
BEGIN:VEVENT
UID:53ca40e4-9d0a-4b8b-bf77-d0e636ae8685
DTSTAMP:20260419T160935Z
CATEGORIES:Compensaciones y beneficios
CLASS:PUBLIC
DESCRIPTION;ALTREP="CID:<FFFF__=0ABBE548DFE235B58f9e8a93d@coffeebean.com>":
 Descubre el superhéroe que hay en ti\nTaller para el Desarrollo de Habilid
 ades Blandas\nObjetivo:Brindar herramientas para el fortalecimiento de las
  habilidades blandas y su aplicación en la vida personal y laboral.\nConte
 nidos: • ¿Qué son las habilidades blandas? • Habilidades socioemocionales 
 más demandadas por los empleadores. • Reglas básicas y estrategias de comu
 nicación asertiva. • Principios y estrategias para lograr una escucha efic
 az. • La empatía: ¿qué es y cómo fortalecerla? • Principales errores en la
 s relaciones humanas. • Herramientas de negociación y resolución de confli
 ctos. • Claves para mejorar el trabajo en equipo. • Auto confianza y toma 
 de decisiones.\nFecha: 22 de abril del 2020.Horario: 8:00 a.m. a 5:00 p.m.
 Duración: 8 horas.Lugar: Hotel Radisson\, B° Tournón.Inversión: ¢110.000 +
  2% de IVA por participante.Incluye: Almuerzo\, refrigerios\, material did
 áctico y certificado de participación.\nFacilitadora: Licda. Gina Sequeira
 \, psicóloga certificada en Business Coaching\, con más de 15 años de expe
 riencia en el diseño de procesos de capacitación vinculados al desarrollo 
 de habilidades blandas y el fortalecimiento de equipos de alto desempeño.
 \nTodas nuestras capacitaciones pueden ser impartidas en su organización.
 \nInscripciones e Información al e-mail info@cedeso.co.crTel: (506) 2225-1
 007 Fax: (506) 2253-2774Visite nuestra página www.cedeso.co.crfacebook.com
 /cedesocostarica
DTSTART:20200422T140000Z
DTEND:20200422T230000Z
GEO:+09.943364;-84.077087
LOCATION:Hotel Radisson\, B° Tournón.
ORGANIZER;CN=:info@cedeso.co.cr
SEQUENCE:1
SUMMARY:Desarrollo de Habilidades Blandas
TRANSP:OPAQUE
URL:https://cedeso.co.cr/eventos-anteriores/264-desallollo-de-habilidades-b
 landas
END:VEVENT
END:VCALENDAR
