BEGIN:VCALENDAR
VERSION:2.0
PRODID:-//Cedeso//NONSGML kigkonsult.se iCalcreator 2.30.10//
CALSCALE:GREGORIAN
METHOD:PUBLISH
UID:bab74101-d68f-4e3a-a49a-c66fa8279cb8
X-WR-CALNAME:iCagenda
X-WR-CALDESC:Event Management Extension for Joomla!
X-WR-RELCALID:3E26604A-50F4-4449-8B3E-E4F4932D05B5
X-WR-TIMEZONE:America/Costa_Rica
BEGIN:VTIMEZONE
TZID:America/Costa_Rica
BEGIN:STANDARD
TZNAME:CST
DTSTART:20180820T060000
TZOFFSETFROM:+0000
TZOFFSETTO:-0600
END:STANDARD
END:VTIMEZONE
BEGIN:VEVENT
UID:9257ea85-5ea8-467e-9ae8-7ee7ca08e3f7
DTSTAMP:20260419T160302Z
CATEGORIES:Mejores Prácticas Organizacionales
CLASS:PUBLIC
DESCRIPTION;ALTREP="CID:<FFFF__=0ABBE548DFE235B58f9e8a93d@coffeebean.com>":
 Taller modalidad virtual:\nLiderazgo inclusivo\nEl reto de liderar equipos
  inclusivos y acabar con la discriminación en el trabajo\nDirigido a: Pers
 onal de Recursos Humanos\, Gerentes\, jefaturas\, supervisores\, líderes d
 e equipos de trabajo\, responsables de procesos de clima y cultura organiz
 acional.\nObjetivo general:Al finalizar este taller el participante estará
  en condiciones de: • Comprender la importancia del líder en la gestión de
  la diversidad y la inclusión en el entorno laboral • Identificar posibles
  fuentes de discriminación en el entorno laboral • Entrenarse en técnicas 
 para garantizar la inclusión y prevenir la discriminación • Comprender los
  procedimientos que deben seguirse a nivel interno en caso de presentarse 
 un caso de discriminación en sus equipos de trabajo\nContenidos: • ¿Qué se
  entiende por liderazgo inclusivo? • El papel del líder en la gestión de l
 a diversidad • ¿Por qué es importante hablar de inclusión en el ejercicio 
 del liderazgo? • Ejercicio práctico para identificar factores de riesgo y 
 factores de protección en la empresa relacionados con la inclusión y posib
 les focos de discriminación • Los estereotipos del líder: ¿Cómo gestionarl
 os? • Tipos de discriminación a la luz de la Reforma Procesal Laboral • In
 clusión de personas con discapacidad al entorno laboral • Estrategias prác
 ticas para ejercer un liderazgo inclusivo y potenciar las fortalezas de lo
 s equipos diversos • El reto de liderar equipos diversos (multigeneraciona
 les\, diversidad de género\, cultura\, etc)\nFecha: 21 y 22 de mayo del 20
 20.Horario: 1:00 p.m. a 5:00 p.m.Duración: 8 horas.Modalidad: Virtual.Inve
 rsión: ¢80.000 + 2% de IVA por participante.Incluye: Material didáctico y 
 certificado de participación.\nFacilitadora: Licda. Gina Sequeira\, psicól
 oga certificada en Business Coaching\, con más de 15 años de experiencia e
 n el diseño de procesos de capacitación vinculados al desarrollo de habili
 dades blandas y el fortalecimiento de equipos de alto desempeño.\nTodas nu
 estras capacitaciones pueden ser impartidas en su organización.\nInscripci
 ones e Información al e-mail info@cedeso.co.crTel: (506) 2225-1007 Fax: (5
 06) 2253-2774Visite nuestra página www.cedeso.co.crfacebook.com/cedesocost
 arica
DTSTART:20200521T190000Z
DTEND:20200522T230000Z
GEO:00;0
LOCATION:Virtual
ORGANIZER;CN=:info@cedeso.co.cr
SEQUENCE:1
SUMMARY:Liderazgo inclusivo
TRANSP:OPAQUE
URL:https://cedeso.co.cr/eventos-anteriores/269-liderazgo-inclusivo
END:VEVENT
END:VCALENDAR
